BEGIN:VCALENDAR
VERSION:2.0
PRODID:-//Farsta-Kalendern - ECPv6.15.20//NONSGML v1.0//EN
CALSCALE:GREGORIAN
METHOD:PUBLISH
X-ORIGINAL-URL:https://farstabladet.se
X-WR-CALDESC:Händelser för Farsta-Kalendern
REFRESH-INTERVAL;VALUE=DURATION:PT1H
X-Robots-Tag:noindex
X-PUBLISHED-TTL:PT1H
BEGIN:VTIMEZONE
TZID:Europe/Paris
BEGIN:DAYLIGHT
TZOFFSETFROM:+0100
TZOFFSETTO:+0200
TZNAME:CEST
DTSTART:20250330T010000
END:DAYLIGHT
BEGIN:STANDARD
TZOFFSETFROM:+0200
TZOFFSETTO:+0100
TZNAME:CET
DTSTART:20251026T010000
END:STANDARD
BEGIN:DAYLIGHT
TZOFFSETFROM:+0100
TZOFFSETTO:+0200
TZNAME:CEST
DTSTART:20260329T010000
END:DAYLIGHT
BEGIN:STANDARD
TZOFFSETFROM:+0200
TZOFFSETTO:+0100
TZNAME:CET
DTSTART:20261025T010000
END:STANDARD
BEGIN:DAYLIGHT
TZOFFSETFROM:+0100
TZOFFSETTO:+0200
TZNAME:CEST
DTSTART:20270328T010000
END:DAYLIGHT
BEGIN:STANDARD
TZOFFSETFROM:+0200
TZOFFSETTO:+0100
TZNAME:CET
DTSTART:20271031T010000
END:STANDARD
END:VTIMEZONE
BEGIN:VEVENT
DTSTART;TZID=Europe/Paris:20260521T170000
DTEND;TZID=Europe/Paris:20260521T200000
DTSTAMP:20260421T235057
CREATED:20260306T120731Z
LAST-MODIFIED:20260306T120731Z
UID:10006852-1779382800-1779393600@farstabladet.se
SUMMARY:Hantverkshäng på Piprensarvägen
DESCRIPTION:Kom\, umgås och handarbeta\nGillar du att sticka i grupp? Behöver du laga något plagg? Har du ett syprojekt du vill ta tag i\, men ingen symaskin? Kom på hantverkshäng på Piprensarvägen i Hökarängen!\nVi ses i Hyresgästföreningens lokal på Piprensarvägen 18 och handarbetar tillsammans. Du tar själv med det projekt du vill jobba med. Vi har en symaskin du kan låna för enklare sömnad. Vi bjuder på fika!\nUnder våren kör vi följande datum: 19 mars\, 16 april och 21 maj\, kl 17-20. Det är drop in\, så kom förbi när du vill och stanna så länge du har lust!\nHar du en kompis som också gillar handarbete? Bjud in den med! Alla är välkomna!
URL:https://farstabladet.se/kalender/hantverkshang-pa-piprensarvagen/2026-05-21/
LOCATION:Lokala Hyresgästföreningen Vävstolen\, Piprensarvägen 18\, Hökarängen
CATEGORIES:Eget skapande,Handarbete,Kultur
ATTACH;FMTTYPE=image/png:https://farstabladet.se/wp-content/uploads/2026/03/Hantverkshang-2.png
END:VEVENT
END:VCALENDAR