BEGIN:VCALENDAR
VERSION:2.0
PRODID:-//Farsta-Kalendern - ECPv6.15.20//NONSGML v1.0//EN
CALSCALE:GREGORIAN
METHOD:PUBLISH
X-WR-CALNAME:Farsta-Kalendern
X-ORIGINAL-URL:https://farstabladet.se
X-WR-CALDESC:Händelser för Farsta-Kalendern
REFRESH-INTERVAL;VALUE=DURATION:PT1H
X-Robots-Tag:noindex
X-PUBLISHED-TTL:PT1H
BEGIN:VTIMEZONE
TZID:Europe/Paris
BEGIN:DAYLIGHT
TZOFFSETFROM:+0100
TZOFFSETTO:+0200
TZNAME:CEST
DTSTART:20250330T010000
END:DAYLIGHT
BEGIN:STANDARD
TZOFFSETFROM:+0200
TZOFFSETTO:+0100
TZNAME:CET
DTSTART:20251026T010000
END:STANDARD
BEGIN:DAYLIGHT
TZOFFSETFROM:+0100
TZOFFSETTO:+0200
TZNAME:CEST
DTSTART:20260329T010000
END:DAYLIGHT
BEGIN:STANDARD
TZOFFSETFROM:+0200
TZOFFSETTO:+0100
TZNAME:CET
DTSTART:20261025T010000
END:STANDARD
BEGIN:DAYLIGHT
TZOFFSETFROM:+0100
TZOFFSETTO:+0200
TZNAME:CEST
DTSTART:20270328T010000
END:DAYLIGHT
BEGIN:STANDARD
TZOFFSETFROM:+0200
TZOFFSETTO:+0100
TZNAME:CET
DTSTART:20271031T010000
END:STANDARD
END:VTIMEZONE
BEGIN:VEVENT
DTSTART;TZID=Europe/Paris:20260420T130000
DTEND;TZID=Europe/Paris:20260420T200000
DTSTAMP:20260420T050757
CREATED:20260323T092305Z
LAST-MODIFIED:20260323T092557Z
UID:10006925-1776690000-1776715200@farstabladet.se
SUMMARY:Gymma på Farsta sim- och idrottshall
DESCRIPTION:Är du 13–19 år? Kickstarta träningen under påsklovet\, ta med en kompis och häng med våra ungdomsinspiratörer!\nHäng med våra ungdomsinspiratörer. \nVill du ha hjälp med övningar eller få en rundtur? Oavsett om du är helt ny eller vill ha nya tips finns vi på plats i övre gymmet för att peppa och guida dig. \nDu behöver inte boka plats. Det är bara att dyka upp. \nVälkommen till vårt gym! \nAlla våra simhallar \n 
URL:https://farstabladet.se/kalender/gymma-pa-farsta-sim-och-idrottshall/2026-04-20/
LOCATION:Farsta sim- och idrottshall\, Farstaängsvägen 3\, Farsta
CATEGORIES:Påsklov i Farsta,Sport,Ungdom
ATTACH;FMTTYPE=image/webp:https://farstabladet.se/wp-content/uploads/2026/03/20260126_1508156.webp
END:VEVENT
BEGIN:VEVENT
DTSTART;TZID=Europe/Paris:20260420T150000
DTEND;TZID=Europe/Paris:20260420T170000
DTSTAMP:20260420T050757
CREATED:20260203T074426Z
LAST-MODIFIED:20260203T074426Z
UID:10006744-1776697200-1776704400@farstabladet.se
SUMMARY:Handarbetscafé
DESCRIPTION:Ta med din stickning\, virkning eller annat och handarbeta tillsammans. Vi pratar\, fikar\, inspireras och lär av varandra. Alla är välkomna\, nybörjare som proffs. Drop-in! \n\n\nKategori: Skaparverkstad\nMålgrupp: Vuxna\n\n\n\n\n\n\n\n\nFler tillfällen\n\n\n\nMåndag 16 mars15:00 – 17:00 \n\n\n\nMåndag 23 mars15:00 – 17:00\n\n\nMåndag 30 mars15:00 – 17:00\n\n\nMåndag 6 april15:00 – 17:00\n\n\nMåndag 13 april15:00 – 17:00\n\n\nMåndag 20 april15:00 – 17:00\n\n\nMåndag 27 april15:00 – 17:00\n\n\nMåndag 4 maj15:00 – 17:00\n\n\nMåndag 11 maj15:00 – 17:00\n\n\nMåndag 18 maj15:00 – 17:00\n\n\nMåndag 25 maj15:00 – 17:00\n\n\nMåndag 1 juni15:00 – 17:00
URL:https://farstabladet.se/kalender/handarbetscafe/2026-04-20/
LOCATION:Gubbängens bibliotek\, Gubbängstorget 117\, Gubbängen
CATEGORIES:Eget skapande,Kultur
ATTACH;FMTTYPE=image/jpeg:https://farstabladet.se/wp-content/uploads/2026/02/Handarbetscafe-1.jpg
END:VEVENT
BEGIN:VEVENT
DTSTART;TZID=Europe/Paris:20260420T190000
DTEND;TZID=Europe/Paris:20260420T190000
DTSTAMP:20260420T050757
CREATED:20260302T101921Z
LAST-MODIFIED:20260303T124527Z
UID:10006847-1776711600-1776711600@farstabladet.se
SUMMARY:Föreställningen Sömnstörningar\, 9/4-20/4
DESCRIPTION:Av Radka Denemarková i regi av Ester Holmén \nVirginia och Sylvia har fastnat på en övergångsstation\, en ogästvänlig mellanvåning i ett limbo med brutala regler. Allt du under ditt liv har skapat ska du konsumera. Ord\, roller och livsval. Vem var den mest lyckade författaren\, hustrun\, självmördaren? Just när de tror att berättelsen är färdigtuggad kliver hon in: den samtida kvinnan. Spelet börjar om – men den här gången skrivs reglerna i realtid. En tradwife\, en entreprenör och ett geni.\n\nInstagram\nHemsida\n\n\n\n\n\nSpeldatum\n\n9 apr kl 19.00Köp biljetter\n13 apr kl 19.00Köp biljetter\n14 apr kl 19.00Köp biljetter\n19 apr kl 19.00Köp biljetter\n20 apr kl 19.00Köp biljetter\n\n\n\nMedverkande\nAv: Radka Denemarková\nRegi: Ester Holmén\nÖversättning: Karin Eriksson\nMedverkande: Malena Engström\, Anna-Carin Franzén och Embla Hane\nScenografi\, kostym och ljus: H/W/H\nLjud: Vegard Rubach Ese\nProducent och grafisk form: Signe Willmarsson\nAffischfoto: Susanne Walström\n\nFöreställningen stöds av: Längmanska Kulturfonden och Klobbgärdet förvaltning\nTack till: Hanna Melanton-Appelfeldt\, Tjeckiska Ambassaden och Tjeckiska Centret Stockholm.
URL:https://farstabladet.se/kalender/forestallningen-somnstorningar-9-4-20-4/2026-04-20/
LOCATION:Moment:Teater\, Gubbängstorget 117\, Gubbängen\, 12246
CATEGORIES:Kultur,Teater
ATTACH;FMTTYPE=image/jpeg:https://farstabladet.se/wp-content/uploads/2026/03/IMG_3326.jpeg
ORGANIZER;CN="Moment%3ATeater":MAILTO:info@moment.org.se
END:VEVENT
END:VCALENDAR