BEGIN:VCALENDAR
VERSION:2.0
PRODID:-//Farsta-Kalendern - ECPv6.15.20//NONSGML v1.0//EN
CALSCALE:GREGORIAN
METHOD:PUBLISH
X-WR-CALNAME:Farsta-Kalendern
X-ORIGINAL-URL:https://farstabladet.se
X-WR-CALDESC:Händelser för Farsta-Kalendern
REFRESH-INTERVAL;VALUE=DURATION:PT1H
X-Robots-Tag:noindex
X-PUBLISHED-TTL:PT1H
BEGIN:VTIMEZONE
TZID:Europe/Paris
BEGIN:DAYLIGHT
TZOFFSETFROM:+0100
TZOFFSETTO:+0200
TZNAME:CEST
DTSTART:20250330T010000
END:DAYLIGHT
BEGIN:STANDARD
TZOFFSETFROM:+0200
TZOFFSETTO:+0100
TZNAME:CET
DTSTART:20251026T010000
END:STANDARD
BEGIN:DAYLIGHT
TZOFFSETFROM:+0100
TZOFFSETTO:+0200
TZNAME:CEST
DTSTART:20260329T010000
END:DAYLIGHT
BEGIN:STANDARD
TZOFFSETFROM:+0200
TZOFFSETTO:+0100
TZNAME:CET
DTSTART:20261025T010000
END:STANDARD
BEGIN:DAYLIGHT
TZOFFSETFROM:+0100
TZOFFSETTO:+0200
TZNAME:CEST
DTSTART:20270328T010000
END:DAYLIGHT
BEGIN:STANDARD
TZOFFSETFROM:+0200
TZOFFSETTO:+0100
TZNAME:CET
DTSTART:20271031T010000
END:STANDARD
END:VTIMEZONE
BEGIN:VEVENT
DTSTART;TZID=Europe/Paris:20260423T130000
DTEND;TZID=Europe/Paris:20260423T200000
DTSTAMP:20260423T045602
CREATED:20260323T092305Z
LAST-MODIFIED:20260323T092557Z
UID:10006928-1776949200-1776974400@farstabladet.se
SUMMARY:Gymma på Farsta sim- och idrottshall
DESCRIPTION:Är du 13–19 år? Kickstarta träningen under påsklovet\, ta med en kompis och häng med våra ungdomsinspiratörer!\nHäng med våra ungdomsinspiratörer. \nVill du ha hjälp med övningar eller få en rundtur? Oavsett om du är helt ny eller vill ha nya tips finns vi på plats i övre gymmet för att peppa och guida dig. \nDu behöver inte boka plats. Det är bara att dyka upp. \nVälkommen till vårt gym! \nAlla våra simhallar \n 
URL:https://farstabladet.se/kalender/gymma-pa-farsta-sim-och-idrottshall/2026-04-23/
LOCATION:Farsta sim- och idrottshall\, Farstaängsvägen 3\, Farsta
CATEGORIES:Påsklov i Farsta,Sport,Ungdom
ATTACH;FMTTYPE=image/webp:https://farstabladet.se/wp-content/uploads/2026/03/20260126_1508156.webp
END:VEVENT
BEGIN:VEVENT
DTSTART;TZID=Europe/Paris:20260423T140000
DTEND;TZID=Europe/Paris:20260423T160000
DTSTAMP:20260423T045602
CREATED:20260127T081608Z
LAST-MODIFIED:20260127T081608Z
UID:10006655-1776952800-1776960000@farstabladet.se
SUMMARY:Stickcafé
DESCRIPTION:Välkommen att fika\, umgås och slöjda ihop! Vi träffas vid ett bord i caféet. Det är drop-in\, så det är bara att kika förbi när du kan. Te\, kaffe och fikabröd kan köpas på plats. \n\n\n\nTorsdag 29 januari14:00 – 16:00 \n\n\n\nTorsdag 5 februari14:00 – 16:00\n\n\nTorsdag 12 februari14:00 – 16:00\n\n\nTorsdag 19 februari14:00 – 16:00\n\n\nTorsdag 26 februari14:00 – 16:00\n\n\nTorsdag 5 mars14:00 – 16:00\n\n\nTorsdag 12 mars14:00 – 16:00\n\n\nTorsdag 19 mars14:00 – 16:00\n\n\nTorsdag 26 mars14:00 – 16:00\n\n\nTorsdag 2 april14:00 – 16:00\n\n\nTorsdag 9 april14:00 – 16:00\n\n\nTorsdag 16 april14:00 – 16:00\n\n\nTorsdag 23 april14:00 – 16:00\n\n\nTorsdag 30 april14:00 – 16:00\n\n\nTorsdag 7 maj14:00 – 16:00\n\n\nTorsdag 14 maj14:00 – 16:00\n\n\nTorsdag 21 maj14:00 – 16:00\n\n\nTorsdag 28 maj14:00 – 16:00\n\n\nTorsdag 4 juni14:00 – 16:00\n\n\nTorsdag 11 juni14:00 – 16:00\n\n\nTorsdag 18 juni14:00 – 16:00
URL:https://farstabladet.se/kalender/stickcafe/2026-04-23/
LOCATION:Farsta bibliotek\, Farstagången 14C\, Farsta
CATEGORIES:Eget skapande,Kultur
ATTACH;FMTTYPE=image/png:https://farstabladet.se/wp-content/uploads/2026/01/Stickcafe.png
ORGANIZER;CN="Farsta bibliotek":MAILTO:farsta.ssb@stockholm.se
END:VEVENT
BEGIN:VEVENT
DTSTART;TZID=Europe/Paris:20260423T153000
DTEND;TZID=Europe/Paris:20260423T163000
DTSTAMP:20260423T045602
CREATED:20251209T093140Z
LAST-MODIFIED:20251218T074720Z
UID:10006417-1776958200-1776961800@farstabladet.se
SUMMARY:Häng på Bibblan
DESCRIPTION:Kom som du är – alla kan vara med!\nVi skapar\, spelar spel\, skriver\, ger varandra boktips och mer! För dig 8-13 år\, drop-in. \n\n\nKategori: Skaparverkstad\nMålgrupp: Barn\, för dig 8-13 år\n\n\nTillfällen\n\n\n\nTorsdag 8 januari15:30 – 16:30\n\n\nTorsdag 15 januari15:30 – 16:30\n\n\nTorsdag 22 januari15:30 – 16:30\n\n\n\nTorsdag 29 januari15:30 – 16:30 \n\n\n\nTorsdag 5 februari15:30 – 16:30\n\n\nTorsdag 12 februari15:30 – 16:30\n\n\nTorsdag 19 februari15:30 – 16:30\n\n\nTorsdag 26 februari15:30 – 16:30\n\n\nTorsdag 5 mars15:30 – 16:30\n\n\nTorsdag 12 mars15:30 – 16:30\n\n\nTorsdag 19 mars15:30 – 16:30\n\n\nTorsdag 26 mars15:30 – 16:30\n\n\nTorsdag 2 april15:30 – 16:30\n\n\nTorsdag 9 april15:30 – 16:30\n\n\nTorsdag 16 april15:30 – 16:30\n\n\nTorsdag 23 april15:30 – 16:30\n\n\nTorsdag 30 april15:30 – 16:30\n\n\nTorsdag 7 maj15:30 – 16:30\n\n\nTorsdag 14 maj15:30 – 16:30\n\n\nTorsdag 21 maj15:30 – 16:30\n\n\nTorsdag 28 maj15:30 – 16:30
URL:https://farstabladet.se/kalender/hang-pa-bibblan-2/2026-04-23/
LOCATION:Stockholm
CATEGORIES:Barn,Kultur,Ungdom
ATTACH;FMTTYPE=image/jpeg:https://farstabladet.se/wp-content/uploads/2025/12/Hang-pa-Bibblan.jpg
ORGANIZER;CN="Farsta bibliotek":MAILTO:farsta.ssb@stockholm.se
END:VEVENT
BEGIN:VEVENT
DTSTART;TZID=Europe/Paris:20260423T153000
DTEND;TZID=Europe/Paris:20260423T163000
DTSTAMP:20260423T045602
CREATED:20260127T082122Z
LAST-MODIFIED:20260127T082122Z
UID:10006667-1776958200-1776961800@farstabladet.se
SUMMARY:Hemliga skåpets bokcirkel
DESCRIPTION:Gillar du att läsa? Gillar du att prata om böcker?\nDå kanske Hemliga skåpets bokcirkel är något för dig! Vi ses en gång i månaden i rummet ”Romanen” på Farsta bibliotek. Inför varje träff läser vi en bok som vi valt tillsammans\, och så pratar vi om den när vi ses. Biblioteket bjuder på fika! Nyfiken? Mejla gärna till farsta.ssb@stockholm.se \nKategori: Bokcirkel\, Bokklubb\nMålgrupp: Barn\, 9-12 år \nVårens träffar!\nTorsdag den 19 februari\nTorsdag den 26 mars\nTorsdag den 23 april\nTorsdag den 21 maj \nGäller samma tid kl. 15:30 – 16:30 på alla bokträffar.
URL:https://farstabladet.se/kalender/hemliga-skapets-bokcirkel-2/2026-04-23/
LOCATION:Farsta bibliotek\, Farstagången 14C\, Farsta
CATEGORIES:Barn,Bokcirkel,Kultur
ATTACH;FMTTYPE=image/png:https://farstabladet.se/wp-content/uploads/2026/01/Hemliga_skapet_Bild-2.png
ORGANIZER;CN="Farsta bibliotek":MAILTO:farsta.ssb@stockholm.se
END:VEVENT
BEGIN:VEVENT
DTSTART;TZID=Europe/Paris:20260423T180000
DTEND;TZID=Europe/Paris:20260423T190000
DTSTAMP:20260423T045602
CREATED:20260413T115943Z
LAST-MODIFIED:20260413T115943Z
UID:10007379-1776967200-1776970800@farstabladet.se
SUMMARY:Författarsamtal Atilla Yoldaş
DESCRIPTION:Kom och träffa Atilla Yoldaş\, författare\, journalist och aktivist som brinner för bl.a. jämställdhetsfrågor. I ett samtal kring ”Killboken” ger han konkreta tips på hur man som kille kan vara med och motarbeta negativa mansnormer och de positiva konsekvenser det får om man vågar stå upp emot machokulturen och vågar vara sig själv. \nPassar från ca 8-9 år men även för ungdomar\, föräldrar och pedagoger. Endast föranmälan till anna@bokskogenbutik.se – begränsat antal platser. Kostnadsfritt. Vi bjuder på snacks och läsk. Med stöd från Kulturrådet. \n23 april kl 18.00-19.00\nBokskogen barn- och ungdomsbokhandel\, Pepparvägen 9a\, Hökarängens C
URL:https://farstabladet.se/kalender/forfattarsamtal-atilla-yoldas/
LOCATION:Bokskogen bokhandel\, Pepparvägen 9A\, Hökarängen
CATEGORIES:Författarsamtal,Kultur
ATTACH;FMTTYPE=image/jpeg:https://farstabladet.se/wp-content/uploads/2026/04/IMG_3453.jpeg
END:VEVENT
BEGIN:VEVENT
DTSTART;TZID=Europe/Paris:20260423T180000
DTEND;TZID=Europe/Paris:20260423T193000
DTSTAMP:20260423T045602
CREATED:20251218T081618Z
LAST-MODIFIED:20251218T081618Z
UID:10006451-1776967200-1776972600@farstabladet.se
SUMMARY:Sjung på svenska - Practice Swedish by singing!
DESCRIPTION:Do you want to sing and practice Swedish? No prior knowledge of singing is needed\, we learn together. Every other Thursday at kulturhuset Fanfaren! // Här är kören särskilt för dig som vill sjunga och träna på svenska –men alla är välkomna som vill ha roligt och träffa nya vänner! Du behöver inte ha några förkunskaper\, vi lär oss tillsammans\, och du behöver inte komma alla gånger om du inte vill/kan. Ledare är Anna Berglund. Kaffe serveras i pausen! \n\n\nKategori: Musik\, Språkcafé\nMålgrupp: Vuxna\n\n\nTillfällen\n\n\n\nTorsdag 15 januari18:00 – 19:30 \n\n\n\nTorsdag 29 januari18:00 – 19:30\n\n\nTorsdag 12 februari18:00 – 19:30\n\n\nTorsdag 26 februari18:00 – 19:30\n\n\nTorsdag 26 mars18:00 – 19:30\n\n\nTorsdag 9 april18:00 – 19:30\n\n\nTorsdag 23 april18:00 – 19:30\n\n\nTorsdag 7 maj18:00 – 19:30\n\n\nTorsdag 21 maj18:00 – 19:30
URL:https://farstabladet.se/kalender/sjung-pa-svenska-practice-swedish-by-singing-2/2026-04-23/
LOCATION:Stockholm
CATEGORIES:Kultur,Musik,Språk
ATTACH;FMTTYPE=image/png:https://farstabladet.se/wp-content/uploads/2025/12/Sjung-pa-svenska.png
ORGANIZER;CN="Farsta bibliotek":MAILTO:farsta.ssb@stockholm.se
END:VEVENT
BEGIN:VEVENT
DTSTART;TZID=Europe/Paris:20260423T183000
DTEND;TZID=Europe/Paris:20260423T193000
DTSTAMP:20260423T045602
CREATED:20260127T083347Z
LAST-MODIFIED:20260127T083511Z
UID:10006718-1776969000-1776972600@farstabladet.se
SUMMARY:Poesikväll med öppen scen
DESCRIPTION:Låt det fria ordet flöda!\nLäs upp en dikt som du eller någon annan skrivit. Du väljer själv formen – spoken word eller på ett annat språk? Allt funkar! Alla får läsa! Du behöver inte anmäla dig i förväg. Varje kväll har ett tema. \n\n\n\nFler tillfällen\n\n\n\nTorsdag 19 februari18:30 – 19:30 \n\n\n\nTorsdag 19 mars18:30 – 19:30\n\n\nTorsdag 23 april18:30 – 19:30\n\n\nTorsdag 21 maj18:30 – 19:30\n\n\n\n\n\n\n\n\n\n\n\n\nPoesikvällar på Fanfaren\nPoesikvällarna startade hösten 2018 och sedan dess har det varit 1-2 gånger per termin. Det är alltid öppen scen och du som deltar får läsa hur och vad du vill. Ingen poesikväll blir den andra lik. Öppenhet är nyckelord. Alla ska känna sig välkomna! 
URL:https://farstabladet.se/kalender/poesikvall-med-oppen-scen-2/2026-04-23/
LOCATION:Kulturhuset Fanfaren\, Farstagången 8\, Farsta\, Stockholm\, Sweden
CATEGORIES:Eget skapande,Kultur,Poesi
ATTACH;FMTTYPE=image/jpeg:https://farstabladet.se/wp-content/uploads/2025/04/Kultur-bibliotek-future.jpg
ORGANIZER;CN="Farsta bibliotek":MAILTO:farsta.ssb@stockholm.se
END:VEVENT
BEGIN:VEVENT
DTSTART;TZID=Europe/Paris:20260423T190000
DTEND;TZID=Europe/Paris:20260423T190000
DTSTAMP:20260423T045602
CREATED:20260112T075924Z
LAST-MODIFIED:20260112T132919Z
UID:10006594-1776970800-1776970800@farstabladet.se
SUMMARY:Moment:Teater\, "Herren Jesus Krist\, vår Frälsare och Pojkvän"\, 14 mars-26 april
DESCRIPTION:Regi och manus: Josefin Ankarberg\nI vårens föreställning på moment:teater står Margery Kempe (född ca 1373) i centrum –  en kvinna som under hela sitt vuxna liv hade intensiva visioner av Jesus som samtalade med henne och försäkrade henne om deras ömsesidiga och innerliga kärlek. Mot slutet av sitt liv fick hon (då hon varken kunde läsa eller skriva) hjälp att nedteckna sina upplevelser i The Book of Margery Kempe\, som i dag räknas som den första självbiografin skriven på engelska. \nVi möter också Julian av Norwich\, en av medeltidens mest kända mystiker\, i det ögonblick då hon väljer att bli anakoret – instängd i ett litet rum intill kyrkan i Norwich\, med dörren igenmurad för resten av sitt liv. I stilla panik ser hon öppningen försvinna\, sten för sten. Historiska källor vittnar om att Margery Kempe besökte Julian kort före hennes död\, och att de samtalade genom den lilla glugg som fanns i muren. \nGenom dessa gestalter föddes idén om Jesus som det perfekta kärleksobjektet för den medeltida kvinnan: en kropp att betrakta\, längta efter och projicera begär på – utan krav på underkastelse\, äktenskap eller barnafödande. En man att älska villkorslöst\, om och om igen\, utan risk för avvisande. Är det inte den perfekta pojkvännen att förälska sig i gång på gång? \n‘I came to this place\, Lord\, for love of you. Blessed Lord\, help me and have mercy on me. For thy great pain\, have mercy on my little pain’\n– The Book of Margery Kempe \n”All shall be well\, and all shall be well and all matter of things shall be well. For there is a force of love moving through the universe that holds us fast and will never let us go”\n– Julian av Norwich\, Revelations of Divine Love \nI föreställningen framförs nyskriven musik av och med Simon Steensland och Elle-Kari Sander. \nBiljetter & Datum:\n\n14 mar kl 19.00 Köp biljetter\n18 mar kl 19.00 Köp biljetter\n19 mar kl 19.00 Köp biljetter\n20 mar kl 19.00 Köp biljetter\n22 mar kl 16.00 Köp biljetter\n23 mar kl 19.00 Köp biljetter\n24 mar kl 19.00 Köp biljetter\n28 mar kl 16.00 Köp biljetter\n29 mar kl 16:00 Köp biljetter\n30 mar kl 19.00 Köp biljetter\n31 mar kl 19.00 Köp biljetter\n7 apr kl 19.00 Köp biljetter\n8 apr kl 19.00 Köp biljetter\n11 apr kl 19.00 Köp biljetter\n12 apr kl 16:00 Köp biljetter\n15 apr kl 19.00 Köp biljetter\n16 apr kl 19.00 Köp biljetter\n17 apr kl 19.00 Köp biljetter\n18 apr kl 19.00 Köp biljetter\n21 apr kl 19.00 Köp biljetter\n22 apr kl 19.00 Köp biljetter\n23 apr kl 19.00 Köp biljetter\n24 apr kl 19.00 Köp biljetter\n26 apr kl 16:00 Köp biljetter
URL:https://farstabladet.se/kalender/momentteater-herren-jesus-krist-var-fralsare-och-pojkvan-14-mars-26-april/2026-04-23/
LOCATION:Moment:Teater\, Gubbängstorget 117\, Gubbängen\, 12246
CATEGORIES:Kultur,Teater
ATTACH;FMTTYPE=image/jpeg:https://farstabladet.se/wp-content/uploads/2026/01/Moment-Herren-Jesus-Krist.jpeg
ORGANIZER;CN="Moment%3ATeater":MAILTO:info@moment.org.se
END:VEVENT
BEGIN:VEVENT
DTSTART;TZID=Europe/Paris:20260423T193000
DTEND;TZID=Europe/Paris:20260423T193000
DTSTAMP:20260423T045602
CREATED:20260112T073719Z
LAST-MODIFIED:20260112T073719Z
UID:10006570-1776972600-1776972600@farstabladet.se
SUMMARY:Jazzklubb Syd\, KUSTBANDET
DESCRIPTION:Välkommen! Spelar gör: \nBent Persson trumpetPeter Lind trumpetFredrik Ohlsson trumpetJens “Jesse” Lindgren trombonBo Juhlin trombon/sousafonBjörn Bäckström altsax/klarinettKlas Toresson altsax/klarinettJohn Högman tenorsax/klarinettPetter Carlson Welden pianoHans Gustafson banjo/gitarrGöran Lind basKrister Ohlsson trummor \nMed stöd från Stockholms stad\, Farsta stadsdelsnämndoch Lennart Östbergs musikfond \nJAZZ KLUBB SYDFARSTASTOCKHOLM \nVälkomna! Tompas Bar öppnar ca kl 18.30 \nLADAN FARSTA GÅRD \nFarstavägen 16–22 (Buss 185V från Farsta C\, Hpl Farsta IP) \nEntré 300:- | Bli medlem 150:-/säsong | Entré medlemmar 250:- | Under 20 år fri entré \nOBS! Endast kontant och Swish | Hemsida: www.jazzklubbsyd.se
URL:https://farstabladet.se/kalender/jazzklubb-syd-kustbandet/
LOCATION:Farsta gård\, Farstaängsvägen 22\, Farsta\, Stockholm\, 12346\, Sweden
CATEGORIES:Kultur,Musik
ATTACH;FMTTYPE=image/webp:https://farstabladet.se/wp-content/uploads/2025/03/jazz2-2.webp
ORGANIZER;CN="Jazzklubb Syd":MAILTO:jazzklubbsyd@hotmail.se
END:VEVENT
END:VCALENDAR