BEGIN:VCALENDAR
VERSION:2.0
PRODID:-//Farsta-Kalendern - ECPv6.15.20//NONSGML v1.0//EN
CALSCALE:GREGORIAN
METHOD:PUBLISH
X-WR-CALNAME:Farsta-Kalendern
X-ORIGINAL-URL:https://farstabladet.se
X-WR-CALDESC:Händelser för Farsta-Kalendern
REFRESH-INTERVAL;VALUE=DURATION:PT1H
X-Robots-Tag:noindex
X-PUBLISHED-TTL:PT1H
BEGIN:VTIMEZONE
TZID:Europe/Paris
BEGIN:DAYLIGHT
TZOFFSETFROM:+0100
TZOFFSETTO:+0200
TZNAME:CEST
DTSTART:20250330T010000
END:DAYLIGHT
BEGIN:STANDARD
TZOFFSETFROM:+0200
TZOFFSETTO:+0100
TZNAME:CET
DTSTART:20251026T010000
END:STANDARD
BEGIN:DAYLIGHT
TZOFFSETFROM:+0100
TZOFFSETTO:+0200
TZNAME:CEST
DTSTART:20260329T010000
END:DAYLIGHT
BEGIN:STANDARD
TZOFFSETFROM:+0200
TZOFFSETTO:+0100
TZNAME:CET
DTSTART:20261025T010000
END:STANDARD
BEGIN:DAYLIGHT
TZOFFSETFROM:+0100
TZOFFSETTO:+0200
TZNAME:CEST
DTSTART:20270328T010000
END:DAYLIGHT
BEGIN:STANDARD
TZOFFSETFROM:+0200
TZOFFSETTO:+0100
TZNAME:CET
DTSTART:20271031T010000
END:STANDARD
END:VTIMEZONE
BEGIN:VEVENT
DTSTART;TZID=Europe/Paris:20260424T103000
DTEND;TZID=Europe/Paris:20260424T120000
DTSTAMP:20260424T035103
CREATED:20251218T080258Z
LAST-MODIFIED:20251218T080258Z
UID:10006437-1777026600-1777032000@farstabladet.se
SUMMARY:Språkkafé på engelska
DESCRIPTION:Vill du öva engelska och lära känna nya vänner? Då är du varmt välkommen till vårt språkkafé på engelska! Vi träffas i grupprummet Romanen. \n\n\nKategori: Språkcafé\nMålgrupp: Vuxna\nSpråk: Engelska\nÖvrig information: Ingen föranmälan. Fri entré.\n\n\nTillfällen\n\n\n\nFredag 2 januari10:30 – 12:00\n\n\n\nFredag 9 januari10:30 – 12:00 \n\n\n\nFredag 16 januari10:30 – 12:00\n\n\nFredag 23 januari10:30 – 12:00\n\n\nFredag 30 januari10:30 – 12:00\n\n\nFredag 6 februari10:30 – 12:00\n\n\nFredag 13 februari10:30 – 12:00\n\n\nFredag 20 februari10:30 – 12:00\n\n\nFredag 27 februari10:30 – 12:00\n\n\nFredag 6 mars10:30 – 12:00\n\n\nFredag 13 mars10:30 – 12:00\n\n\nFredag 20 mars10:30 – 12:00\n\n\nFredag 27 mars10:30 – 12:00\n\n\nFredag 10 april10:30 – 12:00\n\n\nFredag 17 april10:30 – 12:00\n\n\nFredag 24 april10:30 – 12:00\n\n\nFredag 8 maj10:30 – 12:00\n\n\nFredag 15 maj10:30 – 12:00\n\n\nFredag 22 maj10:30 – 12:00\n\n\nFredag 29 maj10:30 – 12:00\n\n\nFredag 5 juni10:30 – 12:00\n\n\nFredag 12 juni10:30 – 12:00\n\n\nFredag 26 juni10:30 – 12:00
URL:https://farstabladet.se/kalender/sprakkafe-pa-engelska/2026-04-24/
LOCATION:Stockholm
CATEGORIES:Kultur,Språk
ATTACH;FMTTYPE=image/png:https://farstabladet.se/wp-content/uploads/2025/12/Sprakkafe-pa-engelska.png
ORGANIZER;CN="Farsta bibliotek":MAILTO:farsta.ssb@stockholm.se
END:VEVENT
BEGIN:VEVENT
DTSTART;TZID=Europe/Paris:20260424T110000
DTEND;TZID=Europe/Paris:20260424T160000
DTSTAMP:20260424T035103
CREATED:20260331T062532Z
LAST-MODIFIED:20260331T062532Z
UID:10007370-1777028400-1777046400@farstabladet.se
SUMMARY:Utställning Helena Widén\, 11/4 - 3/5
DESCRIPTION:Om utställningen\nPå väg in bland kompromisslösa ormbunkar och storvulna blomblad\ni utkanten av mitt synfält\ndet främmande oformliga\nPlötsligt finns där någonting\nKräver kropp\, breder ut sig\, andas\, förökar sig.\nHanden i rörelse\, linjer\, spiraler\, slinger\nÖgon känsliga för grönt\, blicken nyfiken\nalltmedan några gråsuggor lufsar förbi.\nMed start i en fysisk\, konkret verklighet glider målningarna mellan igenkänning och abstraktion. \nHelena Widén är verksam i Stockholm\, utbildad vid Umeå Konsthögskola\, med en Master i Fri\nKonst (MFA) 1995. Hon har tidigare ställt ut separat ett flertal ggr på Galleri PS i Göteborg och på\nNationalgalleriet i Stockholm och medverkat i samlingsutställningar runt om i landet.\nInköpt av bl.a. Stockholms stad\, Stockholms läns landsting\, Statens Konstråd\, Västra Götalands\nlandsting\, Göteborgs kommun\, Umeå kommun. \nVernissage: Lördag 11/4\,  2026\,  kl. 11-16 \nhm.widen@gmail.com\n@helenawiden_studio.\nhttps://helenawiden.com/
URL:https://farstabladet.se/kalender/utstallning-helena-widen-11-4-3-5/2026-04-24/
LOCATION:Farsta gård\, Farstaängsvägen 22\, Farsta\, Stockholm\, 12346\, Sweden
CATEGORIES:Konst,Kultur
ATTACH;FMTTYPE=image/jpeg:https://farstabladet.se/wp-content/uploads/2026/03/Helena-Widen-Farsta-Galleri-2.jpg
ORGANIZER;CN="Farsta Galleri":MAILTO:info@farstagalleri.se
END:VEVENT
BEGIN:VEVENT
DTSTART;TZID=Europe/Paris:20260424T130000
DTEND;TZID=Europe/Paris:20260424T200000
DTSTAMP:20260424T035103
CREATED:20260323T092305Z
LAST-MODIFIED:20260323T092557Z
UID:10006929-1777035600-1777060800@farstabladet.se
SUMMARY:Gymma på Farsta sim- och idrottshall
DESCRIPTION:Är du 13–19 år? Kickstarta träningen under påsklovet\, ta med en kompis och häng med våra ungdomsinspiratörer!\nHäng med våra ungdomsinspiratörer. \nVill du ha hjälp med övningar eller få en rundtur? Oavsett om du är helt ny eller vill ha nya tips finns vi på plats i övre gymmet för att peppa och guida dig. \nDu behöver inte boka plats. Det är bara att dyka upp. \nVälkommen till vårt gym! \nAlla våra simhallar \n 
URL:https://farstabladet.se/kalender/gymma-pa-farsta-sim-och-idrottshall/2026-04-24/
LOCATION:Farsta sim- och idrottshall\, Farstaängsvägen 3\, Farsta
CATEGORIES:Påsklov i Farsta,Sport,Ungdom
ATTACH;FMTTYPE=image/webp:https://farstabladet.se/wp-content/uploads/2026/03/20260126_1508156.webp
END:VEVENT
BEGIN:VEVENT
DTSTART;TZID=Europe/Paris:20260424T180000
DTEND;TZID=Europe/Paris:20260424T210000
DTSTAMP:20260424T035103
CREATED:20260331T061851Z
LAST-MODIFIED:20260331T061851Z
UID:10007338-1777053600-1777064400@farstabladet.se
SUMMARY:Utställning: Metaphysical Thresholds\, 24/4 - 7/6
DESCRIPTION:Om utställningen\nMetaphysical Thresholds sammanför verk av konstnärerna Yoeri Guépin och Hichem Merouche\, som båda utforskar sina respektive far- och mormödrars förhållande till växter och odling utifrån två olika traditioner och bakgrunder. I denna utställning\, med Natasha Marie Llorens som kurator\, granskas den ekologiska vändningen i konsten ur ett kritiskt perspektiv. Genom verk som gestaltar vitt skilda och djupt rotade traditioner kring trädgårdsodling\, lyfts odlandet fram som en metafysisk praktik. Konstnärerna Yoeri Guépin och Hichem Merouche utforskar ämnet i olika medier som video\, doft\, och community-interventioner som åter sätter den esoteriska dimensionen av naturen och växtriket i konstens centrum.\nI utställningen har växterna en flerriktad agens. Det innebär att de faktiska\, levande växterna som Yoeri Guépin och Hichem Merouche arbetar med både är fysiskt rotade i marken men också symboliskt skapar en övergång till mänskliga frågor gällande död\, andlighet\, kunskapsöverföring mellan generationer och de sociala utmaningar som den ekologiska krisen utgör.\n\nHichem Merouches projekt produceras med stöd av Arab Fund for Arts and Culture (AFAC)\, Culture Resource (Mawred):s Wijhat-program och Rhizome\, Alger. Yoeri Guépins installation möjliggörs delvis genom finansiellt stöd från Mondriaan Fund.\n\nTitel: Metaphysical Thresholds\nKonstnärer: Yoeri Guépin (NL) och Hichem Merouche (DZ)\nVernissage: 24 april kl 18:00 – 21:00\nTid: 24 april–7 juni 2026\nPlats: Konsthall C\, Cigarrvägen 16\, 123 57 Farsta\nFri entré\, torsdag – söndag 12.00 – 17.00
URL:https://farstabladet.se/kalender/utstallning-metaphysical-thresholds-24-4-7-6/2026-04-24/
LOCATION:Konsthall C\, Cigarrvägen 14\, Hökarängen
CATEGORIES:Konst,Kultur
ATTACH;FMTTYPE=image/jpeg:https://farstabladet.se/wp-content/uploads/2026/03/As-Above-So-Below-filmstill-2023.-Yoeri-Guepin-Wilfiede-Driehuyzen-Guepin-1929-2025-scaled.jpg
ORGANIZER;CN="Konsthall C":MAILTO:info@konsthallc.se
END:VEVENT
BEGIN:VEVENT
DTSTART;TZID=Europe/Paris:20260424T183000
DTEND;TZID=Europe/Paris:20260424T210000
DTSTAMP:20260424T035103
CREATED:20260320T131718Z
LAST-MODIFIED:20260320T131826Z
UID:10006880-1777055400-1777064400@farstabladet.se
SUMMARY:Playfight - medveten brottning!
DESCRIPTION:Om Playfight \n\n\n\n\nLängtar du efter att möta andra på riktigt\, utan att behöva sätta på dig en mask eller göra dig själv liten? Vill du vara med och utforska din styrka\, dina rädslor och din längtan i kontakt med andra? \nPlayfight är fysisk lek och kamp i nära kontakt\, där vi stöttar dig i att använda kroppen fullt ut: tryck\, ge efter\, skratta\, bli frustrerad och stanna upp när något blir för mycket. I leken finns utrymme att känna hur det är för dig att ta plats i mötet med andra\, och hur befriande det kan vara när inget behöver döljas. \nBOKA PLATS HÄR! https://peach.nu/activities/RQZmGDeeWGRqugtvlqCY \n𝐕𝐚𝐝 𝐚̈𝐫 𝐏𝐥𝐚𝐲𝐟𝐢𝐠𝐡𝐭? \nPlayfight kan liknas med:\n– en improviserad dans fast ni försöker få ner varandra på ryggen\,\n– en kampsport utan tekniker eller förlorare\,\n– en relationell meditation med rörelse istället för ord\,\n– ett skojbråk mellan två barn eller lejonungar. \nPlayfight är inte terapi\, tävling eller aggressionsutlevelse. Det är lekfull kamp med tydliga ramar\, där ansvar och lyhördhet går före att “vinna”. \nTänk dig att du kliver in i cirkeln\, med allas fulla uppmärksamhet\, och med mod och nervositet bjuder en annan upp till kamp. Efter några andetag öga mot öga\, kanske lite osäkra på hur ni ska börja\, möts ni i en dans av både styrka och omtanke\, där kontakten med varandra är viktigare än vem som vinner eller förlorar. När cirkeln applåderar är tiden slut\, och glada och trötta (kanske lite förvånade?) möts ni i en gest av uppskattning innan ni släpper taget. Till sist sitter ni rygg mot rygg\, nu som medkämpar\, medan cirkeln delar det som berörde dem mest. \n𝐕𝐚𝐝 𝐤𝐨𝐦𝐦𝐞𝐫 𝐯𝐢 𝐚𝐭𝐭 𝐠𝐨̈𝐫𝐚? \nOfta går det till ungefär så här:\n– Vi landar och möter oss själva och varandra. Vem är du och vad tar du med dig?\n– Genom lekfulla övningar värmer vi upp\, bygger tillit och övar på att bygga kontakt och trygghet.\n– En kort paus för snacks och vatten.\n– Sen är det dags för huvudnumret\, medveten brottning\, ett par i taget.\n– Vi avslutar med en delningsrunda. \nOm du vill få en känsla av hur det kan se ut i cirkeln\, med lek\, kontakt och ögonblick av styrka och omtanke\, kan du titta på den här inspirerande videon: https://www.youtube.com/watch?v=kzjLwWLRTBY \n𝐕𝐞𝐦 𝐩𝐚𝐬𝐬𝐚𝐫 𝐏𝐥𝐚𝐲𝐟𝐢𝐠𝐡𝐭 𝐟𝐨̈𝐫? \nAlla är välkomna\, oavsett förmåga eller färdighet. Du behöver aldrig göra något du inte vill\, och tar själv ansvar för att känna efter\, sätta gränser och säga ifrån om något blir för mycket. \n𝐏𝐫𝐚𝐤𝐭𝐢𝐬𝐤𝐭 \n– Vi börjar kl 18:15. Kom gärna från kl 18:00 så att du har tid att byta om och varva ner.\n– Vi avslutar kl 21:00. Den som vill kan stanna och hänga en liten stund efter.\n– Ta med kläder som du kan svettas och röra dig fritt i\, vattenflaska och snacks att dela i pausen (om du vill). \nAdress: Tegelscenen\, Scenrummet\, Söndagsvägen 9\, Farsta.\nDatum: Varannan vecka från och med den 27/2.\nSpråk: Svenska eller engelska om någon föredrar det. \n𝐕𝐚𝐝 𝐤𝐨𝐬𝐭𝐚𝐫 𝐝𝐞𝐭? \nUnder vårterminen kostar det 200 kr per person och gång\, eller 280 kr om du tar med en vän (för båda). \n𝐄𝐫𝐛𝐣𝐮𝐝𝐚𝐧𝐝𝐞: Boka senast den 20/2 för endast 120 kr eller två för 200 kr! Använd koden IVRIG_IGELKOTT när du bokar. \nVarje tillfälle har max 10 platser. En liten grupp ger mer tid i cirkeln\, fler möten och utrymme att gå på djupet. \n𝐕𝐞𝐦 𝐥𝐞𝐝𝐞𝐫? \nAndreas Hultgren\nFör mig är Playfight ett av de få sammanhang där jag kan känna min fulla styrka och uttrycka alla mina känslor\, samtidigt som jag känner mig trygg och välkommen. Mitt mål är att du efter en Playfight känner dig mer fri och stärkt att vara dig själv\, även hemma eller på jobbet. Jag är utbildad i Playfight i Matteo Tangi’s tradition och har lett Playfight sedan början av 2024\, med grupper i olika nivåer och bakgrunder. \nJonatan Westman\nJag älskar att leka och att brottas. När jag testade Playfight första gången så upplevde jag hur lekfullt och tryggt det kändes. Jag uppskattade de ceremoniella inslagen och att vi delade våra upplevelser med varandra i gruppen. Jag ville göra det mer regelbundet och bestämde mig för att hjälpa Andreas arrangera Playfight – medveten brottning i Stockholm.
URL:https://farstabladet.se/kalender/7923/2026-04-24/
LOCATION:Tegelscenen\, Söndagsvägen 9\, Farsta
CATEGORIES:Kultur,Sport
ATTACH;FMTTYPE=image/jpeg:https://farstabladet.se/wp-content/uploads/2026/03/Playfightfoto_Tegel.jpg
ORGANIZER;CN="Tegelscenen":MAILTO:producent@tegelscenen.se
END:VEVENT
BEGIN:VEVENT
DTSTART;TZID=Europe/Paris:20260424T190000
DTEND;TZID=Europe/Paris:20260424T190000
DTSTAMP:20260424T035103
CREATED:20260112T075924Z
LAST-MODIFIED:20260112T132919Z
UID:10006595-1777057200-1777057200@farstabladet.se
SUMMARY:Moment:Teater\, "Herren Jesus Krist\, vår Frälsare och Pojkvän"\, 14 mars-26 april
DESCRIPTION:Regi och manus: Josefin Ankarberg\nI vårens föreställning på moment:teater står Margery Kempe (född ca 1373) i centrum –  en kvinna som under hela sitt vuxna liv hade intensiva visioner av Jesus som samtalade med henne och försäkrade henne om deras ömsesidiga och innerliga kärlek. Mot slutet av sitt liv fick hon (då hon varken kunde läsa eller skriva) hjälp att nedteckna sina upplevelser i The Book of Margery Kempe\, som i dag räknas som den första självbiografin skriven på engelska. \nVi möter också Julian av Norwich\, en av medeltidens mest kända mystiker\, i det ögonblick då hon väljer att bli anakoret – instängd i ett litet rum intill kyrkan i Norwich\, med dörren igenmurad för resten av sitt liv. I stilla panik ser hon öppningen försvinna\, sten för sten. Historiska källor vittnar om att Margery Kempe besökte Julian kort före hennes död\, och att de samtalade genom den lilla glugg som fanns i muren. \nGenom dessa gestalter föddes idén om Jesus som det perfekta kärleksobjektet för den medeltida kvinnan: en kropp att betrakta\, längta efter och projicera begär på – utan krav på underkastelse\, äktenskap eller barnafödande. En man att älska villkorslöst\, om och om igen\, utan risk för avvisande. Är det inte den perfekta pojkvännen att förälska sig i gång på gång? \n‘I came to this place\, Lord\, for love of you. Blessed Lord\, help me and have mercy on me. For thy great pain\, have mercy on my little pain’\n– The Book of Margery Kempe \n”All shall be well\, and all shall be well and all matter of things shall be well. For there is a force of love moving through the universe that holds us fast and will never let us go”\n– Julian av Norwich\, Revelations of Divine Love \nI föreställningen framförs nyskriven musik av och med Simon Steensland och Elle-Kari Sander. \nBiljetter & Datum:\n\n14 mar kl 19.00 Köp biljetter\n18 mar kl 19.00 Köp biljetter\n19 mar kl 19.00 Köp biljetter\n20 mar kl 19.00 Köp biljetter\n22 mar kl 16.00 Köp biljetter\n23 mar kl 19.00 Köp biljetter\n24 mar kl 19.00 Köp biljetter\n28 mar kl 16.00 Köp biljetter\n29 mar kl 16:00 Köp biljetter\n30 mar kl 19.00 Köp biljetter\n31 mar kl 19.00 Köp biljetter\n7 apr kl 19.00 Köp biljetter\n8 apr kl 19.00 Köp biljetter\n11 apr kl 19.00 Köp biljetter\n12 apr kl 16:00 Köp biljetter\n15 apr kl 19.00 Köp biljetter\n16 apr kl 19.00 Köp biljetter\n17 apr kl 19.00 Köp biljetter\n18 apr kl 19.00 Köp biljetter\n21 apr kl 19.00 Köp biljetter\n22 apr kl 19.00 Köp biljetter\n23 apr kl 19.00 Köp biljetter\n24 apr kl 19.00 Köp biljetter\n26 apr kl 16:00 Köp biljetter
URL:https://farstabladet.se/kalender/momentteater-herren-jesus-krist-var-fralsare-och-pojkvan-14-mars-26-april/2026-04-24/
LOCATION:Moment:Teater\, Gubbängstorget 117\, Gubbängen\, 12246
CATEGORIES:Kultur,Teater
ATTACH;FMTTYPE=image/jpeg:https://farstabladet.se/wp-content/uploads/2026/01/Moment-Herren-Jesus-Krist.jpeg
ORGANIZER;CN="Moment%3ATeater":MAILTO:info@moment.org.se
END:VEVENT
BEGIN:VEVENT
DTSTART;TZID=Europe/Paris:20260424T200000
DTEND;TZID=Europe/Paris:20260424T220000
DTSTAMP:20260424T035103
CREATED:20260327T090036Z
LAST-MODIFIED:20260327T143622Z
UID:10007316-1777060800-1777068000@farstabladet.se
SUMMARY:Fotboll\, Div. 2 Herr\, FoC Farsta FF - Syrianska FC
DESCRIPTION:Kom och stötta FoC Farsta!\n 
URL:https://farstabladet.se/kalender/fotboll-div-2-herr-foc-farsta-ff-syrianska-fc/
LOCATION:Farsta IP\, Farstaängsvägen 3\, Farsta\, Stockholm\, 12373\, Sweden
CATEGORIES:Fotboll,Sport
ATTACH;FMTTYPE=image/jpeg:https://farstabladet.se/wp-content/uploads/2026/03/FOC-pin-2025.jpg
ORGANIZER;CN="FoC Farsta Fotboll":MAILTO:kansli@focfarstafotboll.se
END:VEVENT
END:VCALENDAR