BEGIN:VCALENDAR
VERSION:2.0
PRODID:-//Farsta-Kalendern - ECPv6.15.20//NONSGML v1.0//EN
CALSCALE:GREGORIAN
METHOD:PUBLISH
X-WR-CALNAME:Farsta-Kalendern
X-ORIGINAL-URL:https://farstabladet.se
X-WR-CALDESC:Händelser för Farsta-Kalendern
REFRESH-INTERVAL;VALUE=DURATION:PT1H
X-Robots-Tag:noindex
X-PUBLISHED-TTL:PT1H
BEGIN:VTIMEZONE
TZID:Europe/Paris
BEGIN:DAYLIGHT
TZOFFSETFROM:+0100
TZOFFSETTO:+0200
TZNAME:CEST
DTSTART:20250330T010000
END:DAYLIGHT
BEGIN:STANDARD
TZOFFSETFROM:+0200
TZOFFSETTO:+0100
TZNAME:CET
DTSTART:20251026T010000
END:STANDARD
BEGIN:DAYLIGHT
TZOFFSETFROM:+0100
TZOFFSETTO:+0200
TZNAME:CEST
DTSTART:20260329T010000
END:DAYLIGHT
BEGIN:STANDARD
TZOFFSETFROM:+0200
TZOFFSETTO:+0100
TZNAME:CET
DTSTART:20261025T010000
END:STANDARD
BEGIN:DAYLIGHT
TZOFFSETFROM:+0100
TZOFFSETTO:+0200
TZNAME:CEST
DTSTART:20270328T010000
END:DAYLIGHT
BEGIN:STANDARD
TZOFFSETFROM:+0200
TZOFFSETTO:+0100
TZNAME:CET
DTSTART:20271031T010000
END:STANDARD
END:VTIMEZONE
BEGIN:VEVENT
DTSTART;TZID=Europe/Paris:20260425T090000
DTEND;TZID=Europe/Paris:20260425T170000
DTSTAMP:20260425T015344
CREATED:20260306T140325Z
LAST-MODIFIED:20260306T140325Z
UID:10006856-1777107600-1777136400@farstabladet.se
SUMMARY:Save the date: Barnklädesbyte i Gubbängskolan – 25–26 april
DESCRIPTION:Barnklädesbyte i Gubbängskolan – 25–26 april\nOBS! Biljettbokningen öppnar den 1 april\nBoka via: https://www.gubbangenskladbyte.se/ \nVälkommen till vårens populära barnklädesbyte i Gubbängskolans matsal!\nHär kan du fynda barn- och ungdomskläder samt mängder av tillbehör till riktigt bra priser. \nDatum & tider\n\nLördag 25 april kl. 09.00–17.00 (förköpt biljett krävs)\nSöndag 26 april kl. 08.30–10.30 (sista-chansen-shopping)\n\nVad du hittar hos oss\n\nBarn- och ungdomskläder i storlek 50 cl–L\nSkor\, sportutrustning\, cyklar\, leksaker\, spel och böcker\nBarninredning och andra tillbehör\nEn mindre avdelning med dam- och herrkläder\nGravid- och amningsplagg\n\nBra att veta\n\nVi vet inte i förväg exakt vilka varor som kommer in — följ våra sociala medier för uppdateringar.\nTrots namnet är det ingen bytesmarknad\, utan en storlekssorterad barnloppis.\nSäljarna lämnar in sina varor i förväg\, och under själva eventet är det endast shopping.\nVi tar emot betalning via Swish.\n\nTips\nBjud gärna in vänner och bekanta som kan vara intresserade\, så missar ingen nyheter eller uppdateringar. \nVarmt välkomna!
URL:https://farstabladet.se/kalender/save-the-date-barnkladesbyte-i-gubbangskolan-25-26-april/2026-04-25/
LOCATION:Gubbängsskolan\, Gubbängsvägen 63-69
CATEGORIES:Loppis
ATTACH;FMTTYPE=image/png:https://farstabladet.se/wp-content/uploads/2026/03/Loppis-Gubbangen.png
END:VEVENT
BEGIN:VEVENT
DTSTART;TZID=Europe/Paris:20260425T110000
DTEND;TZID=Europe/Paris:20260425T160000
DTSTAMP:20260425T015344
CREATED:20260127T082550Z
LAST-MODIFIED:20260127T082550Z
UID:10006701-1777114800-1777132800@farstabladet.se
SUMMARY:Familjehelg
DESCRIPTION:Pyssel\, experiment och fix\nVarje lördag och söndag klockan 11 och 15 dukar vi fram en aktivitet som barn och vuxna kan göra tillsammans. Det kan bli allt från sagostund\, pyssel eller kanske ett experiment. Ingen föranmälan behövs. \n\n\nKategori: Skaparverkstad\nMålgrupp: Barn
URL:https://farstabladet.se/kalender/familjehelg-2/2026-04-25/
LOCATION:Kulturhuset Fanfaren\, Farstagången 8\, Farsta\, Stockholm\, Sweden
CATEGORIES:Barn,Eget skapande,Familj,Kultur
ATTACH;FMTTYPE=image/png:https://farstabladet.se/wp-content/uploads/2025/11/Familjehelg.png
ORGANIZER;CN="Farsta bibliotek":MAILTO:farsta.ssb@stockholm.se
END:VEVENT
BEGIN:VEVENT
DTSTART;TZID=Europe/Paris:20260425T110000
DTEND;TZID=Europe/Paris:20260425T160000
DTSTAMP:20260425T015344
CREATED:20260331T062532Z
LAST-MODIFIED:20260331T062532Z
UID:10007371-1777114800-1777132800@farstabladet.se
SUMMARY:Utställning Helena Widén\, 11/4 - 3/5
DESCRIPTION:Om utställningen\nPå väg in bland kompromisslösa ormbunkar och storvulna blomblad\ni utkanten av mitt synfält\ndet främmande oformliga\nPlötsligt finns där någonting\nKräver kropp\, breder ut sig\, andas\, förökar sig.\nHanden i rörelse\, linjer\, spiraler\, slinger\nÖgon känsliga för grönt\, blicken nyfiken\nalltmedan några gråsuggor lufsar förbi.\nMed start i en fysisk\, konkret verklighet glider målningarna mellan igenkänning och abstraktion. \nHelena Widén är verksam i Stockholm\, utbildad vid Umeå Konsthögskola\, med en Master i Fri\nKonst (MFA) 1995. Hon har tidigare ställt ut separat ett flertal ggr på Galleri PS i Göteborg och på\nNationalgalleriet i Stockholm och medverkat i samlingsutställningar runt om i landet.\nInköpt av bl.a. Stockholms stad\, Stockholms läns landsting\, Statens Konstråd\, Västra Götalands\nlandsting\, Göteborgs kommun\, Umeå kommun. \nVernissage: Lördag 11/4\,  2026\,  kl. 11-16 \nhm.widen@gmail.com\n@helenawiden_studio.\nhttps://helenawiden.com/
URL:https://farstabladet.se/kalender/utstallning-helena-widen-11-4-3-5/2026-04-25/
LOCATION:Farsta gård\, Farstaängsvägen 22\, Farsta\, Stockholm\, 12346\, Sweden
CATEGORIES:Konst,Kultur
ATTACH;FMTTYPE=image/jpeg:https://farstabladet.se/wp-content/uploads/2026/03/Helena-Widen-Farsta-Galleri-2.jpg
ORGANIZER;CN="Farsta Galleri":MAILTO:info@farstagalleri.se
END:VEVENT
BEGIN:VEVENT
DTSTART;TZID=Europe/Paris:20260425T120000
DTEND;TZID=Europe/Paris:20260425T170000
DTSTAMP:20260425T015344
CREATED:20260331T061851Z
LAST-MODIFIED:20260331T061851Z
UID:10007339-1777118400-1777136400@farstabladet.se
SUMMARY:Utställning: Metaphysical Thresholds\, 24/4 - 7/6
DESCRIPTION:Om utställningen\nMetaphysical Thresholds sammanför verk av konstnärerna Yoeri Guépin och Hichem Merouche\, som båda utforskar sina respektive far- och mormödrars förhållande till växter och odling utifrån två olika traditioner och bakgrunder. I denna utställning\, med Natasha Marie Llorens som kurator\, granskas den ekologiska vändningen i konsten ur ett kritiskt perspektiv. Genom verk som gestaltar vitt skilda och djupt rotade traditioner kring trädgårdsodling\, lyfts odlandet fram som en metafysisk praktik. Konstnärerna Yoeri Guépin och Hichem Merouche utforskar ämnet i olika medier som video\, doft\, och community-interventioner som åter sätter den esoteriska dimensionen av naturen och växtriket i konstens centrum.\nI utställningen har växterna en flerriktad agens. Det innebär att de faktiska\, levande växterna som Yoeri Guépin och Hichem Merouche arbetar med både är fysiskt rotade i marken men också symboliskt skapar en övergång till mänskliga frågor gällande död\, andlighet\, kunskapsöverföring mellan generationer och de sociala utmaningar som den ekologiska krisen utgör.\n\nHichem Merouches projekt produceras med stöd av Arab Fund for Arts and Culture (AFAC)\, Culture Resource (Mawred):s Wijhat-program och Rhizome\, Alger. Yoeri Guépins installation möjliggörs delvis genom finansiellt stöd från Mondriaan Fund.\n\nTitel: Metaphysical Thresholds\nKonstnärer: Yoeri Guépin (NL) och Hichem Merouche (DZ)\nVernissage: 24 april kl 18:00 – 21:00\nTid: 24 april–7 juni 2026\nPlats: Konsthall C\, Cigarrvägen 16\, 123 57 Farsta\nFri entré\, torsdag – söndag 12.00 – 17.00
URL:https://farstabladet.se/kalender/utstallning-metaphysical-thresholds-24-4-7-6/2026-04-25/
LOCATION:Konsthall C\, Cigarrvägen 14\, Hökarängen
CATEGORIES:Konst,Kultur
ATTACH;FMTTYPE=image/jpeg:https://farstabladet.se/wp-content/uploads/2026/03/As-Above-So-Below-filmstill-2023.-Yoeri-Guepin-Wilfiede-Driehuyzen-Guepin-1929-2025-scaled.jpg
ORGANIZER;CN="Konsthall C":MAILTO:info@konsthallc.se
END:VEVENT
BEGIN:VEVENT
DTSTART;TZID=Europe/Paris:20260425T130000
DTEND;TZID=Europe/Paris:20260425T133000
DTSTAMP:20260425T015344
CREATED:20260416T085733Z
LAST-MODIFIED:20260416T085733Z
UID:10007389-1777122000-1777123800@farstabladet.se
SUMMARY:Oj min socka - Offentlig premiär!
DESCRIPTION:Var är sockan?\n\n\n\n\n\nMicaela har tappat bort sin socka. Var kan den vara?\nMusiken är rolig och är inspirerad av tidig synt-pop. \nOj min socka är en musikföreställning om kroppen. Den riktar sig till barn 1-3 år men som funkar fint även för 4 och 5-åringar. Även yngre bebisar är välkomna! \nPlats: Scenrummet\, Foajén \n100 kr/person \nBiljettbokning: mail@micaela.se \nMusik och medverkan: Micaela Gustafsson\nKostym: Ulrika Douglas Alyhr\nFoton och trailer: Anna Svensson Kundromichalis \nProducerad med stöd från Stockholms stad
URL:https://farstabladet.se/kalender/oj-min-socka-offentlig-premiar/
LOCATION:Tegelscenen\, Söndagsvägen 9\, Farsta
CATEGORIES:Kultur,Musik,Teater
ATTACH;FMTTYPE=image/png:https://farstabladet.se/wp-content/uploads/2026/04/oj-webb-tegel-1.png
ORGANIZER;CN="Tegelscenen":MAILTO:producent@tegelscenen.se
END:VEVENT
BEGIN:VEVENT
DTSTART;TZID=Europe/Paris:20260425T130000
DTEND;TZID=Europe/Paris:20260425T200000
DTSTAMP:20260425T015344
CREATED:20260323T092305Z
LAST-MODIFIED:20260323T092557Z
UID:10006930-1777122000-1777147200@farstabladet.se
SUMMARY:Gymma på Farsta sim- och idrottshall
DESCRIPTION:Är du 13–19 år? Kickstarta träningen under påsklovet\, ta med en kompis och häng med våra ungdomsinspiratörer!\nHäng med våra ungdomsinspiratörer. \nVill du ha hjälp med övningar eller få en rundtur? Oavsett om du är helt ny eller vill ha nya tips finns vi på plats i övre gymmet för att peppa och guida dig. \nDu behöver inte boka plats. Det är bara att dyka upp. \nVälkommen till vårt gym! \nAlla våra simhallar \n 
URL:https://farstabladet.se/kalender/gymma-pa-farsta-sim-och-idrottshall/2026-04-25/
LOCATION:Farsta sim- och idrottshall\, Farstaängsvägen 3\, Farsta
CATEGORIES:Påsklov i Farsta,Sport,Ungdom
ATTACH;FMTTYPE=image/webp:https://farstabladet.se/wp-content/uploads/2026/03/20260126_1508156.webp
END:VEVENT
END:VCALENDAR