BEGIN:VCALENDAR
VERSION:2.0
PRODID:-//Farsta-Kalendern - ECPv6.15.20//NONSGML v1.0//EN
CALSCALE:GREGORIAN
METHOD:PUBLISH
X-WR-CALNAME:Farsta-Kalendern
X-ORIGINAL-URL:https://farstabladet.se
X-WR-CALDESC:Händelser för Farsta-Kalendern
REFRESH-INTERVAL;VALUE=DURATION:PT1H
X-Robots-Tag:noindex
X-PUBLISHED-TTL:PT1H
BEGIN:VTIMEZONE
TZID:Europe/Paris
BEGIN:DAYLIGHT
TZOFFSETFROM:+0100
TZOFFSETTO:+0200
TZNAME:CEST
DTSTART:20240331T010000
END:DAYLIGHT
BEGIN:STANDARD
TZOFFSETFROM:+0200
TZOFFSETTO:+0100
TZNAME:CET
DTSTART:20241027T010000
END:STANDARD
BEGIN:DAYLIGHT
TZOFFSETFROM:+0100
TZOFFSETTO:+0200
TZNAME:CEST
DTSTART:20250330T010000
END:DAYLIGHT
BEGIN:STANDARD
TZOFFSETFROM:+0200
TZOFFSETTO:+0100
TZNAME:CET
DTSTART:20251026T010000
END:STANDARD
BEGIN:DAYLIGHT
TZOFFSETFROM:+0100
TZOFFSETTO:+0200
TZNAME:CEST
DTSTART:20260329T010000
END:DAYLIGHT
BEGIN:STANDARD
TZOFFSETFROM:+0200
TZOFFSETTO:+0100
TZNAME:CET
DTSTART:20261025T010000
END:STANDARD
END:VTIMEZONE
BEGIN:VEVENT
DTSTART;TZID=Europe/Paris:20251029T110000
DTEND;TZID=Europe/Paris:20251029T153000
DTSTAMP:20260426T003909
CREATED:20251009T173937Z
LAST-MODIFIED:20251009T174052Z
UID:10005520-1761735600-1761751800@farstabladet.se
SUMMARY:Spökvandring
DESCRIPTION:Välkomna alla modiga äventyrare till ”Det hemsökta hotellet”\, i kulturhuset Fanfarens lokaler där mysterier och spöken lurar bakom varje hörn! Vågar du följa med in\, se faran i vitögat och lösa gåtan? Kulturskolan och biblioteket i Farsta bjuder in till spökvandring i kulturhuset Fanfaren där vi tillsammans utforskar de spökliga rummen i teatern! Föräldrar är välkomna att följa med (max en vuxen per barn)\, boka i så fall en plats för varje barn plus en plats för medföljande förälder. Spökvandringen ges vid sex olika tillfällen\, för andra dagar/tider se länkar längre ner på sidan. \n\n\n\n\n\n\n\nMålgrupp: Barn\, 7-12 år\nI samarbete med: Kulturskolan och biblioteket\nÖvrig information: Drop in-platser erbjuds i mån av plats 15 minuter före start.\n\n\n\n\nEvenemanget är gratis\, men du måste boka plats.\n\nDrop in-platser finns i mån av plats. \n\n\n\n  \n\n\n\nFler dagar/tider:\nTisdag 28 oktober14.30-15.00: https://biblioteket.stockholm.se/evenemang/spokvandring-11 \n15.30-16.00: https://biblioteket.stockholm.se/evenemang/spokvandring-12 \n  \nOnsdag 29 oktober \n11.00-11.30: https://biblioteket.stockholm.se/evenemang/spokvandring-13 \n13.00-13.30: https://biblioteket.stockholm.se/evenemang/spokvandring-14 \n14.00-14.30: https://biblioteket.stockholm.se/evenemang/spokvandring-15 \n15.00-15.30: https://biblioteket.stockholm.se/evenemang/spokvandring-16
URL:https://farstabladet.se/kalender/spokvandring/2025-10-29/
CATEGORIES:Barn,Evenemang,Familj
ATTACH;FMTTYPE=image/png:https://farstabladet.se/wp-content/uploads/2025/10/large_Spoekvandring_f8d4f83bf7.png
ORGANIZER;CN="Farsta bibliotek":MAILTO:farsta.ssb@stockholm.se
END:VEVENT
BEGIN:VEVENT
DTSTART;TZID=Europe/Paris:20251028T180000
DTEND;TZID=Europe/Paris:20251028T210000
DTSTAMP:20260426T003909
CREATED:20251024T182210Z
LAST-MODIFIED:20251024T182210Z
UID:10005684-1761674400-1761685200@farstabladet.se
SUMMARY:Halloweenkväll
DESCRIPTION:Nu är det höstlov och vi anordnar en mystisk och spöklik kväll på Forsängens fritidsgård. Missa inte! \n\nVi har halloweeninspirerade aktiviteter som till exempel spökhistorier\, läskiga utmaningar och mycket mer. \nDu behöver inte anmäla dig\, det är bara att komma förbi. \nVälkommen! \nFritidsgården Forsängen
URL:https://farstabladet.se/kalender/halloweenkvall/
LOCATION:Parkleken Forsängen\, Nordmarksvägen 31\, Farsta strand
ATTACH;FMTTYPE=image/jpeg:https://farstabladet.se/wp-content/uploads/2025/10/1-a01c66de.jpg
END:VEVENT
BEGIN:VEVENT
DTSTART;TZID=Europe/Paris:20251028T170000
DTEND;TZID=Europe/Paris:20251028T175500
DTSTAMP:20260426T003909
CREATED:20251024T174022Z
LAST-MODIFIED:20251024T174022Z
UID:10005683-1761670800-1761674100@farstabladet.se
SUMMARY:Box-pass
DESCRIPTION:För dig i åldern 13–19 år. Ta med en kompis och prova boxning gratis! \n\nBox ung är ett energifyllt pass inspirerat av boxning. Du får träna funktionellt med slag- och kickkombinationer. Ett svettigt och roligt pass! \nAnmälan\nDu anmäler dig i receptionen när du kommer. \nVälkommen! \nFarsta sim- och idrottshall \nAlla våra simhallar
URL:https://farstabladet.se/kalender/box-pass/
LOCATION:Farsta IP\, Farstaängsvägen 3\, Farsta\, Stockholm\, 12373\, Sweden
ATTACH;FMTTYPE=image/jpeg:https://farstabladet.se/wp-content/uploads/2025/10/1-99e69772.jpg
END:VEVENT
BEGIN:VEVENT
DTSTART;TZID=Europe/Paris:20251028T120000
DTEND;TZID=Europe/Paris:20251028T170000
DTSTAMP:20260426T003909
CREATED:20251024T172354Z
LAST-MODIFIED:20251024T172354Z
UID:10005680-1761652800-1761670800@farstabladet.se
SUMMARY:Prova på sportskytte
DESCRIPTION:Kom och prova på att skjuta med luftgevär! \n\nAktiviteten är till för dig som är 7–20 år. Är du 7–10 år behöver du ha en vuxen med dig. Du behöver inte ha några förkunskaper. Instruktioner ges på plats. \nAnmälan\nDet är drop-in och bara att komma förbi. Men om ni är en grupp på fler än fem personer kan det vara bra att reservera er plats i förväg. Har du en funktionsnedsättning? Kontakta oss på telefon för möjlighet och anmälan. \nTelefon: 08-503 533 80 \nHitta hit\nVi finns en trappa ner i Farsta sim- och idrottshall\, ring på dörren för insläpp. Sista insläpp är en timme innan stängning.
URL:https://farstabladet.se/kalender/prova-pa-sportskytte/
LOCATION:Farsta IP\, Farstaängsvägen 3\, Farsta\, Stockholm\, 12373\, Sweden
ATTACH;FMTTYPE=image/jpeg:https://farstabladet.se/wp-content/uploads/2025/10/1-1e49971f.jpg
END:VEVENT
BEGIN:VEVENT
DTSTART;TZID=Europe/Paris:20251027T120000
DTEND;TZID=Europe/Paris:20251029T150000
DTSTAMP:20260426T003909
CREATED:20251024T171840Z
LAST-MODIFIED:20251024T171840Z
UID:10005679-1761566400-1761750000@farstabladet.se
SUMMARY:Höstlov på Sköndalsgården
DESCRIPTION:Kom och ha kul på höstlovet! Vi har pingis\, pyssel\, pumpor\, spel och musik. \n\nSköndalsgården har höstlovsaktiviteter med ledare på plats. \nVi erbjuder instruktion till aktiviteterna och du behöver inte kunna något i förväg. Musiken vi lyssnar på har halloweentema. \nDet här är för dig som är 6–15 år. \nDu behöver inte anmäla dig. \nAktiviteter\nPingis – Det finns två pingisbord och pingisracket och bollar att låna. När det är många barn blir det ofta rundpingis. \nHalloweenpyssel – Vi pysslar med papper\, kartong\, silkespapper\, pennor\, saxar\, lim\, pärlor\, snöre\, där du skapar efter egen fantasi. \nPumpalyktor – Vi skär ut mönster i pumpor och dekorerar med tuschpennor. Observera\, begränsat antal. \nBrädspel – Vi spelar tillsammans. \nStörre barngrupper\, exempelvis från närliggande fritidshem\, behöver anmäla sig i förväg via e-post. \nE-post: info@skondalsgarden.se
URL:https://farstabladet.se/kalender/hostlov-pa-skondalsgarden/
LOCATION:Sköndalsgården\, Bagarfruvägen 44\, Sköndal
ATTACH;FMTTYPE=image/jpeg:https://farstabladet.se/wp-content/uploads/2025/10/1-ae9719c6.jpg
ORGANIZER;CN="Sk%C3%B6ndalsg%C3%A5rden":MAILTO:info@skondalsgarden.se
END:VEVENT
BEGIN:VEVENT
DTSTART;TZID=Europe/Paris:20251027T100000
DTEND;TZID=Europe/Paris:20251027T150000
DTSTAMP:20260426T003909
CREATED:20251024T171000Z
LAST-MODIFIED:20251024T171000Z
UID:10005677-1761559200-1761577200@farstabladet.se
SUMMARY:Capoeira\, akrobatik\, dans och basket
DESCRIPTION:Kom och var med på roliga aktiviteter tillsammans med oss! \n\nAktiviteterna är till för dig som är 7–12 år. Ta på dig bekväma kläder och kom hit och lek\, rör på dig och träffa nya vänner! \nDu kommer att få prova på: \n\nCapoeira\nAkrobatik\nDans\nBasket\n\nAlla aktiviteter är kostnadsfria och leds av erfarna instruktörer. \nDu behöver inte anmäla dig\, det är bra att komma. \nVälkommen!
URL:https://farstabladet.se/kalender/capoeira-akrobatik-dans-och-basket/
LOCATION:Mötesplats Fagersjö\, Ejdervägen 4\, Fagersjö
ATTACH;FMTTYPE=image/jpeg:https://farstabladet.se/wp-content/uploads/2025/10/1-7f6dd06f.jpg
END:VEVENT
BEGIN:VEVENT
DTSTART;TZID=Europe/Paris:20251027T100000
DTEND;TZID=Europe/Paris:20251027T150000
DTSTAMP:20260426T003909
CREATED:20251024T170620Z
LAST-MODIFIED:20251024T170620Z
UID:10005676-1761559200-1761577200@farstabladet.se
SUMMARY:Full Fart Farsta
DESCRIPTION:Vi håller idrottshallarna öppna under höstlovet. Kom till oss och rör på dig! \n\nDu kommer bland annat att få prova på: \n\nHinderbanor\nBollspel\nRacketsporter\n\nDet är gratis att vara med. \nDu behöver inte anmäla dig\, det är bara att komma förbi. \nVarmt välkommen att hoppa\, sporta och klättra tillsammans med oss!
URL:https://farstabladet.se/kalender/full-fart-farsta/
LOCATION:Farsta sim- och idrottshall\, Farstaängsvägen 3\, Farsta
ATTACH;FMTTYPE=image/webp:https://farstabladet.se/wp-content/uploads/2025/10/bild-full-fart-002-1.webp
END:VEVENT
BEGIN:VEVENT
DTSTART;TZID=Europe/Paris:20251027T100000
DTEND;TZID=Europe/Paris:20251027T110000
DTSTAMP:20260426T003909
CREATED:20251024T170300Z
LAST-MODIFIED:20251024T170300Z
UID:10005675-1761559200-1761562800@farstabladet.se
SUMMARY:Prova på taido
DESCRIPTION:Kom och prova på den japanska akrobatiska kampsporten taido! \n\nDu får prova på slag\, sparkar\, kullerbyttor och hjulningar. \nFör dig i åldern 8–12 år. \nDu behöver inte anmäla dig i förväg\, det är bara att komma. Ta på dig oömma kläder. \nVälkommen!
URL:https://farstabladet.se/kalender/prova-pa-taido/
ATTACH;FMTTYPE=image/webp:https://farstabladet.se/wp-content/uploads/2025/10/taido.webp
END:VEVENT
BEGIN:VEVENT
DTSTART;TZID=Europe/Paris:20251026T150000
DTEND;TZID=Europe/Paris:20251026T170000
DTSTAMP:20260426T003909
CREATED:20250915T050929Z
LAST-MODIFIED:20250915T050929Z
UID:10004387-1761490800-1761498000@farstabladet.se
SUMMARY:Futsal\, Svenska Futsalligan\, Söder Futsal - Kalmar United FK
DESCRIPTION:Kom och stötta Söder i Farstahallen!\n 
URL:https://farstabladet.se/kalender/futsal-svenska-futsalligan-soder-futsal-kalmar-united-fk/
LOCATION:Farsta sim- och idrottshall\, Farstaängsvägen 3\, Farsta
CATEGORIES:Futsal,Sport
ATTACH;FMTTYPE=image/png:https://farstabladet.se/wp-content/uploads/2025/09/Soder-Futsal.png
END:VEVENT
BEGIN:VEVENT
DTSTART;TZID=Europe/Paris:20251026T090000
DTEND;TZID=Europe/Paris:20251026T160000
DTSTAMP:20260426T003909
CREATED:20250815T061913Z
LAST-MODIFIED:20250826T083631Z
UID:10004346-1761469200-1761494400@farstabladet.se
SUMMARY:Farsta Cupen 2025
DESCRIPTION:Varmt välkomna till Farsta Cupen i höst! Årets ungdomsturnering i fotboll för barn. \nKom förbi\, titta och heja när barnen spelar! Handla gärna i kiosken eller köp din lokala FOC-merch.
URL:https://farstabladet.se/kalender/farsta-cupen-2025/2025-10-26/
LOCATION:Farsta IP\, Farstaängsvägen 3\, Farsta\, Stockholm\, 12373\, Sweden
CATEGORIES:Fotboll,Sport,Stadsdelsdagar
ATTACH;FMTTYPE=image/jpeg:https://farstabladet.se/wp-content/uploads/2025/08/IMG_2176-1.jpeg
ORGANIZER;CN="FoC Farsta Fotboll":MAILTO:kansli@focfarstafotboll.se
END:VEVENT
BEGIN:VEVENT
DTSTART;TZID=Europe/Paris:20251018T120000
DTEND;TZID=Europe/Paris:20251127T170000
DTSTAMP:20260426T003909
CREATED:20251009T130948Z
LAST-MODIFIED:20251009T130948Z
UID:10005517-1760788800-1764262800@farstabladet.se
SUMMARY:Utställning: Målargruppen Finnboda Trädgårdar
DESCRIPTION:Målargruppen Finnboda Trädgårdar bildades hösten 2022. Den består av 11 seniorer med olika bakgrund. Inom måleri är en del nybörjare och andra mer erfarna. Gruppen arbetar i olika material och tekniker. Utställningen visar ett verk var av medlemmarna.\n\nVernissage med konstnärerna lördag 18 oktober kl 12-13
URL:https://farstabladet.se/kalender/utstallning-malargruppen-finnboda-tradgardar/
LOCATION:Galleri Tegelväggen\, Sköndalsvägen 83\,\, Sköndal
CATEGORIES:Konst,Kultur
ATTACH;FMTTYPE=image/jpeg:https://farstabladet.se/wp-content/uploads/2025/10/galleri-Tegelvaggen-okt-2025-1.jpg
END:VEVENT
END:VCALENDAR