BEGIN:VCALENDAR
VERSION:2.0
PRODID:-//Farsta-Kalendern - ECPv6.15.20//NONSGML v1.0//EN
CALSCALE:GREGORIAN
METHOD:PUBLISH
X-WR-CALNAME:Farsta-Kalendern
X-ORIGINAL-URL:https://farstabladet.se
X-WR-CALDESC:Händelser för Farsta-Kalendern
REFRESH-INTERVAL;VALUE=DURATION:PT1H
X-Robots-Tag:noindex
X-PUBLISHED-TTL:PT1H
BEGIN:VTIMEZONE
TZID:Europe/Paris
BEGIN:DAYLIGHT
TZOFFSETFROM:+0100
TZOFFSETTO:+0200
TZNAME:CEST
DTSTART:20260329T010000
END:DAYLIGHT
BEGIN:STANDARD
TZOFFSETFROM:+0200
TZOFFSETTO:+0100
TZNAME:CET
DTSTART:20261025T010000
END:STANDARD
BEGIN:DAYLIGHT
TZOFFSETFROM:+0100
TZOFFSETTO:+0200
TZNAME:CEST
DTSTART:20270328T010000
END:DAYLIGHT
BEGIN:STANDARD
TZOFFSETFROM:+0200
TZOFFSETTO:+0100
TZNAME:CET
DTSTART:20271031T010000
END:STANDARD
BEGIN:DAYLIGHT
TZOFFSETFROM:+0100
TZOFFSETTO:+0200
TZNAME:CEST
DTSTART:20280326T010000
END:DAYLIGHT
BEGIN:STANDARD
TZOFFSETFROM:+0200
TZOFFSETTO:+0100
TZNAME:CET
DTSTART:20281029T010000
END:STANDARD
END:VTIMEZONE
BEGIN:VEVENT
DTSTART;TZID=Europe/Paris:20270118T130000
DTEND;TZID=Europe/Paris:20270118T200000
DTSTAMP:20260419T152804
CREATED:20260323T092305Z
LAST-MODIFIED:20260323T092557Z
UID:10007198-1800277200-1800302400@farstabladet.se
SUMMARY:Gymma på Farsta sim- och idrottshall
DESCRIPTION:Är du 13–19 år? Kickstarta träningen under påsklovet\, ta med en kompis och häng med våra ungdomsinspiratörer!\nHäng med våra ungdomsinspiratörer. \nVill du ha hjälp med övningar eller få en rundtur? Oavsett om du är helt ny eller vill ha nya tips finns vi på plats i övre gymmet för att peppa och guida dig. \nDu behöver inte boka plats. Det är bara att dyka upp. \nVälkommen till vårt gym! \nAlla våra simhallar \n 
URL:https://farstabladet.se/kalender/gymma-pa-farsta-sim-och-idrottshall/2027-01-18/
LOCATION:Farsta sim- och idrottshall\, Farstaängsvägen 3\, Farsta
CATEGORIES:Påsklov i Farsta,Sport,Ungdom
ATTACH;FMTTYPE=image/webp:https://farstabladet.se/wp-content/uploads/2026/03/20260126_1508156.webp
END:VEVENT
BEGIN:VEVENT
DTSTART;TZID=Europe/Paris:20270119T130000
DTEND;TZID=Europe/Paris:20270119T200000
DTSTAMP:20260419T152804
CREATED:20260323T092305Z
LAST-MODIFIED:20260323T092557Z
UID:10007199-1800363600-1800388800@farstabladet.se
SUMMARY:Gymma på Farsta sim- och idrottshall
DESCRIPTION:Är du 13–19 år? Kickstarta träningen under påsklovet\, ta med en kompis och häng med våra ungdomsinspiratörer!\nHäng med våra ungdomsinspiratörer. \nVill du ha hjälp med övningar eller få en rundtur? Oavsett om du är helt ny eller vill ha nya tips finns vi på plats i övre gymmet för att peppa och guida dig. \nDu behöver inte boka plats. Det är bara att dyka upp. \nVälkommen till vårt gym! \nAlla våra simhallar \n 
URL:https://farstabladet.se/kalender/gymma-pa-farsta-sim-och-idrottshall/2027-01-19/
LOCATION:Farsta sim- och idrottshall\, Farstaängsvägen 3\, Farsta
CATEGORIES:Påsklov i Farsta,Sport,Ungdom
ATTACH;FMTTYPE=image/webp:https://farstabladet.se/wp-content/uploads/2026/03/20260126_1508156.webp
END:VEVENT
BEGIN:VEVENT
DTSTART;TZID=Europe/Paris:20270120T130000
DTEND;TZID=Europe/Paris:20270120T200000
DTSTAMP:20260419T152804
CREATED:20260323T092305Z
LAST-MODIFIED:20260323T092557Z
UID:10007200-1800450000-1800475200@farstabladet.se
SUMMARY:Gymma på Farsta sim- och idrottshall
DESCRIPTION:Är du 13–19 år? Kickstarta träningen under påsklovet\, ta med en kompis och häng med våra ungdomsinspiratörer!\nHäng med våra ungdomsinspiratörer. \nVill du ha hjälp med övningar eller få en rundtur? Oavsett om du är helt ny eller vill ha nya tips finns vi på plats i övre gymmet för att peppa och guida dig. \nDu behöver inte boka plats. Det är bara att dyka upp. \nVälkommen till vårt gym! \nAlla våra simhallar \n 
URL:https://farstabladet.se/kalender/gymma-pa-farsta-sim-och-idrottshall/2027-01-20/
LOCATION:Farsta sim- och idrottshall\, Farstaängsvägen 3\, Farsta
CATEGORIES:Påsklov i Farsta,Sport,Ungdom
ATTACH;FMTTYPE=image/webp:https://farstabladet.se/wp-content/uploads/2026/03/20260126_1508156.webp
END:VEVENT
BEGIN:VEVENT
DTSTART;TZID=Europe/Paris:20270121T130000
DTEND;TZID=Europe/Paris:20270121T200000
DTSTAMP:20260419T152804
CREATED:20260323T092305Z
LAST-MODIFIED:20260323T092557Z
UID:10007201-1800536400-1800561600@farstabladet.se
SUMMARY:Gymma på Farsta sim- och idrottshall
DESCRIPTION:Är du 13–19 år? Kickstarta träningen under påsklovet\, ta med en kompis och häng med våra ungdomsinspiratörer!\nHäng med våra ungdomsinspiratörer. \nVill du ha hjälp med övningar eller få en rundtur? Oavsett om du är helt ny eller vill ha nya tips finns vi på plats i övre gymmet för att peppa och guida dig. \nDu behöver inte boka plats. Det är bara att dyka upp. \nVälkommen till vårt gym! \nAlla våra simhallar \n 
URL:https://farstabladet.se/kalender/gymma-pa-farsta-sim-och-idrottshall/2027-01-21/
LOCATION:Farsta sim- och idrottshall\, Farstaängsvägen 3\, Farsta
CATEGORIES:Påsklov i Farsta,Sport,Ungdom
ATTACH;FMTTYPE=image/webp:https://farstabladet.se/wp-content/uploads/2026/03/20260126_1508156.webp
END:VEVENT
BEGIN:VEVENT
DTSTART;TZID=Europe/Paris:20270122T130000
DTEND;TZID=Europe/Paris:20270122T200000
DTSTAMP:20260419T152804
CREATED:20260323T092305Z
LAST-MODIFIED:20260323T092557Z
UID:10007202-1800622800-1800648000@farstabladet.se
SUMMARY:Gymma på Farsta sim- och idrottshall
DESCRIPTION:Är du 13–19 år? Kickstarta träningen under påsklovet\, ta med en kompis och häng med våra ungdomsinspiratörer!\nHäng med våra ungdomsinspiratörer. \nVill du ha hjälp med övningar eller få en rundtur? Oavsett om du är helt ny eller vill ha nya tips finns vi på plats i övre gymmet för att peppa och guida dig. \nDu behöver inte boka plats. Det är bara att dyka upp. \nVälkommen till vårt gym! \nAlla våra simhallar \n 
URL:https://farstabladet.se/kalender/gymma-pa-farsta-sim-och-idrottshall/2027-01-22/
LOCATION:Farsta sim- och idrottshall\, Farstaängsvägen 3\, Farsta
CATEGORIES:Påsklov i Farsta,Sport,Ungdom
ATTACH;FMTTYPE=image/webp:https://farstabladet.se/wp-content/uploads/2026/03/20260126_1508156.webp
END:VEVENT
BEGIN:VEVENT
DTSTART;TZID=Europe/Paris:20270123T130000
DTEND;TZID=Europe/Paris:20270123T200000
DTSTAMP:20260419T152804
CREATED:20260323T092305Z
LAST-MODIFIED:20260323T092557Z
UID:10007203-1800709200-1800734400@farstabladet.se
SUMMARY:Gymma på Farsta sim- och idrottshall
DESCRIPTION:Är du 13–19 år? Kickstarta träningen under påsklovet\, ta med en kompis och häng med våra ungdomsinspiratörer!\nHäng med våra ungdomsinspiratörer. \nVill du ha hjälp med övningar eller få en rundtur? Oavsett om du är helt ny eller vill ha nya tips finns vi på plats i övre gymmet för att peppa och guida dig. \nDu behöver inte boka plats. Det är bara att dyka upp. \nVälkommen till vårt gym! \nAlla våra simhallar \n 
URL:https://farstabladet.se/kalender/gymma-pa-farsta-sim-och-idrottshall/2027-01-23/
LOCATION:Farsta sim- och idrottshall\, Farstaängsvägen 3\, Farsta
CATEGORIES:Påsklov i Farsta,Sport,Ungdom
ATTACH;FMTTYPE=image/webp:https://farstabladet.se/wp-content/uploads/2026/03/20260126_1508156.webp
END:VEVENT
BEGIN:VEVENT
DTSTART;TZID=Europe/Paris:20270124T130000
DTEND;TZID=Europe/Paris:20270124T200000
DTSTAMP:20260419T152804
CREATED:20260323T092305Z
LAST-MODIFIED:20260323T092557Z
UID:10007204-1800795600-1800820800@farstabladet.se
SUMMARY:Gymma på Farsta sim- och idrottshall
DESCRIPTION:Är du 13–19 år? Kickstarta träningen under påsklovet\, ta med en kompis och häng med våra ungdomsinspiratörer!\nHäng med våra ungdomsinspiratörer. \nVill du ha hjälp med övningar eller få en rundtur? Oavsett om du är helt ny eller vill ha nya tips finns vi på plats i övre gymmet för att peppa och guida dig. \nDu behöver inte boka plats. Det är bara att dyka upp. \nVälkommen till vårt gym! \nAlla våra simhallar \n 
URL:https://farstabladet.se/kalender/gymma-pa-farsta-sim-och-idrottshall/2027-01-24/
LOCATION:Farsta sim- och idrottshall\, Farstaängsvägen 3\, Farsta
CATEGORIES:Påsklov i Farsta,Sport,Ungdom
ATTACH;FMTTYPE=image/webp:https://farstabladet.se/wp-content/uploads/2026/03/20260126_1508156.webp
END:VEVENT
END:VCALENDAR