BEGIN:VCALENDAR
VERSION:2.0
PRODID:-//Farsta-Kalendern - ECPv6.15.20//NONSGML v1.0//EN
CALSCALE:GREGORIAN
METHOD:PUBLISH
X-WR-CALNAME:Farsta-Kalendern
X-ORIGINAL-URL:https://farstabladet.se
X-WR-CALDESC:Händelser för Farsta-Kalendern
REFRESH-INTERVAL;VALUE=DURATION:PT1H
X-Robots-Tag:noindex
X-PUBLISHED-TTL:PT1H
BEGIN:VTIMEZONE
TZID:Europe/Paris
BEGIN:DAYLIGHT
TZOFFSETFROM:+0100
TZOFFSETTO:+0200
TZNAME:CEST
DTSTART:20260329T010000
END:DAYLIGHT
BEGIN:STANDARD
TZOFFSETFROM:+0200
TZOFFSETTO:+0100
TZNAME:CET
DTSTART:20261025T010000
END:STANDARD
BEGIN:DAYLIGHT
TZOFFSETFROM:+0100
TZOFFSETTO:+0200
TZNAME:CEST
DTSTART:20270328T010000
END:DAYLIGHT
BEGIN:STANDARD
TZOFFSETFROM:+0200
TZOFFSETTO:+0100
TZNAME:CET
DTSTART:20271031T010000
END:STANDARD
BEGIN:DAYLIGHT
TZOFFSETFROM:+0100
TZOFFSETTO:+0200
TZNAME:CEST
DTSTART:20280326T010000
END:DAYLIGHT
BEGIN:STANDARD
TZOFFSETFROM:+0200
TZOFFSETTO:+0100
TZNAME:CET
DTSTART:20281029T010000
END:STANDARD
END:VTIMEZONE
BEGIN:VEVENT
DTSTART;TZID=Europe/Paris:20270301T130000
DTEND;TZID=Europe/Paris:20270301T200000
DTSTAMP:20260420T010821
CREATED:20260323T092305Z
LAST-MODIFIED:20260323T092557Z
UID:10007240-1803906000-1803931200@farstabladet.se
SUMMARY:Gymma på Farsta sim- och idrottshall
DESCRIPTION:Är du 13–19 år? Kickstarta träningen under påsklovet\, ta med en kompis och häng med våra ungdomsinspiratörer!\nHäng med våra ungdomsinspiratörer. \nVill du ha hjälp med övningar eller få en rundtur? Oavsett om du är helt ny eller vill ha nya tips finns vi på plats i övre gymmet för att peppa och guida dig. \nDu behöver inte boka plats. Det är bara att dyka upp. \nVälkommen till vårt gym! \nAlla våra simhallar \n 
URL:https://farstabladet.se/kalender/gymma-pa-farsta-sim-och-idrottshall/2027-03-01/
LOCATION:Farsta sim- och idrottshall\, Farstaängsvägen 3\, Farsta
CATEGORIES:Påsklov i Farsta,Sport,Ungdom
ATTACH;FMTTYPE=image/webp:https://farstabladet.se/wp-content/uploads/2026/03/20260126_1508156.webp
END:VEVENT
BEGIN:VEVENT
DTSTART;TZID=Europe/Paris:20270302T130000
DTEND;TZID=Europe/Paris:20270302T200000
DTSTAMP:20260420T010821
CREATED:20260323T092305Z
LAST-MODIFIED:20260323T092557Z
UID:10007241-1803992400-1804017600@farstabladet.se
SUMMARY:Gymma på Farsta sim- och idrottshall
DESCRIPTION:Är du 13–19 år? Kickstarta träningen under påsklovet\, ta med en kompis och häng med våra ungdomsinspiratörer!\nHäng med våra ungdomsinspiratörer. \nVill du ha hjälp med övningar eller få en rundtur? Oavsett om du är helt ny eller vill ha nya tips finns vi på plats i övre gymmet för att peppa och guida dig. \nDu behöver inte boka plats. Det är bara att dyka upp. \nVälkommen till vårt gym! \nAlla våra simhallar \n 
URL:https://farstabladet.se/kalender/gymma-pa-farsta-sim-och-idrottshall/2027-03-02/
LOCATION:Farsta sim- och idrottshall\, Farstaängsvägen 3\, Farsta
CATEGORIES:Påsklov i Farsta,Sport,Ungdom
ATTACH;FMTTYPE=image/webp:https://farstabladet.se/wp-content/uploads/2026/03/20260126_1508156.webp
END:VEVENT
BEGIN:VEVENT
DTSTART;TZID=Europe/Paris:20270303T130000
DTEND;TZID=Europe/Paris:20270303T200000
DTSTAMP:20260420T010821
CREATED:20260323T092305Z
LAST-MODIFIED:20260323T092557Z
UID:10007242-1804078800-1804104000@farstabladet.se
SUMMARY:Gymma på Farsta sim- och idrottshall
DESCRIPTION:Är du 13–19 år? Kickstarta träningen under påsklovet\, ta med en kompis och häng med våra ungdomsinspiratörer!\nHäng med våra ungdomsinspiratörer. \nVill du ha hjälp med övningar eller få en rundtur? Oavsett om du är helt ny eller vill ha nya tips finns vi på plats i övre gymmet för att peppa och guida dig. \nDu behöver inte boka plats. Det är bara att dyka upp. \nVälkommen till vårt gym! \nAlla våra simhallar \n 
URL:https://farstabladet.se/kalender/gymma-pa-farsta-sim-och-idrottshall/2027-03-03/
LOCATION:Farsta sim- och idrottshall\, Farstaängsvägen 3\, Farsta
CATEGORIES:Påsklov i Farsta,Sport,Ungdom
ATTACH;FMTTYPE=image/webp:https://farstabladet.se/wp-content/uploads/2026/03/20260126_1508156.webp
END:VEVENT
BEGIN:VEVENT
DTSTART;TZID=Europe/Paris:20270304T130000
DTEND;TZID=Europe/Paris:20270304T200000
DTSTAMP:20260420T010821
CREATED:20260323T092305Z
LAST-MODIFIED:20260323T092557Z
UID:10007243-1804165200-1804190400@farstabladet.se
SUMMARY:Gymma på Farsta sim- och idrottshall
DESCRIPTION:Är du 13–19 år? Kickstarta träningen under påsklovet\, ta med en kompis och häng med våra ungdomsinspiratörer!\nHäng med våra ungdomsinspiratörer. \nVill du ha hjälp med övningar eller få en rundtur? Oavsett om du är helt ny eller vill ha nya tips finns vi på plats i övre gymmet för att peppa och guida dig. \nDu behöver inte boka plats. Det är bara att dyka upp. \nVälkommen till vårt gym! \nAlla våra simhallar \n 
URL:https://farstabladet.se/kalender/gymma-pa-farsta-sim-och-idrottshall/2027-03-04/
LOCATION:Farsta sim- och idrottshall\, Farstaängsvägen 3\, Farsta
CATEGORIES:Påsklov i Farsta,Sport,Ungdom
ATTACH;FMTTYPE=image/webp:https://farstabladet.se/wp-content/uploads/2026/03/20260126_1508156.webp
END:VEVENT
BEGIN:VEVENT
DTSTART;TZID=Europe/Paris:20270305T130000
DTEND;TZID=Europe/Paris:20270305T200000
DTSTAMP:20260420T010821
CREATED:20260323T092305Z
LAST-MODIFIED:20260323T092557Z
UID:10007244-1804251600-1804276800@farstabladet.se
SUMMARY:Gymma på Farsta sim- och idrottshall
DESCRIPTION:Är du 13–19 år? Kickstarta träningen under påsklovet\, ta med en kompis och häng med våra ungdomsinspiratörer!\nHäng med våra ungdomsinspiratörer. \nVill du ha hjälp med övningar eller få en rundtur? Oavsett om du är helt ny eller vill ha nya tips finns vi på plats i övre gymmet för att peppa och guida dig. \nDu behöver inte boka plats. Det är bara att dyka upp. \nVälkommen till vårt gym! \nAlla våra simhallar \n 
URL:https://farstabladet.se/kalender/gymma-pa-farsta-sim-och-idrottshall/2027-03-05/
LOCATION:Farsta sim- och idrottshall\, Farstaängsvägen 3\, Farsta
CATEGORIES:Påsklov i Farsta,Sport,Ungdom
ATTACH;FMTTYPE=image/webp:https://farstabladet.se/wp-content/uploads/2026/03/20260126_1508156.webp
END:VEVENT
BEGIN:VEVENT
DTSTART;TZID=Europe/Paris:20270306T130000
DTEND;TZID=Europe/Paris:20270306T200000
DTSTAMP:20260420T010821
CREATED:20260323T092305Z
LAST-MODIFIED:20260323T092557Z
UID:10007245-1804338000-1804363200@farstabladet.se
SUMMARY:Gymma på Farsta sim- och idrottshall
DESCRIPTION:Är du 13–19 år? Kickstarta träningen under påsklovet\, ta med en kompis och häng med våra ungdomsinspiratörer!\nHäng med våra ungdomsinspiratörer. \nVill du ha hjälp med övningar eller få en rundtur? Oavsett om du är helt ny eller vill ha nya tips finns vi på plats i övre gymmet för att peppa och guida dig. \nDu behöver inte boka plats. Det är bara att dyka upp. \nVälkommen till vårt gym! \nAlla våra simhallar \n 
URL:https://farstabladet.se/kalender/gymma-pa-farsta-sim-och-idrottshall/2027-03-06/
LOCATION:Farsta sim- och idrottshall\, Farstaängsvägen 3\, Farsta
CATEGORIES:Påsklov i Farsta,Sport,Ungdom
ATTACH;FMTTYPE=image/webp:https://farstabladet.se/wp-content/uploads/2026/03/20260126_1508156.webp
END:VEVENT
BEGIN:VEVENT
DTSTART;TZID=Europe/Paris:20270307T130000
DTEND;TZID=Europe/Paris:20270307T200000
DTSTAMP:20260420T010821
CREATED:20260323T092305Z
LAST-MODIFIED:20260323T092557Z
UID:10007246-1804424400-1804449600@farstabladet.se
SUMMARY:Gymma på Farsta sim- och idrottshall
DESCRIPTION:Är du 13–19 år? Kickstarta träningen under påsklovet\, ta med en kompis och häng med våra ungdomsinspiratörer!\nHäng med våra ungdomsinspiratörer. \nVill du ha hjälp med övningar eller få en rundtur? Oavsett om du är helt ny eller vill ha nya tips finns vi på plats i övre gymmet för att peppa och guida dig. \nDu behöver inte boka plats. Det är bara att dyka upp. \nVälkommen till vårt gym! \nAlla våra simhallar \n 
URL:https://farstabladet.se/kalender/gymma-pa-farsta-sim-och-idrottshall/2027-03-07/
LOCATION:Farsta sim- och idrottshall\, Farstaängsvägen 3\, Farsta
CATEGORIES:Påsklov i Farsta,Sport,Ungdom
ATTACH;FMTTYPE=image/webp:https://farstabladet.se/wp-content/uploads/2026/03/20260126_1508156.webp
END:VEVENT
END:VCALENDAR