BEGIN:VCALENDAR
VERSION:2.0
PRODID:-//Farsta-Kalendern - ECPv6.15.20//NONSGML v1.0//EN
CALSCALE:GREGORIAN
METHOD:PUBLISH
X-ORIGINAL-URL:https://farstabladet.se
X-WR-CALDESC:Händelser för Farsta-Kalendern
REFRESH-INTERVAL;VALUE=DURATION:PT1H
X-Robots-Tag:noindex
X-PUBLISHED-TTL:PT1H
BEGIN:VTIMEZONE
TZID:Europe/Paris
BEGIN:DAYLIGHT
TZOFFSETFROM:+0100
TZOFFSETTO:+0200
TZNAME:CEST
DTSTART:20250330T010000
END:DAYLIGHT
BEGIN:STANDARD
TZOFFSETFROM:+0200
TZOFFSETTO:+0100
TZNAME:CET
DTSTART:20251026T010000
END:STANDARD
BEGIN:DAYLIGHT
TZOFFSETFROM:+0100
TZOFFSETTO:+0200
TZNAME:CEST
DTSTART:20260329T010000
END:DAYLIGHT
BEGIN:STANDARD
TZOFFSETFROM:+0200
TZOFFSETTO:+0100
TZNAME:CET
DTSTART:20261025T010000
END:STANDARD
BEGIN:DAYLIGHT
TZOFFSETFROM:+0100
TZOFFSETTO:+0200
TZNAME:CEST
DTSTART:20270328T010000
END:DAYLIGHT
BEGIN:STANDARD
TZOFFSETFROM:+0200
TZOFFSETTO:+0100
TZNAME:CET
DTSTART:20271031T010000
END:STANDARD
END:VTIMEZONE
BEGIN:VEVENT
DTSTART;TZID=Europe/Paris:20260321T140000
DTEND;TZID=Europe/Paris:20260321T150000
DTSTAMP:20260419T150947
CREATED:20260304T152856Z
LAST-MODIFIED:20260304T152856Z
UID:10006849-1774101600-1774105200@farstabladet.se
SUMMARY:Boksamtal med Fabian Göransson\, ”Klara: Teknokraternas plan”
DESCRIPTION:Klara: Teknokraternas plan – Boksamtal och signering med författaren och serieskaparen Fabian Göranson \nFörfattaren Fabian Göranson kommer till Bokskogen i samband med släppet av Teknokraternas plan\, del två i serien om den orädda och streetsmarta frihetskämpen Klara. Det blir prat om boken och signering. Fabian visar dessutom originalbilder från serien. Böckerna passar från ca 8 år\, men alla åldrar är välkomna. \n21 mars kl 14.00-15.00\nBokskogen barn- och ungdomsbokhandel\, Pepparvägen 9a\, Hökarängens C
URL:https://farstabladet.se/kalender/boksamtal-med-fabian-goransson-klara-teknokraternas-plan/
LOCATION:Bokskogen bokhandel\, Pepparvägen 9A\, Hökarängen
CATEGORIES:Författarsamtal,Kultur
ATTACH;FMTTYPE=image/jpeg:https://farstabladet.se/wp-content/uploads/2026/03/IMG_3327.jpeg
END:VEVENT
END:VCALENDAR