BEGIN:VCALENDAR
VERSION:2.0
PRODID:-//Farsta-Kalendern - ECPv6.15.20//NONSGML v1.0//EN
CALSCALE:GREGORIAN
METHOD:PUBLISH
X-ORIGINAL-URL:https://farstabladet.se
X-WR-CALDESC:Händelser för Farsta-Kalendern
REFRESH-INTERVAL;VALUE=DURATION:PT1H
X-Robots-Tag:noindex
X-PUBLISHED-TTL:PT1H
BEGIN:VTIMEZONE
TZID:Europe/Paris
BEGIN:DAYLIGHT
TZOFFSETFROM:+0100
TZOFFSETTO:+0200
TZNAME:CEST
DTSTART:20250330T010000
END:DAYLIGHT
BEGIN:STANDARD
TZOFFSETFROM:+0200
TZOFFSETTO:+0100
TZNAME:CET
DTSTART:20251026T010000
END:STANDARD
BEGIN:DAYLIGHT
TZOFFSETFROM:+0100
TZOFFSETTO:+0200
TZNAME:CEST
DTSTART:20260329T010000
END:DAYLIGHT
BEGIN:STANDARD
TZOFFSETFROM:+0200
TZOFFSETTO:+0100
TZNAME:CET
DTSTART:20261025T010000
END:STANDARD
BEGIN:DAYLIGHT
TZOFFSETFROM:+0100
TZOFFSETTO:+0200
TZNAME:CEST
DTSTART:20270328T010000
END:DAYLIGHT
BEGIN:STANDARD
TZOFFSETFROM:+0200
TZOFFSETTO:+0100
TZNAME:CET
DTSTART:20271031T010000
END:STANDARD
END:VTIMEZONE
BEGIN:VEVENT
DTSTART;VALUE=DATE:20260519
DTEND;VALUE=DATE:20260520
DTSTAMP:20260423T013936
CREATED:20260422T090758Z
LAST-MODIFIED:20260422T090758Z
UID:10007399-1779148800-1779235199@farstabladet.se
SUMMARY:Gemenskapsträff Farsta strand\,  Brunskogsbacken
DESCRIPTION:Farsta stadsdelsnämnd anordnar – tillsammans med Stockholms stadsmission\, Svenska kyrkan\, Polisen och Familjebostäder – regelbundna gemenskapsträffar i Farsta strand. Syftet är att skapa en trevlig stund mellan grannarna i området och få en chans att samtala med de yrkespersoner som arbetar med trygghet i området. Har du idéer om hur Farsta strand kan bli en ännu bättre plats att bo och leva på\, passa på att prata med arrangörerna.
URL:https://farstabladet.se/kalender/gemenskapstraff-farsta-strand-brunskogsbacken/
LOCATION:Brunskogsbacken\, Brunskogsbacken\, Farsta\, Stockholm\, Sweden
CATEGORIES:Äldre,Barn,Familj,Förälder,Funkis,Kultur,Politik och samhälle,Samråd,Senior/äldre,Ungdom
ATTACH;FMTTYPE=image/jpeg:https://farstabladet.se/wp-content/uploads/2025/03/Gemenskapstraff-Farsta-strand-2.jpg
ORGANIZER;CN="Farsta stadsdelsn%C3%A4mnd - Stockholms stad":MAILTO:farsta@stockholm.se
END:VEVENT
END:VCALENDAR