BEGIN:VCALENDAR
VERSION:2.0
PRODID:-//Farsta-Kalendern - ECPv6.15.20//NONSGML v1.0//EN
CALSCALE:GREGORIAN
METHOD:PUBLISH
X-ORIGINAL-URL:https://farstabladet.se
X-WR-CALDESC:Händelser för Farsta-Kalendern
REFRESH-INTERVAL;VALUE=DURATION:PT1H
X-Robots-Tag:noindex
X-PUBLISHED-TTL:PT1H
BEGIN:VTIMEZONE
TZID:Europe/Paris
BEGIN:DAYLIGHT
TZOFFSETFROM:+0100
TZOFFSETTO:+0200
TZNAME:CEST
DTSTART:20240331T010000
END:DAYLIGHT
BEGIN:STANDARD
TZOFFSETFROM:+0200
TZOFFSETTO:+0100
TZNAME:CET
DTSTART:20241027T010000
END:STANDARD
BEGIN:DAYLIGHT
TZOFFSETFROM:+0100
TZOFFSETTO:+0200
TZNAME:CEST
DTSTART:20250330T010000
END:DAYLIGHT
BEGIN:STANDARD
TZOFFSETFROM:+0200
TZOFFSETTO:+0100
TZNAME:CET
DTSTART:20251026T010000
END:STANDARD
BEGIN:DAYLIGHT
TZOFFSETFROM:+0100
TZOFFSETTO:+0200
TZNAME:CEST
DTSTART:20260329T010000
END:DAYLIGHT
BEGIN:STANDARD
TZOFFSETFROM:+0200
TZOFFSETTO:+0100
TZNAME:CET
DTSTART:20261025T010000
END:STANDARD
BEGIN:DAYLIGHT
TZOFFSETFROM:+0100
TZOFFSETTO:+0200
TZNAME:CEST
DTSTART:20270328T010000
END:DAYLIGHT
BEGIN:STANDARD
TZOFFSETFROM:+0200
TZOFFSETTO:+0100
TZNAME:CET
DTSTART:20271031T010000
END:STANDARD
END:VTIMEZONE
BEGIN:VEVENT
DTSTART;TZID=Europe/Paris:20260419T180000
DTEND;TZID=Europe/Paris:20260419T200000
DTSTAMP:20260419T233608
CREATED:20260327T092148Z
LAST-MODIFIED:20260327T143418Z
UID:10007328-1776621600-1776628800@farstabladet.se
SUMMARY:Fotboll\, Div. 4 Dam\, FoC Farsta FF - Ösmo GIF FK
DESCRIPTION:Kom och stötta FoC Farsta!\n 
URL:https://farstabladet.se/kalender/fotboll-div-4-dam-foc-farsta-ff-osmo-gif-fk/
LOCATION:Farsta IP\, Farstaängsvägen 3\, Farsta\, Stockholm\, 12373\, Sweden
CATEGORIES:Fotboll,Sport
ATTACH;FMTTYPE=image/jpeg:https://farstabladet.se/wp-content/uploads/2026/03/FOC-pin-2025.jpg
ORGANIZER;CN="FoC Farsta Fotboll":MAILTO:kansli@focfarstafotboll.se
END:VEVENT
BEGIN:VEVENT
DTSTART;TZID=Europe/Paris:20260407T100000
DTEND;TZID=Europe/Paris:20260410T160000
DTSTAMP:20260419T233608
CREATED:20260323T091716Z
LAST-MODIFIED:20260323T091716Z
UID:10006910-1775556000-1775836800@farstabladet.se
SUMMARY:Påsklovsbasket
DESCRIPTION:Välkommen att vara med på öppen basketträning!\n\nVi håller till i hall 3 och 4 vid Farsta idrottsplats. Det är gratis och du behöver inte föranmäla dig. \nTa med vattenflaska\, inomhusskor och egen boll (om du har). Det finns även att låna på plats. \nHall 4: Basketen är ledarstyrd och det är fokus på individuell teknik. \n\n10.00–11.00: pojkar och flickor födda 2013–2014\n11.00–12.00: pojkar och flickor födda 2012\n12.00–13.00: pojkar och flickor födda 2010–2011\n13.00–16.00: Open Court\n\nHall 3: Det är Open Court\, fritt spel och ledare finns på plats. \n\n11.00–16.00: Open Court\n\nKontakt\nE-post: kansli@hammarbybasket.se \nBesäk gärna vår webbplats: \nHammarby baskets webbplats
URL:https://farstabladet.se/kalender/pasklovsbasket/
LOCATION:Farsta IP\, Farstaängsvägen 3\, Farsta\, Stockholm\, 12373\, Sweden
CATEGORIES:Barn,Basket,Ungdom
ATTACH;FMTTYPE=image/webp:https://farstabladet.se/wp-content/uploads/2026/03/basket.webp
ORGANIZER;CN="Hammarby IF Basket":MAILTO:kansli@hammarbybasket.se
END:VEVENT
BEGIN:VEVENT
DTSTART;TZID=Europe/Paris:20260110T180000
DTEND;TZID=Europe/Paris:20260110T200000
DTSTAMP:20260419T233608
CREATED:20260108T102934Z
LAST-MODIFIED:20260108T102934Z
UID:10006500-1768068000-1768075200@farstabladet.se
SUMMARY:Skridskodisco
DESCRIPTION:FOC Farsta Team 17 bjuder in till skridskofest. \nFörsäljning av varm choklad\, läsk\, godis etc. sker på plats. \nAlla måste ha hjälm skridskor (finns att hyra på plats). \nVälkomna!
URL:https://farstabladet.se/kalender/skridskodisco/
LOCATION:Farsta IP\, Farstaängsvägen 3\, Farsta\, Stockholm\, 12373\, Sweden
CATEGORIES:Barn,Familj,Friluftsliv,Kultur,Sport
ATTACH;FMTTYPE=image/jpeg:https://farstabladet.se/wp-content/uploads/2026/01/Skridskodisco.jpg
END:VEVENT
BEGIN:VEVENT
DTSTART;TZID=Europe/Paris:20251029T170000
DTEND;TZID=Europe/Paris:20251029T175500
DTSTAMP:20260419T233608
CREATED:20251024T182809Z
LAST-MODIFIED:20251024T182809Z
UID:10005686-1761757200-1761760500@farstabladet.se
SUMMARY:Multi-pass
DESCRIPTION:För dig i åldern 13–19 år. Ta med en kompis och prova ett funktionellt och kul pass gratis. \n\nMulti ung är ett pass där vi tränar styrka\, stabilitet\, kondition\, rörlighet\, balans och spänst. En allsidig och roligt pass som blir ännu roligare om du tar med en kompis \nAlla nivåer är välkomna\, passet passar både dig som är nybörjare och dig som tränat ett tag. \nAnmälan\nDu anmäler dig i receptionen när du kommer. \nVälkommen! \nFarsta sim- och idrottshall \nAlla våra simhallar
URL:https://farstabladet.se/kalender/multi-pass/
LOCATION:Farsta IP\, Farstaängsvägen 3\, Farsta\, Stockholm\, 12373\, Sweden
ATTACH;FMTTYPE=image/jpeg:https://farstabladet.se/wp-content/uploads/2025/10/1-8a8c2b64-1.jpg
END:VEVENT
BEGIN:VEVENT
DTSTART;TZID=Europe/Paris:20251028T170000
DTEND;TZID=Europe/Paris:20251028T175500
DTSTAMP:20260419T233608
CREATED:20251024T174022Z
LAST-MODIFIED:20251024T174022Z
UID:10005683-1761670800-1761674100@farstabladet.se
SUMMARY:Box-pass
DESCRIPTION:För dig i åldern 13–19 år. Ta med en kompis och prova boxning gratis! \n\nBox ung är ett energifyllt pass inspirerat av boxning. Du får träna funktionellt med slag- och kickkombinationer. Ett svettigt och roligt pass! \nAnmälan\nDu anmäler dig i receptionen när du kommer. \nVälkommen! \nFarsta sim- och idrottshall \nAlla våra simhallar
URL:https://farstabladet.se/kalender/box-pass/
LOCATION:Farsta IP\, Farstaängsvägen 3\, Farsta\, Stockholm\, 12373\, Sweden
ATTACH;FMTTYPE=image/jpeg:https://farstabladet.se/wp-content/uploads/2025/10/1-99e69772.jpg
END:VEVENT
BEGIN:VEVENT
DTSTART;TZID=Europe/Paris:20251028T120000
DTEND;TZID=Europe/Paris:20251028T170000
DTSTAMP:20260419T233608
CREATED:20251024T172354Z
LAST-MODIFIED:20251024T172354Z
UID:10005680-1761652800-1761670800@farstabladet.se
SUMMARY:Prova på sportskytte
DESCRIPTION:Kom och prova på att skjuta med luftgevär! \n\nAktiviteten är till för dig som är 7–20 år. Är du 7–10 år behöver du ha en vuxen med dig. Du behöver inte ha några förkunskaper. Instruktioner ges på plats. \nAnmälan\nDet är drop-in och bara att komma förbi. Men om ni är en grupp på fler än fem personer kan det vara bra att reservera er plats i förväg. Har du en funktionsnedsättning? Kontakta oss på telefon för möjlighet och anmälan. \nTelefon: 08-503 533 80 \nHitta hit\nVi finns en trappa ner i Farsta sim- och idrottshall\, ring på dörren för insläpp. Sista insläpp är en timme innan stängning.
URL:https://farstabladet.se/kalender/prova-pa-sportskytte/
LOCATION:Farsta IP\, Farstaängsvägen 3\, Farsta\, Stockholm\, 12373\, Sweden
ATTACH;FMTTYPE=image/jpeg:https://farstabladet.se/wp-content/uploads/2025/10/1-1e49971f.jpg
END:VEVENT
BEGIN:VEVENT
DTSTART;TZID=Europe/Paris:20251026T090000
DTEND;TZID=Europe/Paris:20251026T160000
DTSTAMP:20260419T233608
CREATED:20250815T061913Z
LAST-MODIFIED:20250826T083631Z
UID:10004346-1761469200-1761494400@farstabladet.se
SUMMARY:Farsta Cupen 2025
DESCRIPTION:Varmt välkomna till Farsta Cupen i höst! Årets ungdomsturnering i fotboll för barn. \nKom förbi\, titta och heja när barnen spelar! Handla gärna i kiosken eller köp din lokala FOC-merch.
URL:https://farstabladet.se/kalender/farsta-cupen-2025/2025-10-26/
LOCATION:Farsta IP\, Farstaängsvägen 3\, Farsta\, Stockholm\, 12373\, Sweden
CATEGORIES:Fotboll,Sport,Stadsdelsdagar
ATTACH;FMTTYPE=image/jpeg:https://farstabladet.se/wp-content/uploads/2025/08/IMG_2176-1.jpeg
ORGANIZER;CN="FoC Farsta Fotboll":MAILTO:kansli@focfarstafotboll.se
END:VEVENT
END:VCALENDAR