BEGIN:VCALENDAR
VERSION:2.0
PRODID:-//Farsta-Kalendern - ECPv6.15.20//NONSGML v1.0//EN
CALSCALE:GREGORIAN
METHOD:PUBLISH
X-WR-CALNAME:Farsta-Kalendern
X-ORIGINAL-URL:https://farstabladet.se
X-WR-CALDESC:Händelser för Farsta-Kalendern
REFRESH-INTERVAL;VALUE=DURATION:PT1H
X-Robots-Tag:noindex
X-PUBLISHED-TTL:PT1H
BEGIN:VTIMEZONE
TZID:Europe/Paris
BEGIN:DAYLIGHT
TZOFFSETFROM:+0100
TZOFFSETTO:+0200
TZNAME:CEST
DTSTART:20250330T010000
END:DAYLIGHT
BEGIN:STANDARD
TZOFFSETFROM:+0200
TZOFFSETTO:+0100
TZNAME:CET
DTSTART:20251026T010000
END:STANDARD
BEGIN:DAYLIGHT
TZOFFSETFROM:+0100
TZOFFSETTO:+0200
TZNAME:CEST
DTSTART:20260329T010000
END:DAYLIGHT
BEGIN:STANDARD
TZOFFSETFROM:+0200
TZOFFSETTO:+0100
TZNAME:CET
DTSTART:20261025T010000
END:STANDARD
BEGIN:DAYLIGHT
TZOFFSETFROM:+0100
TZOFFSETTO:+0200
TZNAME:CEST
DTSTART:20270328T010000
END:DAYLIGHT
BEGIN:STANDARD
TZOFFSETFROM:+0200
TZOFFSETTO:+0100
TZNAME:CET
DTSTART:20271031T010000
END:STANDARD
END:VTIMEZONE
BEGIN:VEVENT
DTSTART;TZID=Europe/Paris:20260419T180000
DTEND;TZID=Europe/Paris:20260419T200000
DTSTAMP:20260419T183019
CREATED:20260327T092148Z
LAST-MODIFIED:20260327T143418Z
UID:10007328-1776621600-1776628800@farstabladet.se
SUMMARY:Fotboll\, Div. 4 Dam\, FoC Farsta FF - Ösmo GIF FK
DESCRIPTION:Kom och stötta FoC Farsta!\n 
URL:https://farstabladet.se/kalender/fotboll-div-4-dam-foc-farsta-ff-osmo-gif-fk/
LOCATION:Farsta IP\, Farstaängsvägen 3\, Farsta\, Stockholm\, 12373\, Sweden
CATEGORIES:Fotboll,Sport
ATTACH;FMTTYPE=image/jpeg:https://farstabladet.se/wp-content/uploads/2026/03/FOC-pin-2025.jpg
ORGANIZER;CN="FoC Farsta Fotboll":MAILTO:kansli@focfarstafotboll.se
END:VEVENT
BEGIN:VEVENT
DTSTART;TZID=Europe/Paris:20260424T200000
DTEND;TZID=Europe/Paris:20260424T220000
DTSTAMP:20260419T183019
CREATED:20260327T090036Z
LAST-MODIFIED:20260327T143622Z
UID:10007316-1777060800-1777068000@farstabladet.se
SUMMARY:Fotboll\, Div. 2 Herr\, FoC Farsta FF - Syrianska FC
DESCRIPTION:Kom och stötta FoC Farsta!\n 
URL:https://farstabladet.se/kalender/fotboll-div-2-herr-foc-farsta-ff-syrianska-fc/
LOCATION:Farsta IP\, Farstaängsvägen 3\, Farsta\, Stockholm\, 12373\, Sweden
CATEGORIES:Fotboll,Sport
ATTACH;FMTTYPE=image/jpeg:https://farstabladet.se/wp-content/uploads/2026/03/FOC-pin-2025.jpg
ORGANIZER;CN="FoC Farsta Fotboll":MAILTO:kansli@focfarstafotboll.se
END:VEVENT
BEGIN:VEVENT
DTSTART;TZID=Europe/Paris:20260503T200000
DTEND;TZID=Europe/Paris:20260503T220000
DTSTAMP:20260419T183019
CREATED:20260327T092242Z
LAST-MODIFIED:20260327T143403Z
UID:10007329-1777838400-1777845600@farstabladet.se
SUMMARY:Fotboll\, Div. 4 Dam\, FoC Farsta FF - Vendelsö IK
DESCRIPTION:Kom och stötta FoC Farsta!\n 
URL:https://farstabladet.se/kalender/fotboll-div-4-dam-foc-farsta-ff-vendelso-ik/
LOCATION:Farsta IP\, Farstaängsvägen 3\, Farsta\, Stockholm\, 12373\, Sweden
CATEGORIES:Fotboll,Sport
ATTACH;FMTTYPE=image/jpeg:https://farstabladet.se/wp-content/uploads/2026/03/FOC-pin-2025.jpg
ORGANIZER;CN="FoC Farsta Fotboll":MAILTO:kansli@focfarstafotboll.se
END:VEVENT
BEGIN:VEVENT
DTSTART;TZID=Europe/Paris:20260509T103000
DTEND;TZID=Europe/Paris:20260509T123000
DTSTAMP:20260419T183019
CREATED:20260327T092327Z
LAST-MODIFIED:20260327T143345Z
UID:10007330-1778322600-1778329800@farstabladet.se
SUMMARY:Fotboll\, Div. 4 Dam\, FoC Farsta FF - Årsta FF
DESCRIPTION:Kom och stötta FoC Farsta!\n 
URL:https://farstabladet.se/kalender/fotboll-div-4-dam-foc-farsta-ff-arsta-ff/
LOCATION:Farsta IP\, Farstaängsvägen 3\, Farsta\, Stockholm\, 12373\, Sweden
CATEGORIES:Fotboll,Sport
ATTACH;FMTTYPE=image/jpeg:https://farstabladet.se/wp-content/uploads/2026/03/FOC-pin-2025.jpg
ORGANIZER;CN="FoC Farsta Fotboll":MAILTO:kansli@focfarstafotboll.se
END:VEVENT
BEGIN:VEVENT
DTSTART;TZID=Europe/Paris:20260509T133000
DTEND;TZID=Europe/Paris:20260509T153000
DTSTAMP:20260419T183019
CREATED:20260327T090130Z
LAST-MODIFIED:20260327T143601Z
UID:10007317-1778333400-1778340600@farstabladet.se
SUMMARY:Fotboll\, Div. 2 Herr\, FoC Farsta FF - Örebro Syrianska IF
DESCRIPTION:Kom och stötta FoC Farsta!\n 
URL:https://farstabladet.se/kalender/fotboll-div-2-herr-foc-farsta-ff-orebro-syrianska-if/
LOCATION:Farsta IP\, Farstaängsvägen 3\, Farsta\, Stockholm\, 12373\, Sweden
CATEGORIES:Fotboll,Sport
ATTACH;FMTTYPE=image/jpeg:https://farstabladet.se/wp-content/uploads/2026/03/FOC-pin-2025.jpg
ORGANIZER;CN="FoC Farsta Fotboll":MAILTO:kansli@focfarstafotboll.se
END:VEVENT
BEGIN:VEVENT
DTSTART;TZID=Europe/Paris:20260522T200000
DTEND;TZID=Europe/Paris:20260522T220000
DTSTAMP:20260419T183019
CREATED:20260327T090236Z
LAST-MODIFIED:20260327T143545Z
UID:10007318-1779480000-1779487200@farstabladet.se
SUMMARY:Fotboll\, Div. 2 Herr\, FoC Farsta FF - IFK Haninge
DESCRIPTION:Kom och stötta FoC Farsta!\n 
URL:https://farstabladet.se/kalender/fotboll-div-2-herr-foc-farsta-ff-ifk-haninge/
LOCATION:Farsta IP\, Farstaängsvägen 3\, Farsta\, Stockholm\, 12373\, Sweden
CATEGORIES:Fotboll,Sport
ATTACH;FMTTYPE=image/jpeg:https://farstabladet.se/wp-content/uploads/2026/03/FOC-pin-2025.jpg
ORGANIZER;CN="FoC Farsta Fotboll":MAILTO:kansli@focfarstafotboll.se
END:VEVENT
BEGIN:VEVENT
DTSTART;TZID=Europe/Paris:20260531T180000
DTEND;TZID=Europe/Paris:20260531T200000
DTSTAMP:20260419T183019
CREATED:20260327T092411Z
LAST-MODIFIED:20260327T143320Z
UID:10007331-1780250400-1780257600@farstabladet.se
SUMMARY:Fotboll\, Div. 4 Dam\, FoC Farsta FF - Rönninge Salem Fotboll
DESCRIPTION:Kom och stötta FoC Farsta!\n 
URL:https://farstabladet.se/kalender/fotboll-div-4-dam-foc-farsta-ff-ronninge-salem-fotboll/
LOCATION:Farsta IP\, Farstaängsvägen 3\, Farsta\, Stockholm\, 12373\, Sweden
CATEGORIES:Fotboll,Sport
ATTACH;FMTTYPE=image/jpeg:https://farstabladet.se/wp-content/uploads/2026/03/FOC-pin-2025.jpg
ORGANIZER;CN="FoC Farsta Fotboll":MAILTO:kansli@focfarstafotboll.se
END:VEVENT
BEGIN:VEVENT
DTSTART;TZID=Europe/Paris:20260606T140000
DTEND;TZID=Europe/Paris:20260606T160000
DTSTAMP:20260419T183019
CREATED:20260327T090406Z
LAST-MODIFIED:20260327T143530Z
UID:10007319-1780754400-1780761600@farstabladet.se
SUMMARY:Fotboll\, Div. 2 Herr\, FoC Farsta FF - BK Forward
DESCRIPTION:Kom och stötta FoC Farsta!\n 
URL:https://farstabladet.se/kalender/fotboll-div-2-herr-foc-farsta-ff-bk-forward/
LOCATION:Farsta IP\, Farstaängsvägen 3\, Farsta\, Stockholm\, 12373\, Sweden
CATEGORIES:Fotboll,Sport
ATTACH;FMTTYPE=image/jpeg:https://farstabladet.se/wp-content/uploads/2026/03/FOC-pin-2025.jpg
ORGANIZER;CN="FoC Farsta Fotboll":MAILTO:kansli@focfarstafotboll.se
END:VEVENT
BEGIN:VEVENT
DTSTART;TZID=Europe/Paris:20260613T160000
DTEND;TZID=Europe/Paris:20260613T180000
DTSTAMP:20260419T183019
CREATED:20260327T091229Z
LAST-MODIFIED:20260327T143150Z
UID:10007320-1781366400-1781373600@farstabladet.se
SUMMARY:Fotboll\, Div. 2 Herr\, FoC Farsta FF - IF Eker Örebro
DESCRIPTION:Kom och stötta FoC Farsta!\n 
URL:https://farstabladet.se/kalender/fotboll-div-2-herr-foc-farsta-ff-if-eker-orebro/
LOCATION:Farsta IP\, Farstaängsvägen 3\, Farsta\, Stockholm\, 12373\, Sweden
CATEGORIES:Fotboll,Sport
ATTACH;FMTTYPE=image/jpeg:https://farstabladet.se/wp-content/uploads/2026/03/FOC-pin-2025.jpg
ORGANIZER;CN="FoC Farsta Fotboll":MAILTO:kansli@focfarstafotboll.se
END:VEVENT
BEGIN:VEVENT
DTSTART;TZID=Europe/Paris:20260614T180000
DTEND;TZID=Europe/Paris:20260614T200000
DTSTAMP:20260419T183019
CREATED:20260327T092503Z
LAST-MODIFIED:20260327T143128Z
UID:10007332-1781460000-1781467200@farstabladet.se
SUMMARY:Fotboll\, Div. 4 Dam\, FoC Farsta FF - Tullinge Triangel Pojkar FK
DESCRIPTION:Kom och stötta FoC Farsta!\n 
URL:https://farstabladet.se/kalender/fotboll-div-4-dam-foc-farsta-ff-tullinge-triangel-pojkar-fk/
LOCATION:Farsta IP\, Farstaängsvägen 3\, Farsta\, Stockholm\, 12373\, Sweden
CATEGORIES:Fotboll,Sport
ATTACH;FMTTYPE=image/jpeg:https://farstabladet.se/wp-content/uploads/2026/03/FOC-pin-2025.jpg
ORGANIZER;CN="FoC Farsta Fotboll":MAILTO:kansli@focfarstafotboll.se
END:VEVENT
BEGIN:VEVENT
DTSTART;TZID=Europe/Paris:20260731T200000
DTEND;TZID=Europe/Paris:20260731T220000
DTSTAMP:20260419T183019
CREATED:20260327T091329Z
LAST-MODIFIED:20260327T143057Z
UID:10007321-1785528000-1785535200@farstabladet.se
SUMMARY:Fotboll\, Div. 2 Herr\, FoC Farsta FF - Rågsveds IF
DESCRIPTION:Kom och stötta FoC Farsta!\n 
URL:https://farstabladet.se/kalender/fotboll-div-2-herr-foc-farsta-ff-ragsveds-if/
LOCATION:Farsta IP\, Farstaängsvägen 3\, Farsta\, Stockholm\, 12373\, Sweden
CATEGORIES:Fotboll,Sport
ATTACH;FMTTYPE=image/jpeg:https://farstabladet.se/wp-content/uploads/2026/03/FOC-pin-2025.jpg
ORGANIZER;CN="FoC Farsta Fotboll":MAILTO:kansli@focfarstafotboll.se
END:VEVENT
BEGIN:VEVENT
DTSTART;TZID=Europe/Paris:20260814T200000
DTEND;TZID=Europe/Paris:20260814T220000
DTSTAMP:20260419T183019
CREATED:20260327T091418Z
LAST-MODIFIED:20260327T143036Z
UID:10007322-1786737600-1786744800@farstabladet.se
SUMMARY:Fotboll\, Div. 2 Herr\, FoC Farsta FF - Nyköpings BIS
DESCRIPTION:Kom och stötta FoC Farsta!\n 
URL:https://farstabladet.se/kalender/fotboll-div-2-herr-foc-farsta-ff-nykopings-bis/
LOCATION:Farsta IP\, Farstaängsvägen 3\, Farsta\, Stockholm\, 12373\, Sweden
CATEGORIES:Fotboll,Sport
ATTACH;FMTTYPE=image/jpeg:https://farstabladet.se/wp-content/uploads/2026/03/FOC-pin-2025.jpg
ORGANIZER;CN="FoC Farsta Fotboll":MAILTO:kansli@focfarstafotboll.se
END:VEVENT
BEGIN:VEVENT
DTSTART;TZID=Europe/Paris:20260816T180000
DTEND;TZID=Europe/Paris:20260816T200000
DTSTAMP:20260419T183019
CREATED:20260327T092540Z
LAST-MODIFIED:20260327T143015Z
UID:10007333-1786903200-1786910400@farstabladet.se
SUMMARY:Fotboll\, Div. 4 Dam\, FoC Farsta FF - Hässelby SK FF
DESCRIPTION:Kom och stötta FoC Farsta!\n 
URL:https://farstabladet.se/kalender/fotboll-div-4-dam-foc-farsta-ff-hasselby-sk-ff/
LOCATION:Farsta IP\, Farstaängsvägen 3\, Farsta\, Stockholm\, 12373\, Sweden
CATEGORIES:Fotboll,Sport
ATTACH;FMTTYPE=image/jpeg:https://farstabladet.se/wp-content/uploads/2026/03/FOC-pin-2025.jpg
ORGANIZER;CN="FoC Farsta Fotboll":MAILTO:kansli@focfarstafotboll.se
END:VEVENT
BEGIN:VEVENT
DTSTART;TZID=Europe/Paris:20260828T200000
DTEND;TZID=Europe/Paris:20260828T220000
DTSTAMP:20260419T183019
CREATED:20260327T091457Z
LAST-MODIFIED:20260327T142954Z
UID:10007323-1787947200-1787954400@farstabladet.se
SUMMARY:Fotboll\, Div. 2 Herr\, FoC Farsta FF - Nacka FC
DESCRIPTION:Kom och stötta FoC Farsta!\n 
URL:https://farstabladet.se/kalender/fotboll-div-2-herr-foc-farsta-ff-nacka-fc/
LOCATION:Farsta IP\, Farstaängsvägen 3\, Farsta\, Stockholm\, 12373\, Sweden
CATEGORIES:Fotboll,Sport
ATTACH;FMTTYPE=image/jpeg:https://farstabladet.se/wp-content/uploads/2026/03/FOC-pin-2025.jpg
ORGANIZER;CN="FoC Farsta Fotboll":MAILTO:kansli@focfarstafotboll.se
END:VEVENT
BEGIN:VEVENT
DTSTART;TZID=Europe/Paris:20260830T180000
DTEND;TZID=Europe/Paris:20260830T200000
DTSTAMP:20260419T183019
CREATED:20260327T092612Z
LAST-MODIFIED:20260327T142932Z
UID:10007334-1788112800-1788120000@farstabladet.se
SUMMARY:Fotboll\, Div. 4 Dam\, FoC Farsta FF - Stuvsta FF
DESCRIPTION:Kom och stötta FoC Farsta!\n 
URL:https://farstabladet.se/kalender/fotboll-div-4-dam-foc-farsta-ff-stuvsta-ff/
LOCATION:Farsta IP\, Farstaängsvägen 3\, Farsta\, Stockholm\, 12373\, Sweden
CATEGORIES:Fotboll,Sport
ATTACH;FMTTYPE=image/jpeg:https://farstabladet.se/wp-content/uploads/2026/03/FOC-pin-2025.jpg
ORGANIZER;CN="FoC Farsta Fotboll":MAILTO:kansli@focfarstafotboll.se
END:VEVENT
BEGIN:VEVENT
DTSTART;TZID=Europe/Paris:20260912T140000
DTEND;TZID=Europe/Paris:20260912T160000
DTSTAMP:20260419T183019
CREATED:20260327T091542Z
LAST-MODIFIED:20260327T142909Z
UID:10007324-1789221600-1789228800@farstabladet.se
SUMMARY:Fotboll\, Div. 2 Herr\, FoC Farsta FF - Smedby AIS
DESCRIPTION:Kom och stötta FoC Farsta!\n 
URL:https://farstabladet.se/kalender/fotboll-div-2-herr-foc-farsta-ff-smedby-ais/
LOCATION:Farsta IP\, Farstaängsvägen 3\, Farsta\, Stockholm\, 12373\, Sweden
CATEGORIES:Fotboll,Sport
ATTACH;FMTTYPE=image/jpeg:https://farstabladet.se/wp-content/uploads/2026/03/FOC-pin-2025.jpg
ORGANIZER;CN="FoC Farsta Fotboll":MAILTO:kansli@focfarstafotboll.se
END:VEVENT
BEGIN:VEVENT
DTSTART;TZID=Europe/Paris:20260919T140000
DTEND;TZID=Europe/Paris:20260919T160000
DTSTAMP:20260419T183019
CREATED:20260327T091633Z
LAST-MODIFIED:20260327T142849Z
UID:10007325-1789826400-1789833600@farstabladet.se
SUMMARY:Fotboll\, Div. 2 Herr\, FoC Farsta FF - Karlslunds IF FK
DESCRIPTION:Kom och stötta FoC Farsta!\n 
URL:https://farstabladet.se/kalender/fotboll-div-2-herr-foc-farsta-ff-karlslunds-if-fk/
LOCATION:Farsta IP\, Farstaängsvägen 3\, Farsta\, Stockholm\, 12373\, Sweden
CATEGORIES:Fotboll,Sport
ATTACH;FMTTYPE=image/jpeg:https://farstabladet.se/wp-content/uploads/2026/03/FOC-pin-2025.jpg
ORGANIZER;CN="FoC Farsta Fotboll":MAILTO:kansli@focfarstafotboll.se
END:VEVENT
BEGIN:VEVENT
DTSTART;TZID=Europe/Paris:20260920T200000
DTEND;TZID=Europe/Paris:20260920T220000
DTSTAMP:20260419T183019
CREATED:20260327T092719Z
LAST-MODIFIED:20260327T142830Z
UID:10007335-1789934400-1789941600@farstabladet.se
SUMMARY:Fotboll\, Div. 4 Dam\, FoC Farsta FF - Enskede FF
DESCRIPTION:Kom och stötta FoC Farsta!\n 
URL:https://farstabladet.se/kalender/fotboll-div-4-dam-foc-farsta-ff-enskede-ff/
LOCATION:Farsta IP\, Farstaängsvägen 3\, Farsta\, Stockholm\, 12373\, Sweden
CATEGORIES:Fotboll,Sport
ATTACH;FMTTYPE=image/jpeg:https://farstabladet.se/wp-content/uploads/2026/03/FOC-pin-2025.jpg
ORGANIZER;CN="FoC Farsta Fotboll":MAILTO:kansli@focfarstafotboll.se
END:VEVENT
BEGIN:VEVENT
DTSTART;TZID=Europe/Paris:20261002T200000
DTEND;TZID=Europe/Paris:20261002T220000
DTSTAMP:20260419T183019
CREATED:20260327T091713Z
LAST-MODIFIED:20260327T142812Z
UID:10007326-1790971200-1790978400@farstabladet.se
SUMMARY:Fotboll\, Div. 2 Herr\, FoC Farsta FF - Fittja IF
DESCRIPTION:Kom och stötta FoC Farsta!\n 
URL:https://farstabladet.se/kalender/fotboll-div-2-herr-foc-farsta-ff-fittja-if/
LOCATION:Farsta IP\, Farstaängsvägen 3\, Farsta\, Stockholm\, 12373\, Sweden
CATEGORIES:Fotboll,Sport
ATTACH;FMTTYPE=image/jpeg:https://farstabladet.se/wp-content/uploads/2026/03/FOC-pin-2025.jpg
ORGANIZER;CN="FoC Farsta Fotboll":MAILTO:kansli@focfarstafotboll.se
END:VEVENT
BEGIN:VEVENT
DTSTART;TZID=Europe/Paris:20261004T200000
DTEND;TZID=Europe/Paris:20261004T220000
DTSTAMP:20260419T183019
CREATED:20260327T092800Z
LAST-MODIFIED:20260327T142752Z
UID:10007336-1791144000-1791151200@farstabladet.se
SUMMARY:Fotboll\, Div. 4 Dam\, FoC Farsta FF - Järla IF FK
DESCRIPTION:Kom och stötta FoC Farsta!\n 
URL:https://farstabladet.se/kalender/fotboll-div-4-dam-foc-farsta-ff-jarla-if-fk/
LOCATION:Farsta IP\, Farstaängsvägen 3\, Farsta\, Stockholm\, 12373\, Sweden
CATEGORIES:Fotboll,Sport
ATTACH;FMTTYPE=image/jpeg:https://farstabladet.se/wp-content/uploads/2026/03/FOC-pin-2025.jpg
ORGANIZER;CN="FoC Farsta Fotboll":MAILTO:kansli@focfarstafotboll.se
END:VEVENT
BEGIN:VEVENT
DTSTART;TZID=Europe/Paris:20261018T140000
DTEND;TZID=Europe/Paris:20261018T160000
DTSTAMP:20260419T183019
CREATED:20260327T091757Z
LAST-MODIFIED:20260327T142730Z
UID:10007327-1792332000-1792339200@farstabladet.se
SUMMARY:Fotboll\, Div. 2 Herr\, FoC Farsta FF - Lindö FF
DESCRIPTION:Kom och stötta FoC Farsta!\n 
URL:https://farstabladet.se/kalender/fotboll-div-2-herr-foc-farsta-ff-lindo-ff/
LOCATION:Farsta IP\, Farstaängsvägen 3\, Farsta\, Stockholm\, 12373\, Sweden
CATEGORIES:Fotboll,Sport
ATTACH;FMTTYPE=image/jpeg:https://farstabladet.se/wp-content/uploads/2026/03/FOC-pin-2025.jpg
ORGANIZER;CN="FoC Farsta Fotboll":MAILTO:kansli@focfarstafotboll.se
END:VEVENT
END:VCALENDAR