BEGIN:VCALENDAR
VERSION:2.0
PRODID:-//Farsta-Kalendern - ECPv6.15.20//NONSGML v1.0//EN
CALSCALE:GREGORIAN
METHOD:PUBLISH
X-WR-CALNAME:Farsta-Kalendern
X-ORIGINAL-URL:https://farstabladet.se
X-WR-CALDESC:Händelser för Farsta-Kalendern
REFRESH-INTERVAL;VALUE=DURATION:PT1H
X-Robots-Tag:noindex
X-PUBLISHED-TTL:PT1H
BEGIN:VTIMEZONE
TZID:Europe/Paris
BEGIN:DAYLIGHT
TZOFFSETFROM:+0100
TZOFFSETTO:+0200
TZNAME:CEST
DTSTART:20240331T010000
END:DAYLIGHT
BEGIN:STANDARD
TZOFFSETFROM:+0200
TZOFFSETTO:+0100
TZNAME:CET
DTSTART:20241027T010000
END:STANDARD
BEGIN:DAYLIGHT
TZOFFSETFROM:+0100
TZOFFSETTO:+0200
TZNAME:CEST
DTSTART:20250330T010000
END:DAYLIGHT
BEGIN:STANDARD
TZOFFSETFROM:+0200
TZOFFSETTO:+0100
TZNAME:CET
DTSTART:20251026T010000
END:STANDARD
BEGIN:DAYLIGHT
TZOFFSETFROM:+0100
TZOFFSETTO:+0200
TZNAME:CEST
DTSTART:20260329T010000
END:DAYLIGHT
BEGIN:STANDARD
TZOFFSETFROM:+0200
TZOFFSETTO:+0100
TZNAME:CET
DTSTART:20261025T010000
END:STANDARD
BEGIN:DAYLIGHT
TZOFFSETFROM:+0100
TZOFFSETTO:+0200
TZNAME:CEST
DTSTART:20270328T010000
END:DAYLIGHT
BEGIN:STANDARD
TZOFFSETFROM:+0200
TZOFFSETTO:+0100
TZNAME:CET
DTSTART:20271031T010000
END:STANDARD
END:VTIMEZONE
BEGIN:VEVENT
DTSTART;TZID=Europe/Paris:20260228T140000
DTEND;TZID=Europe/Paris:20260228T160000
DTSTAMP:20260420T001612
CREATED:20250803T095719Z
LAST-MODIFIED:20250803T095719Z
UID:10004235-1772287200-1772294400@farstabladet.se
SUMMARY:Innebandy Div 1 herr\, Farsta IBK - Värmdö IF
DESCRIPTION:Stötta Farsta Sharks – din lokala innebandyklubb i Farsta! \nPlats: Farstahallen
URL:https://farstabladet.se/kalender/innebandy-div-1-herr-farsta-ibk-varmdo-if/
LOCATION:Farsta sim- och idrottshall\, Farstaängsvägen 3\, Farsta
CATEGORIES:Innebandy,Sport
ATTACH;FMTTYPE=image/jpeg:https://farstabladet.se/wp-content/uploads/2025/05/IMG_1286.jpeg
ORGANIZER;CN="Farsta Sharks IBK":MAILTO:kansli@farstaibk.se
END:VEVENT
BEGIN:VEVENT
DTSTART;TZID=Europe/Paris:20260227T130000
DTEND;TZID=Europe/Paris:20260227T150000
DTSTAMP:20260420T001612
CREATED:20260210T114527Z
LAST-MODIFIED:20260210T114527Z
UID:10006762-1772197200-1772204400@farstabladet.se
SUMMARY:Swim Open Mini - simmärkestagning
DESCRIPTION:Simkul för barnen på sportlovet!\nTesta vilka simmärken du klarar\, de första 60 delas ut kostnadsfritt. \nTesta din simkunnighet. \nGå tipspromenad och få överraskning. \nHa en extra rolig dag i simhallen!
URL:https://farstabladet.se/kalender/swim-open-mini-simmarkestagning/2026-02-27/
LOCATION:Farsta sim- och idrottshall\, Farstaängsvägen 3\, Farsta
CATEGORIES:Bad,Barn,Familj,Sport
ATTACH;FMTTYPE=image/jpeg:https://farstabladet.se/wp-content/uploads/2026/02/Swim-Open-Markestagning-2026-scaled.jpg
ORGANIZER;CN="Idrottsn%C3%A4mnden - Stockholms stad":MAILTO:idrott@stockholm.se
END:VEVENT
BEGIN:VEVENT
DTSTART;TZID=Europe/Paris:20260222T153000
DTEND;TZID=Europe/Paris:20260222T153000
DTSTAMP:20260420T001612
CREATED:20250915T053155Z
LAST-MODIFIED:20250915T053155Z
UID:10004404-1771774200-1771774200@farstabladet.se
SUMMARY:Basketettan Damer\, Hammarby - KFUM Umeå
DESCRIPTION:Kom och stötta Bajen!
URL:https://farstabladet.se/kalender/basketettan-damer-hammarby-kfum-umea/
LOCATION:Farsta sim- och idrottshall\, Farstaängsvägen 3\, Farsta
CATEGORIES:Basket,Sport
ATTACH;FMTTYPE=image/png:https://farstabladet.se/wp-content/uploads/2025/09/Hammarby-nLogga.png
ORGANIZER;CN="Hammarby IF Basket":MAILTO:kansli@hammarbybasket.se
END:VEVENT
BEGIN:VEVENT
DTSTART;TZID=Europe/Paris:20260222T130000
DTEND;TZID=Europe/Paris:20260222T130000
DTSTAMP:20260420T001612
CREATED:20250926T085750Z
LAST-MODIFIED:20250926T085750Z
UID:10004442-1771765200-1771765200@farstabladet.se
SUMMARY:Basketettan Herrar\, Hammarby - KFUM UMEÅ BSKT
DESCRIPTION:Kom och stötta Bajen!
URL:https://farstabladet.se/kalender/basketettan-herrar-hammarby-kfum-umea-bskt/
LOCATION:Farsta sim- och idrottshall\, Farstaängsvägen 3\, Farsta
CATEGORIES:Basket,Sport
ATTACH;FMTTYPE=image/png:https://farstabladet.se/wp-content/uploads/2025/09/Hammarby-nLogga.png
ORGANIZER;CN="Hammarby IF Basket":MAILTO:kansli@hammarbybasket.se
END:VEVENT
BEGIN:VEVENT
DTSTART;TZID=Europe/Paris:20260221T150000
DTEND;TZID=Europe/Paris:20260221T170000
DTSTAMP:20260420T001612
CREATED:20250915T051755Z
LAST-MODIFIED:20250915T051755Z
UID:10004396-1771686000-1771693200@farstabladet.se
SUMMARY:Futsal\, Svenska Futsalligan\, Söder Futsal - Borås AIK
DESCRIPTION:Kom och stötta Söder i Farstahallen!\n 
URL:https://farstabladet.se/kalender/futsal-svenska-futsalligan-soder-futsal-boras-aik/
LOCATION:Farsta sim- och idrottshall\, Farstaängsvägen 3\, Farsta
CATEGORIES:Futsal,Sport
ATTACH;FMTTYPE=image/png:https://farstabladet.se/wp-content/uploads/2025/09/Soder-Futsal.png
END:VEVENT
BEGIN:VEVENT
DTSTART;TZID=Europe/Paris:20260210T193000
DTEND;TZID=Europe/Paris:20260210T213000
DTSTAMP:20260420T001612
CREATED:20250803T095634Z
LAST-MODIFIED:20250803T095634Z
UID:10004234-1770751800-1770759000@farstabladet.se
SUMMARY:Innebandy Div 1 herr\, Farsta IBK - Djurgårdens IF IBS
DESCRIPTION:Stötta Farsta Sharks – din lokala innebandyklubb i Farsta! \nPlats: Farstahallen
URL:https://farstabladet.se/kalender/innebandy-div-1-herr-farsta-ibk-djurgardens-if-ibs/
LOCATION:Farsta sim- och idrottshall\, Farstaängsvägen 3\, Farsta
CATEGORIES:Innebandy,Sport
ATTACH;FMTTYPE=image/jpeg:https://farstabladet.se/wp-content/uploads/2025/05/IMG_1286.jpeg
ORGANIZER;CN="Farsta Sharks IBK":MAILTO:kansli@farstaibk.se
END:VEVENT
BEGIN:VEVENT
DTSTART;TZID=Europe/Paris:20260208T140000
DTEND;TZID=Europe/Paris:20260208T160000
DTSTAMP:20260420T001612
CREATED:20250915T051708Z
LAST-MODIFIED:20250915T051708Z
UID:10004395-1770559200-1770566400@farstabladet.se
SUMMARY:Futsal\, Svenska Futsalligan\, Söder Futsal - FC Kalmar
DESCRIPTION:Kom och stötta Söder i Farstahallen!\n 
URL:https://farstabladet.se/kalender/futsal-svenska-futsalligan-soder-futsal-fc-kalmar/
LOCATION:Farsta sim- och idrottshall\, Farstaängsvägen 3\, Farsta
CATEGORIES:Futsal,Sport
ATTACH;FMTTYPE=image/png:https://farstabladet.se/wp-content/uploads/2025/09/Soder-Futsal.png
END:VEVENT
BEGIN:VEVENT
DTSTART;TZID=Europe/Paris:20260208T140000
DTEND;TZID=Europe/Paris:20260208T140000
DTSTAMP:20260420T001612
CREATED:20250926T085705Z
LAST-MODIFIED:20250926T085705Z
UID:10004441-1770559200-1770559200@farstabladet.se
SUMMARY:Basketettan Herrar\, Hammarby - Jämtland Basket U
DESCRIPTION:Kom och stötta Bajen!
URL:https://farstabladet.se/kalender/basketettan-herrar-hammarby-jamtland-basket-u/
LOCATION:Farsta sim- och idrottshall\, Farstaängsvägen 3\, Farsta
CATEGORIES:Basket,Sport
ATTACH;FMTTYPE=image/png:https://farstabladet.se/wp-content/uploads/2025/09/Hammarby-nLogga.png
ORGANIZER;CN="Hammarby IF Basket":MAILTO:kansli@hammarbybasket.se
END:VEVENT
BEGIN:VEVENT
DTSTART;TZID=Europe/Paris:20260201T140000
DTEND;TZID=Europe/Paris:20260201T140000
DTSTAMP:20260420T001612
CREATED:20250915T053119Z
LAST-MODIFIED:20250915T053119Z
UID:10004403-1769954400-1769954400@farstabladet.se
SUMMARY:Basketettan Damer\, Hammarby - Fryshuset Basket
DESCRIPTION:Kom och stötta Bajen!
URL:https://farstabladet.se/kalender/basketettan-damer-hammarby-fryshuset-basket/
LOCATION:Farsta sim- och idrottshall\, Farstaängsvägen 3\, Farsta
CATEGORIES:Basket,Sport
ATTACH;FMTTYPE=image/png:https://farstabladet.se/wp-content/uploads/2025/09/Hammarby-nLogga.png
ORGANIZER;CN="Hammarby IF Basket":MAILTO:kansli@hammarbybasket.se
END:VEVENT
BEGIN:VEVENT
DTSTART;TZID=Europe/Paris:20260131T140000
DTEND;TZID=Europe/Paris:20260131T160000
DTSTAMP:20260420T001612
CREATED:20250915T051625Z
LAST-MODIFIED:20250915T051625Z
UID:10004394-1769868000-1769875200@farstabladet.se
SUMMARY:Futsal\, Svenska Futsalligan\, Söder Futsal - FC Real Internacional
DESCRIPTION:Kom och stötta Söder i Farstahallen!\n 
URL:https://farstabladet.se/kalender/futsal-svenska-futsalligan-soder-futsal-fc-real-internacional/
LOCATION:Farsta sim- och idrottshall\, Farstaängsvägen 3\, Farsta
CATEGORIES:Futsal,Sport
ATTACH;FMTTYPE=image/png:https://farstabladet.se/wp-content/uploads/2025/09/Soder-Futsal.png
END:VEVENT
BEGIN:VEVENT
DTSTART;TZID=Europe/Paris:20260124T140000
DTEND;TZID=Europe/Paris:20260124T160000
DTSTAMP:20260420T001612
CREATED:20250803T095543Z
LAST-MODIFIED:20250803T095543Z
UID:10004233-1769263200-1769270400@farstabladet.se
SUMMARY:Innebandy Div 1 herr\, Farsta IBK - FBC Sollentuna
DESCRIPTION:Stötta Farsta Sharks – din lokala innebandyklubb i Farsta! \nPlats: Farstahallen
URL:https://farstabladet.se/kalender/innebandy-div-1-herr-farsta-ibk-fbc-sollentuna/
LOCATION:Farsta sim- och idrottshall\, Farstaängsvägen 3\, Farsta
CATEGORIES:Innebandy,Sport
ATTACH;FMTTYPE=image/jpeg:https://farstabladet.se/wp-content/uploads/2025/05/IMG_1286.jpeg
ORGANIZER;CN="Farsta Sharks IBK":MAILTO:kansli@farstaibk.se
END:VEVENT
BEGIN:VEVENT
DTSTART;TZID=Europe/Paris:20260116T193000
DTEND;TZID=Europe/Paris:20260116T213000
DTSTAMP:20260420T001612
CREATED:20250915T051525Z
LAST-MODIFIED:20250915T051525Z
UID:10004393-1768591800-1768599000@farstabladet.se
SUMMARY:Futsal\, Svenska Futsalligan\, Söder Futsal - Ektorp FK
DESCRIPTION:Kom och stötta Söder i Farstahallen!\n 
URL:https://farstabladet.se/kalender/futsal-svenska-futsalligan-soder-futsal-ektorp-fk/
LOCATION:Farsta sim- och idrottshall\, Farstaängsvägen 3\, Farsta
CATEGORIES:Futsal,Sport
ATTACH;FMTTYPE=image/png:https://farstabladet.se/wp-content/uploads/2025/09/Soder-Futsal.png
END:VEVENT
BEGIN:VEVENT
DTSTART;TZID=Europe/Paris:20260114T190000
DTEND;TZID=Europe/Paris:20260114T190000
DTSTAMP:20260420T001612
CREATED:20250926T085630Z
LAST-MODIFIED:20250926T085630Z
UID:10004440-1768417200-1768417200@farstabladet.se
SUMMARY:Basketettan Herrar\, Hammarby - Kungsholmen Basket
DESCRIPTION:Kom och stötta Bajen!
URL:https://farstabladet.se/kalender/basketettan-herrar-hammarby-kungsholmen-basket/
LOCATION:Farsta sim- och idrottshall\, Farstaängsvägen 3\, Farsta
CATEGORIES:Basket,Sport
ATTACH;FMTTYPE=image/png:https://farstabladet.se/wp-content/uploads/2025/09/Hammarby-nLogga.png
ORGANIZER;CN="Hammarby IF Basket":MAILTO:kansli@hammarbybasket.se
END:VEVENT
BEGIN:VEVENT
DTSTART;TZID=Europe/Paris:20260111T140000
DTEND;TZID=Europe/Paris:20260111T140000
DTSTAMP:20260420T001612
CREATED:20250915T053033Z
LAST-MODIFIED:20250915T053033Z
UID:10004402-1768140000-1768140000@farstabladet.se
SUMMARY:Basketettan Damer\, Hammarby - Luleå Stars Basketbollklubb
DESCRIPTION:Kom och stötta Bajen!
URL:https://farstabladet.se/kalender/basketettan-damer-hammarby-lulea-stars-basketbollklubb/
LOCATION:Farsta sim- och idrottshall\, Farstaängsvägen 3\, Farsta
CATEGORIES:Basket,Sport
ATTACH;FMTTYPE=image/png:https://farstabladet.se/wp-content/uploads/2025/09/Hammarby-nLogga.png
ORGANIZER;CN="Hammarby IF Basket":MAILTO:kansli@hammarbybasket.se
END:VEVENT
BEGIN:VEVENT
DTSTART;TZID=Europe/Paris:20260110T140000
DTEND;TZID=Europe/Paris:20260110T160000
DTSTAMP:20260420T001612
CREATED:20250803T095500Z
LAST-MODIFIED:20250803T095500Z
UID:10004232-1768053600-1768060800@farstabladet.se
SUMMARY:Innebandy Div 1 herr\, Farsta IBK - Hässelby SK IBK
DESCRIPTION:Stötta Farsta Sharks – din lokala innebandyklubb i Farsta! \nPlats: Farstahallen
URL:https://farstabladet.se/kalender/innebandy-div-1-herr-farsta-ibk-hasselby-sk-ibk/
LOCATION:Farsta sim- och idrottshall\, Farstaängsvägen 3\, Farsta
CATEGORIES:Innebandy,Sport
ATTACH;FMTTYPE=image/jpeg:https://farstabladet.se/wp-content/uploads/2025/05/IMG_1286.jpeg
ORGANIZER;CN="Farsta Sharks IBK":MAILTO:kansli@farstaibk.se
END:VEVENT
BEGIN:VEVENT
DTSTART;TZID=Europe/Paris:20260106T193000
DTEND;TZID=Europe/Paris:20260106T213000
DTSTAMP:20260420T001612
CREATED:20250915T051432Z
LAST-MODIFIED:20250915T051432Z
UID:10004392-1767727800-1767735000@farstabladet.se
SUMMARY:Futsal\, Svenska Futsalligan\, Söder Futsal - Örebro Futsal Club
DESCRIPTION:Kom och stötta Söder i Farstahallen!\n 
URL:https://farstabladet.se/kalender/futsal-svenska-futsalligan-soder-futsal-orebro-futsal-club/
LOCATION:Farsta sim- och idrottshall\, Farstaängsvägen 3\, Farsta
CATEGORIES:Futsal,Sport
ATTACH;FMTTYPE=image/png:https://farstabladet.se/wp-content/uploads/2025/09/Soder-Futsal.png
END:VEVENT
BEGIN:VEVENT
DTSTART;TZID=Europe/Paris:20260103T120000
DTEND;TZID=Europe/Paris:20260103T170000
DTSTAMP:20260420T001612
CREATED:20251209T085549Z
LAST-MODIFIED:20251209T085549Z
UID:10006363-1767441600-1767459600@farstabladet.se
SUMMARY:Sportskytte med luftgevär
DESCRIPTION:Kom och prova på att skjuta luftgevär!\n\nDrop in med löpande introduktioner. Du behöver inte ha några förkunskaper. \nFör dig som är 7–20 år (barn 7–10 år behöver ha med sig en vuxen). \nAnmälan\nGrupper på fler än 5 personer får gärna anmäla sig i förväg via telefon. För dig med funktionsnedsättning\, ring innan för möjlighet och anmälan. \nTelefon: 08-503 533 80 \nVi finns en trappa ner i Farsta sim- och idrottshall. Ring på dörren för att bli insläppt. Sista insläpp är en timme innan stängning. \nSe vår hemsida för senaste information innan ditt besök. \nSkolungdomen i Stockholms skytteförening webbplats \nSkolungdomen i Stockholms skytteförening på Facebook
URL:https://farstabladet.se/kalender/sportskytte-med-luftgevar/2026-01-03/
LOCATION:Farsta sim- och idrottshall\, Farstaängsvägen 3\, Farsta
CATEGORIES:Skytte,Sport
ATTACH;FMTTYPE=image/webp:https://farstabladet.se/wp-content/uploads/2025/12/Sportskytte-2-1.webp
ORGANIZER;CN="Farsta stadsdelsn%C3%A4mnd - Stockholms stad":MAILTO:farsta@stockholm.se
END:VEVENT
BEGIN:VEVENT
DTSTART;TZID=Europe/Paris:20260102T100000
DTEND;TZID=Europe/Paris:20260102T150000
DTSTAMP:20260420T001612
CREATED:20251209T081414Z
LAST-MODIFIED:20251209T084025Z
UID:10006354-1767348000-1767366000@farstabladet.se
SUMMARY:Full Fart Farsta: Prova på idrottsaktiviteter
DESCRIPTION:Kom och prova olika idrottsaktiviteter.\n\nVi håller idrottshallarna öppna under lovet. Kom till oss och rör på dig. Du kan prova allt från hinderbanor och bollspel till racketsporter. \nDet är drop in. \nArrangeras av FOC Farsta hockey i samarbete med Farsta stadsdelsförvaltning och Farsta sim- och idrottshall.
URL:https://farstabladet.se/kalender/full-fart-farsta-prova-pa-idrottsaktiviteter/2026-01-02/
LOCATION:Farsta sim- och idrottshall\, Farstaängsvägen 3\, Farsta
CATEGORIES:Barn,Sport,Ungdom
ATTACH;FMTTYPE=image/jpeg:https://farstabladet.se/wp-content/uploads/2025/12/Full-fart-1.jpg
ORGANIZER;CN="Farsta stadsdelsn%C3%A4mnd - Stockholms stad":MAILTO:farsta@stockholm.se
END:VEVENT
BEGIN:VEVENT
DTSTART;TZID=Europe/Paris:20251221T170000
DTEND;TZID=Europe/Paris:20251221T170000
DTSTAMP:20260420T001612
CREATED:20250926T085558Z
LAST-MODIFIED:20250926T085558Z
UID:10004439-1766336400-1766336400@farstabladet.se
SUMMARY:Basketettan Herrar\, Hammarby - Skuru Basket
DESCRIPTION:Kom och stötta Bajen!
URL:https://farstabladet.se/kalender/basketettan-herrar-hammarby-skuru-basket/
LOCATION:Farsta sim- och idrottshall\, Farstaängsvägen 3\, Farsta
CATEGORIES:Basket,Sport
ATTACH;FMTTYPE=image/png:https://farstabladet.se/wp-content/uploads/2025/09/Hammarby-nLogga.png
ORGANIZER;CN="Hammarby IF Basket":MAILTO:kansli@hammarbybasket.se
END:VEVENT
BEGIN:VEVENT
DTSTART;TZID=Europe/Paris:20251220T140000
DTEND;TZID=Europe/Paris:20251220T160000
DTSTAMP:20260420T001612
CREATED:20250803T095408Z
LAST-MODIFIED:20250803T095408Z
UID:10004231-1766239200-1766246400@farstabladet.se
SUMMARY:Innebandy Div 1 herr\, Farsta IBK - Åkersberga IBF
DESCRIPTION:Stötta Farsta Sharks – din lokala innebandyklubb i Farsta! \nPlats: Farstahallen
URL:https://farstabladet.se/kalender/innebandy-div-1-herr-farsta-ibk-akersberga-ibf/
LOCATION:Farsta sim- och idrottshall\, Farstaängsvägen 3\, Farsta
CATEGORIES:Innebandy,Sport
ATTACH;FMTTYPE=image/jpeg:https://farstabladet.se/wp-content/uploads/2025/05/IMG_1286.jpeg
ORGANIZER;CN="Farsta Sharks IBK":MAILTO:kansli@farstaibk.se
END:VEVENT
BEGIN:VEVENT
DTSTART;TZID=Europe/Paris:20251212T193000
DTEND;TZID=Europe/Paris:20251212T213000
DTSTAMP:20260420T001612
CREATED:20250915T051340Z
LAST-MODIFIED:20250915T051340Z
UID:10004391-1765567800-1765575000@farstabladet.se
SUMMARY:Futsal\, Svenska Futsalligan\, Söder Futsal - Örebro SK
DESCRIPTION:Kom och stötta Söder i Farstahallen!\n 
URL:https://farstabladet.se/kalender/futsal-svenska-futsalligan-soder-futsal-orebro-sk/
LOCATION:Farsta sim- och idrottshall\, Farstaängsvägen 3\, Farsta
CATEGORIES:Futsal,Sport
ATTACH;FMTTYPE=image/png:https://farstabladet.se/wp-content/uploads/2025/09/Soder-Futsal.png
END:VEVENT
BEGIN:VEVENT
DTSTART;TZID=Europe/Paris:20251210T190000
DTEND;TZID=Europe/Paris:20251210T190000
DTSTAMP:20260420T001612
CREATED:20250926T085513Z
LAST-MODIFIED:20250926T085513Z
UID:10004438-1765393200-1765393200@farstabladet.se
SUMMARY:Basketettan Herrar\, Hammarby - KFUM Central Basket
DESCRIPTION:Kom och stötta Bajen!
URL:https://farstabladet.se/kalender/basketettan-herrar-hammarby-kfum-central-basket/
LOCATION:Farsta sim- och idrottshall\, Farstaängsvägen 3\, Farsta
CATEGORIES:Basket,Sport
ATTACH;FMTTYPE=image/png:https://farstabladet.se/wp-content/uploads/2025/09/Hammarby-nLogga.png
ORGANIZER;CN="Hammarby IF Basket":MAILTO:kansli@hammarbybasket.se
END:VEVENT
BEGIN:VEVENT
DTSTART;TZID=Europe/Paris:20251207T180000
DTEND;TZID=Europe/Paris:20251207T180000
DTSTAMP:20260420T001613
CREATED:20250915T052956Z
LAST-MODIFIED:20250915T052956Z
UID:10004401-1765130400-1765130400@farstabladet.se
SUMMARY:Basketettan Damer\, Hammarby - Turebergs Basketklubb
DESCRIPTION:Kom och stötta Bajen!
URL:https://farstabladet.se/kalender/basketettan-damer-hammarby-turebergs-basketklubb/
LOCATION:Farsta sim- och idrottshall\, Farstaängsvägen 3\, Farsta
CATEGORIES:Basket,Sport
ATTACH;FMTTYPE=image/png:https://farstabladet.se/wp-content/uploads/2025/09/Hammarby-nLogga.png
ORGANIZER;CN="Hammarby IF Basket":MAILTO:kansli@hammarbybasket.se
END:VEVENT
BEGIN:VEVENT
DTSTART;TZID=Europe/Paris:20251207T143000
DTEND;TZID=Europe/Paris:20251207T143000
DTSTAMP:20260420T001613
CREATED:20250926T085355Z
LAST-MODIFIED:20250926T085355Z
UID:10004437-1765117800-1765117800@farstabladet.se
SUMMARY:Basketettan Herrar\, Hammarby - KFUM Örebro Basket
DESCRIPTION:Kom och stötta Bajen!
URL:https://farstabladet.se/kalender/basketettan-herrar-hammarby-kfum-orebro-basket/
LOCATION:Farsta sim- och idrottshall\, Farstaängsvägen 3\, Farsta
CATEGORIES:Basket,Sport
ATTACH;FMTTYPE=image/png:https://farstabladet.se/wp-content/uploads/2025/09/Hammarby-nLogga.png
ORGANIZER;CN="Hammarby IF Basket":MAILTO:kansli@hammarbybasket.se
END:VEVENT
BEGIN:VEVENT
DTSTART;TZID=Europe/Paris:20251206T140000
DTEND;TZID=Europe/Paris:20251206T160000
DTSTAMP:20260420T001613
CREATED:20250803T095321Z
LAST-MODIFIED:20250803T095321Z
UID:10004230-1765029600-1765036800@farstabladet.se
SUMMARY:Innebandy Div 1 herr\, Farsta IBK - Nykvarns IF Utveckling
DESCRIPTION:Stötta Farsta Sharks – din lokala innebandyklubb i Farsta! \nPlats: Farstahallen
URL:https://farstabladet.se/kalender/innebandy-div-1-herr-farsta-ibk-nykvarns-if-utveckling/
LOCATION:Farsta sim- och idrottshall\, Farstaängsvägen 3\, Farsta
CATEGORIES:Innebandy,Sport
ATTACH;FMTTYPE=image/jpeg:https://farstabladet.se/wp-content/uploads/2025/05/IMG_1286.jpeg
ORGANIZER;CN="Farsta Sharks IBK":MAILTO:kansli@farstaibk.se
END:VEVENT
BEGIN:VEVENT
DTSTART;TZID=Europe/Paris:20251130T150000
DTEND;TZID=Europe/Paris:20251130T170000
DTSTAMP:20260420T001613
CREATED:20250915T051239Z
LAST-MODIFIED:20250915T051239Z
UID:10004390-1764514800-1764522000@farstabladet.se
SUMMARY:Futsal\, Svenska Futsalligan\, Söder Futsal - Uddevalla Futsal Club
DESCRIPTION:Kom och stötta Söder i Farstahallen!\n 
URL:https://farstabladet.se/kalender/futsal-svenska-futsalligan-soder-futsal-uddevalla-futsal-club/
LOCATION:Farsta sim- och idrottshall\, Farstaängsvägen 3\, Farsta
CATEGORIES:Futsal,Sport
ATTACH;FMTTYPE=image/png:https://farstabladet.se/wp-content/uploads/2025/09/Soder-Futsal.png
END:VEVENT
BEGIN:VEVENT
DTSTART;TZID=Europe/Paris:20251130T130000
DTEND;TZID=Europe/Paris:20251130T130000
DTSTAMP:20260420T001613
CREATED:20250915T052851Z
LAST-MODIFIED:20250915T052905Z
UID:10004400-1764507600-1764507600@farstabladet.se
SUMMARY:Basketettan Damer\, Hammarby - Östersund Basket
DESCRIPTION:Kom och stötta Bajen!
URL:https://farstabladet.se/kalender/basketettan-damer-hammarby-ostersund-basket/
LOCATION:Farsta sim- och idrottshall\, Farstaängsvägen 3\, Farsta
CATEGORIES:Basket,Sport
ATTACH;FMTTYPE=image/png:https://farstabladet.se/wp-content/uploads/2025/09/Hammarby-nLogga.png
ORGANIZER;CN="Hammarby IF Basket":MAILTO:kansli@hammarbybasket.se
END:VEVENT
BEGIN:VEVENT
DTSTART;TZID=Europe/Paris:20251123T170000
DTEND;TZID=Europe/Paris:20251123T190000
DTSTAMP:20260420T001613
CREATED:20250915T051144Z
LAST-MODIFIED:20250915T051144Z
UID:10004389-1763917200-1763924400@farstabladet.se
SUMMARY:Futsal\, Svenska Futsalligan\, Söder Futsal - Skoftebyns IF
DESCRIPTION:Kom och stötta Söder i Farstahallen!\n 
URL:https://farstabladet.se/kalender/futsal-svenska-futsalligan-soder-futsal-skoftebyns-if/
LOCATION:Farsta sim- och idrottshall\, Farstaängsvägen 3\, Farsta
CATEGORIES:Futsal,Sport
ATTACH;FMTTYPE=image/png:https://farstabladet.se/wp-content/uploads/2025/09/Soder-Futsal.png
END:VEVENT
BEGIN:VEVENT
DTSTART;TZID=Europe/Paris:20251123T140000
DTEND;TZID=Europe/Paris:20251123T160000
DTSTAMP:20260420T001613
CREATED:20250803T095226Z
LAST-MODIFIED:20250803T095226Z
UID:10004229-1763906400-1763913600@farstabladet.se
SUMMARY:Innebandy Div 1 herr\, Farsta IBK - FBC Nyköping
DESCRIPTION:Stötta Farsta Sharks – din lokala innebandyklubb i Farsta! \nPlats: Farstahallen
URL:https://farstabladet.se/kalender/innebandy-div-1-herr-farsta-ibk-fbc-nykoping/
LOCATION:Farsta sim- och idrottshall\, Farstaängsvägen 3\, Farsta
CATEGORIES:Innebandy,Sport
ATTACH;FMTTYPE=image/jpeg:https://farstabladet.se/wp-content/uploads/2025/05/IMG_1286.jpeg
ORGANIZER;CN="Farsta Sharks IBK":MAILTO:kansli@farstaibk.se
END:VEVENT
BEGIN:VEVENT
DTSTART;TZID=Europe/Paris:20251116T130000
DTEND;TZID=Europe/Paris:20251116T130000
DTSTAMP:20260420T001613
CREATED:20250926T085313Z
LAST-MODIFIED:20250926T085313Z
UID:10004436-1763298000-1763298000@farstabladet.se
SUMMARY:Basketettan Herrar\, Hammarby - RIG Luleå
DESCRIPTION:Kom och stötta Bajen!
URL:https://farstabladet.se/kalender/basketettan-herrar-hammarby-rig-lulea/
LOCATION:Farsta sim- och idrottshall\, Farstaängsvägen 3\, Farsta
CATEGORIES:Basket,Sport
ATTACH;FMTTYPE=image/png:https://farstabladet.se/wp-content/uploads/2025/09/Hammarby-nLogga.png
ORGANIZER;CN="Hammarby IF Basket":MAILTO:kansli@hammarbybasket.se
END:VEVENT
END:VCALENDAR