BEGIN:VCALENDAR
VERSION:2.0
PRODID:-//Farsta-Kalendern - ECPv6.15.20//NONSGML v1.0//EN
CALSCALE:GREGORIAN
METHOD:PUBLISH
X-ORIGINAL-URL:https://farstabladet.se
X-WR-CALDESC:Händelser för Farsta-Kalendern
REFRESH-INTERVAL;VALUE=DURATION:PT1H
X-Robots-Tag:noindex
X-PUBLISHED-TTL:PT1H
BEGIN:VTIMEZONE
TZID:Europe/Paris
BEGIN:DAYLIGHT
TZOFFSETFROM:+0100
TZOFFSETTO:+0200
TZNAME:CEST
DTSTART:20240331T010000
END:DAYLIGHT
BEGIN:STANDARD
TZOFFSETFROM:+0200
TZOFFSETTO:+0100
TZNAME:CET
DTSTART:20241027T010000
END:STANDARD
BEGIN:DAYLIGHT
TZOFFSETFROM:+0100
TZOFFSETTO:+0200
TZNAME:CEST
DTSTART:20250330T010000
END:DAYLIGHT
BEGIN:STANDARD
TZOFFSETFROM:+0200
TZOFFSETTO:+0100
TZNAME:CET
DTSTART:20251026T010000
END:STANDARD
BEGIN:DAYLIGHT
TZOFFSETFROM:+0100
TZOFFSETTO:+0200
TZNAME:CEST
DTSTART:20260329T010000
END:DAYLIGHT
BEGIN:STANDARD
TZOFFSETFROM:+0200
TZOFFSETTO:+0100
TZNAME:CET
DTSTART:20261025T010000
END:STANDARD
END:VTIMEZONE
BEGIN:VEVENT
DTSTART;TZID=Europe/Paris:20251210T190000
DTEND;TZID=Europe/Paris:20251210T190000
DTSTAMP:20260420T163703
CREATED:20250926T085513Z
LAST-MODIFIED:20250926T085513Z
UID:10004438-1765393200-1765393200@farstabladet.se
SUMMARY:Basketettan Herrar\, Hammarby - KFUM Central Basket
DESCRIPTION:Kom och stötta Bajen!
URL:https://farstabladet.se/kalender/basketettan-herrar-hammarby-kfum-central-basket/
LOCATION:Farsta sim- och idrottshall\, Farstaängsvägen 3\, Farsta
CATEGORIES:Basket,Sport
ATTACH;FMTTYPE=image/png:https://farstabladet.se/wp-content/uploads/2025/09/Hammarby-nLogga.png
ORGANIZER;CN="Hammarby IF Basket":MAILTO:kansli@hammarbybasket.se
END:VEVENT
BEGIN:VEVENT
DTSTART;TZID=Europe/Paris:20251207T180000
DTEND;TZID=Europe/Paris:20251207T180000
DTSTAMP:20260420T163703
CREATED:20250915T052956Z
LAST-MODIFIED:20250915T052956Z
UID:10004401-1765130400-1765130400@farstabladet.se
SUMMARY:Basketettan Damer\, Hammarby - Turebergs Basketklubb
DESCRIPTION:Kom och stötta Bajen!
URL:https://farstabladet.se/kalender/basketettan-damer-hammarby-turebergs-basketklubb/
LOCATION:Farsta sim- och idrottshall\, Farstaängsvägen 3\, Farsta
CATEGORIES:Basket,Sport
ATTACH;FMTTYPE=image/png:https://farstabladet.se/wp-content/uploads/2025/09/Hammarby-nLogga.png
ORGANIZER;CN="Hammarby IF Basket":MAILTO:kansli@hammarbybasket.se
END:VEVENT
BEGIN:VEVENT
DTSTART;TZID=Europe/Paris:20251207T143000
DTEND;TZID=Europe/Paris:20251207T143000
DTSTAMP:20260420T163703
CREATED:20250926T085355Z
LAST-MODIFIED:20250926T085355Z
UID:10004437-1765117800-1765117800@farstabladet.se
SUMMARY:Basketettan Herrar\, Hammarby - KFUM Örebro Basket
DESCRIPTION:Kom och stötta Bajen!
URL:https://farstabladet.se/kalender/basketettan-herrar-hammarby-kfum-orebro-basket/
LOCATION:Farsta sim- och idrottshall\, Farstaängsvägen 3\, Farsta
CATEGORIES:Basket,Sport
ATTACH;FMTTYPE=image/png:https://farstabladet.se/wp-content/uploads/2025/09/Hammarby-nLogga.png
ORGANIZER;CN="Hammarby IF Basket":MAILTO:kansli@hammarbybasket.se
END:VEVENT
BEGIN:VEVENT
DTSTART;TZID=Europe/Paris:20251206T140000
DTEND;TZID=Europe/Paris:20251206T160000
DTSTAMP:20260420T163703
CREATED:20250803T095321Z
LAST-MODIFIED:20250803T095321Z
UID:10004230-1765029600-1765036800@farstabladet.se
SUMMARY:Innebandy Div 1 herr\, Farsta IBK - Nykvarns IF Utveckling
DESCRIPTION:Stötta Farsta Sharks – din lokala innebandyklubb i Farsta! \nPlats: Farstahallen
URL:https://farstabladet.se/kalender/innebandy-div-1-herr-farsta-ibk-nykvarns-if-utveckling/
LOCATION:Farsta sim- och idrottshall\, Farstaängsvägen 3\, Farsta
CATEGORIES:Innebandy,Sport
ATTACH;FMTTYPE=image/jpeg:https://farstabladet.se/wp-content/uploads/2025/05/IMG_1286.jpeg
ORGANIZER;CN="Farsta Sharks IBK":MAILTO:kansli@farstaibk.se
END:VEVENT
BEGIN:VEVENT
DTSTART;TZID=Europe/Paris:20251130T150000
DTEND;TZID=Europe/Paris:20251130T170000
DTSTAMP:20260420T163703
CREATED:20250915T051239Z
LAST-MODIFIED:20250915T051239Z
UID:10004390-1764514800-1764522000@farstabladet.se
SUMMARY:Futsal\, Svenska Futsalligan\, Söder Futsal - Uddevalla Futsal Club
DESCRIPTION:Kom och stötta Söder i Farstahallen!\n 
URL:https://farstabladet.se/kalender/futsal-svenska-futsalligan-soder-futsal-uddevalla-futsal-club/
LOCATION:Farsta sim- och idrottshall\, Farstaängsvägen 3\, Farsta
CATEGORIES:Futsal,Sport
ATTACH;FMTTYPE=image/png:https://farstabladet.se/wp-content/uploads/2025/09/Soder-Futsal.png
END:VEVENT
BEGIN:VEVENT
DTSTART;TZID=Europe/Paris:20251130T130000
DTEND;TZID=Europe/Paris:20251130T130000
DTSTAMP:20260420T163703
CREATED:20250915T052851Z
LAST-MODIFIED:20250915T052905Z
UID:10004400-1764507600-1764507600@farstabladet.se
SUMMARY:Basketettan Damer\, Hammarby - Östersund Basket
DESCRIPTION:Kom och stötta Bajen!
URL:https://farstabladet.se/kalender/basketettan-damer-hammarby-ostersund-basket/
LOCATION:Farsta sim- och idrottshall\, Farstaängsvägen 3\, Farsta
CATEGORIES:Basket,Sport
ATTACH;FMTTYPE=image/png:https://farstabladet.se/wp-content/uploads/2025/09/Hammarby-nLogga.png
ORGANIZER;CN="Hammarby IF Basket":MAILTO:kansli@hammarbybasket.se
END:VEVENT
BEGIN:VEVENT
DTSTART;TZID=Europe/Paris:20251123T170000
DTEND;TZID=Europe/Paris:20251123T190000
DTSTAMP:20260420T163703
CREATED:20250915T051144Z
LAST-MODIFIED:20250915T051144Z
UID:10004389-1763917200-1763924400@farstabladet.se
SUMMARY:Futsal\, Svenska Futsalligan\, Söder Futsal - Skoftebyns IF
DESCRIPTION:Kom och stötta Söder i Farstahallen!\n 
URL:https://farstabladet.se/kalender/futsal-svenska-futsalligan-soder-futsal-skoftebyns-if/
LOCATION:Farsta sim- och idrottshall\, Farstaängsvägen 3\, Farsta
CATEGORIES:Futsal,Sport
ATTACH;FMTTYPE=image/png:https://farstabladet.se/wp-content/uploads/2025/09/Soder-Futsal.png
END:VEVENT
BEGIN:VEVENT
DTSTART;TZID=Europe/Paris:20251123T140000
DTEND;TZID=Europe/Paris:20251123T160000
DTSTAMP:20260420T163703
CREATED:20250803T095226Z
LAST-MODIFIED:20250803T095226Z
UID:10004229-1763906400-1763913600@farstabladet.se
SUMMARY:Innebandy Div 1 herr\, Farsta IBK - FBC Nyköping
DESCRIPTION:Stötta Farsta Sharks – din lokala innebandyklubb i Farsta! \nPlats: Farstahallen
URL:https://farstabladet.se/kalender/innebandy-div-1-herr-farsta-ibk-fbc-nykoping/
LOCATION:Farsta sim- och idrottshall\, Farstaängsvägen 3\, Farsta
CATEGORIES:Innebandy,Sport
ATTACH;FMTTYPE=image/jpeg:https://farstabladet.se/wp-content/uploads/2025/05/IMG_1286.jpeg
ORGANIZER;CN="Farsta Sharks IBK":MAILTO:kansli@farstaibk.se
END:VEVENT
BEGIN:VEVENT
DTSTART;TZID=Europe/Paris:20251116T130000
DTEND;TZID=Europe/Paris:20251116T130000
DTSTAMP:20260420T163703
CREATED:20250926T085313Z
LAST-MODIFIED:20250926T085313Z
UID:10004436-1763298000-1763298000@farstabladet.se
SUMMARY:Basketettan Herrar\, Hammarby - RIG Luleå
DESCRIPTION:Kom och stötta Bajen!
URL:https://farstabladet.se/kalender/basketettan-herrar-hammarby-rig-lulea/
LOCATION:Farsta sim- och idrottshall\, Farstaängsvägen 3\, Farsta
CATEGORIES:Basket,Sport
ATTACH;FMTTYPE=image/png:https://farstabladet.se/wp-content/uploads/2025/09/Hammarby-nLogga.png
ORGANIZER;CN="Hammarby IF Basket":MAILTO:kansli@hammarbybasket.se
END:VEVENT
BEGIN:VEVENT
DTSTART;TZID=Europe/Paris:20251115T140000
DTEND;TZID=Europe/Paris:20251115T160000
DTSTAMP:20260420T163703
CREATED:20250803T095152Z
LAST-MODIFIED:20250803T095152Z
UID:10004228-1763215200-1763222400@farstabladet.se
SUMMARY:Innebandy Div 1 herr\, Farsta IBK - Nacka IBK
DESCRIPTION:Stötta Farsta Sharks – din lokala innebandyklubb i Farsta! \nPlats: Farstahallen
URL:https://farstabladet.se/kalender/innebandy-div-1-herr-farsta-ibk-nacka-ibk/
LOCATION:Farsta sim- och idrottshall\, Farstaängsvägen 3\, Farsta
CATEGORIES:Innebandy,Sport
ATTACH;FMTTYPE=image/jpeg:https://farstabladet.se/wp-content/uploads/2025/05/IMG_1286.jpeg
ORGANIZER;CN="Farsta Sharks IBK":MAILTO:kansli@farstaibk.se
END:VEVENT
BEGIN:VEVENT
DTSTART;TZID=Europe/Paris:20251112T190000
DTEND;TZID=Europe/Paris:20251112T190000
DTSTAMP:20260420T163703
CREATED:20250926T085226Z
LAST-MODIFIED:20250926T085226Z
UID:10004435-1762974000-1762974000@farstabladet.se
SUMMARY:Basketettan Herrar\, Hammarby - Uppsala Basket
DESCRIPTION:Kom och stötta Bajen!
URL:https://farstabladet.se/kalender/basketettan-herrar-hammarby-uppsala-basket/
LOCATION:Farsta sim- och idrottshall\, Farstaängsvägen 3\, Farsta
CATEGORIES:Basket,Sport
ATTACH;FMTTYPE=image/png:https://farstabladet.se/wp-content/uploads/2025/09/Hammarby-nLogga.png
ORGANIZER;CN="Hammarby IF Basket":MAILTO:kansli@hammarbybasket.se
END:VEVENT
BEGIN:VEVENT
DTSTART;TZID=Europe/Paris:20251105T193000
DTEND;TZID=Europe/Paris:20251105T213000
DTSTAMP:20260420T163703
CREATED:20250915T051035Z
LAST-MODIFIED:20250915T051035Z
UID:10004388-1762371000-1762378200@farstabladet.se
SUMMARY:Futsal\, Svenska Futsalligan\, Söder Futsal - Norrköping Futsal Klubb
DESCRIPTION:Kom och stötta Söder i Farstahallen!\n 
URL:https://farstabladet.se/kalender/futsal-svenska-futsalligan-soder-futsal-norrkoping-futsal-klubb/
LOCATION:Farsta sim- och idrottshall\, Farstaängsvägen 3\, Farsta
CATEGORIES:Futsal,Sport
ATTACH;FMTTYPE=image/png:https://farstabladet.se/wp-content/uploads/2025/09/Soder-Futsal.png
END:VEVENT
BEGIN:VEVENT
DTSTART;TZID=Europe/Paris:20251102T150000
DTEND;TZID=Europe/Paris:20251102T150000
DTSTAMP:20260420T163703
CREATED:20250915T052801Z
LAST-MODIFIED:20250915T052801Z
UID:10004399-1762095600-1762095600@farstabladet.se
SUMMARY:Basketettan Damer\, Hammarby - Skuru Basket
DESCRIPTION:Kom och stötta Bajen!
URL:https://farstabladet.se/kalender/basketettan-damer-hammarby-skuru-basket/
LOCATION:Farsta sim- och idrottshall\, Farstaängsvägen 3\, Farsta
CATEGORIES:Basket,Sport
ATTACH;FMTTYPE=image/png:https://farstabladet.se/wp-content/uploads/2025/09/Hammarby-nLogga.png
ORGANIZER;CN="Hammarby IF Basket":MAILTO:kansli@hammarbybasket.se
END:VEVENT
BEGIN:VEVENT
DTSTART;TZID=Europe/Paris:20251101T140000
DTEND;TZID=Europe/Paris:20251101T160000
DTSTAMP:20260420T163703
CREATED:20250803T095102Z
LAST-MODIFIED:20250803T095102Z
UID:10004227-1762005600-1762012800@farstabladet.se
SUMMARY:Innebandy Div 1 herr\, Farsta IBK - Huddinge IBS
DESCRIPTION:Stötta Farsta Sharks – din lokala innebandyklubb i Farsta! \nPlats: Farstahallen
URL:https://farstabladet.se/kalender/innebandy-div-1-herr-farsta-ibk-huddinge-ibs/
LOCATION:Farsta sim- och idrottshall\, Farstaängsvägen 3\, Farsta
CATEGORIES:Innebandy,Sport
ATTACH;FMTTYPE=image/jpeg:https://farstabladet.se/wp-content/uploads/2025/05/IMG_1286.jpeg
ORGANIZER;CN="Farsta Sharks IBK":MAILTO:kansli@farstaibk.se
END:VEVENT
BEGIN:VEVENT
DTSTART;TZID=Europe/Paris:20251027T100000
DTEND;TZID=Europe/Paris:20251027T150000
DTSTAMP:20260420T163703
CREATED:20251024T170620Z
LAST-MODIFIED:20251024T170620Z
UID:10005676-1761559200-1761577200@farstabladet.se
SUMMARY:Full Fart Farsta
DESCRIPTION:Vi håller idrottshallarna öppna under höstlovet. Kom till oss och rör på dig! \n\nDu kommer bland annat att få prova på: \n\nHinderbanor\nBollspel\nRacketsporter\n\nDet är gratis att vara med. \nDu behöver inte anmäla dig\, det är bara att komma förbi. \nVarmt välkommen att hoppa\, sporta och klättra tillsammans med oss!
URL:https://farstabladet.se/kalender/full-fart-farsta/
LOCATION:Farsta sim- och idrottshall\, Farstaängsvägen 3\, Farsta
ATTACH;FMTTYPE=image/webp:https://farstabladet.se/wp-content/uploads/2025/10/bild-full-fart-002-1.webp
END:VEVENT
BEGIN:VEVENT
DTSTART;TZID=Europe/Paris:20251026T150000
DTEND;TZID=Europe/Paris:20251026T170000
DTSTAMP:20260420T163703
CREATED:20250915T050929Z
LAST-MODIFIED:20250915T050929Z
UID:10004387-1761490800-1761498000@farstabladet.se
SUMMARY:Futsal\, Svenska Futsalligan\, Söder Futsal - Kalmar United FK
DESCRIPTION:Kom och stötta Söder i Farstahallen!\n 
URL:https://farstabladet.se/kalender/futsal-svenska-futsalligan-soder-futsal-kalmar-united-fk/
LOCATION:Farsta sim- och idrottshall\, Farstaängsvägen 3\, Farsta
CATEGORIES:Futsal,Sport
ATTACH;FMTTYPE=image/png:https://farstabladet.se/wp-content/uploads/2025/09/Soder-Futsal.png
END:VEVENT
END:VCALENDAR