BEGIN:VCALENDAR
VERSION:2.0
PRODID:-//Farsta-Kalendern - ECPv6.15.20//NONSGML v1.0//EN
CALSCALE:GREGORIAN
METHOD:PUBLISH
X-WR-CALNAME:Farsta-Kalendern
X-ORIGINAL-URL:https://farstabladet.se
X-WR-CALDESC:Händelser för Farsta-Kalendern
REFRESH-INTERVAL;VALUE=DURATION:PT1H
X-Robots-Tag:noindex
X-PUBLISHED-TTL:PT1H
BEGIN:VTIMEZONE
TZID:Europe/Paris
BEGIN:DAYLIGHT
TZOFFSETFROM:+0100
TZOFFSETTO:+0200
TZNAME:CEST
DTSTART:20240331T010000
END:DAYLIGHT
BEGIN:STANDARD
TZOFFSETFROM:+0200
TZOFFSETTO:+0100
TZNAME:CET
DTSTART:20241027T010000
END:STANDARD
BEGIN:DAYLIGHT
TZOFFSETFROM:+0100
TZOFFSETTO:+0200
TZNAME:CEST
DTSTART:20250330T010000
END:DAYLIGHT
BEGIN:STANDARD
TZOFFSETFROM:+0200
TZOFFSETTO:+0100
TZNAME:CET
DTSTART:20251026T010000
END:STANDARD
BEGIN:DAYLIGHT
TZOFFSETFROM:+0100
TZOFFSETTO:+0200
TZNAME:CEST
DTSTART:20260329T010000
END:DAYLIGHT
BEGIN:STANDARD
TZOFFSETFROM:+0200
TZOFFSETTO:+0100
TZNAME:CET
DTSTART:20261025T010000
END:STANDARD
END:VTIMEZONE
BEGIN:VEVENT
DTSTART;TZID=Europe/Paris:20251102T164000
DTEND;TZID=Europe/Paris:20251102T164000
DTSTAMP:20260421T133854
CREATED:20250926T090500Z
LAST-MODIFIED:20250926T090500Z
UID:10004446-1762101600-1762101600@farstabladet.se
SUMMARY:Bandy\, Div 1 Herrar\, GT/76 - Isak Bandy
DESCRIPTION:Kom och stötta GT/76!
URL:https://farstabladet.se/kalender/bandy-div-1-herrar-gt-76-isak-bandy/
LOCATION:Gubbängen Skridsko- och Bandyhall\, Måkurvan 24\, Gubbängen\, 12249
CATEGORIES:Bandy,Sport
ATTACH;FMTTYPE=image/png:https://farstabladet.se/wp-content/uploads/2025/09/GT76.png
ORGANIZER;CN="GT/76 Bandy":MAILTO:gt76bandy@gmail.com
END:VEVENT
END:VCALENDAR