BEGIN:VCALENDAR
VERSION:2.0
PRODID:-//Farsta-Kalendern - ECPv6.15.20//NONSGML v1.0//EN
CALSCALE:GREGORIAN
METHOD:PUBLISH
X-ORIGINAL-URL:https://farstabladet.se
X-WR-CALDESC:Händelser för Farsta-Kalendern
REFRESH-INTERVAL;VALUE=DURATION:PT1H
X-Robots-Tag:noindex
X-PUBLISHED-TTL:PT1H
BEGIN:VTIMEZONE
TZID:Europe/Paris
BEGIN:DAYLIGHT
TZOFFSETFROM:+0100
TZOFFSETTO:+0200
TZNAME:CEST
DTSTART:20240331T010000
END:DAYLIGHT
BEGIN:STANDARD
TZOFFSETFROM:+0200
TZOFFSETTO:+0100
TZNAME:CET
DTSTART:20241027T010000
END:STANDARD
BEGIN:DAYLIGHT
TZOFFSETFROM:+0100
TZOFFSETTO:+0200
TZNAME:CEST
DTSTART:20250330T010000
END:DAYLIGHT
BEGIN:STANDARD
TZOFFSETFROM:+0200
TZOFFSETTO:+0100
TZNAME:CET
DTSTART:20251026T010000
END:STANDARD
BEGIN:DAYLIGHT
TZOFFSETFROM:+0100
TZOFFSETTO:+0200
TZNAME:CEST
DTSTART:20260329T010000
END:DAYLIGHT
BEGIN:STANDARD
TZOFFSETFROM:+0200
TZOFFSETTO:+0100
TZNAME:CET
DTSTART:20261025T010000
END:STANDARD
BEGIN:DAYLIGHT
TZOFFSETFROM:+0100
TZOFFSETTO:+0200
TZNAME:CEST
DTSTART:20270328T010000
END:DAYLIGHT
BEGIN:STANDARD
TZOFFSETFROM:+0200
TZOFFSETTO:+0100
TZNAME:CET
DTSTART:20271031T010000
END:STANDARD
END:VTIMEZONE
BEGIN:VEVENT
DTSTART;TZID=Europe/Paris:20260226T180000
DTEND;TZID=Europe/Paris:20260226T210000
DTSTAMP:20260420T151131
CREATED:20251218T085012Z
LAST-MODIFIED:20251218T085012Z
UID:10006487-1772128800-1772139600@farstabladet.se
SUMMARY:Viskväll - Touch
DESCRIPTION:Touch är ett svenskt bandprojekt som rör sig inom ett melodiskt och stämningsdrivet uttryck\, där samspel och känsla står i fokus. Musiken präglas av ett personligt sound och framförs ofta i nära möte med publiken\, på mindre scener och konserter med betoning på helhet och atmosfär. \nVi serverar fika i pausen för 40:-\nVi öppnar kl 18.00 – kom och se vår fina Cornelisutställning! \nHjärtligt välkomna. \nBiljetter köps i regel på Kulturbiljetter – Biljetter till teater\, musik\, kultur och nöje.
URL:https://farstabladet.se/kalender/viskvall-touch/
LOCATION:Hökis Visrum\, Hökarängsplan 3\, Farsta\, Stockholm\, Sweden
CATEGORIES:Musik,Poesi
ATTACH;FMTTYPE=image/webp:https://farstabladet.se/wp-content/uploads/2025/12/Hokis-Visrum-VT-2026.webp
ORGANIZER;CN="H%C3%B6kis Visrum":MAILTO:info@hokisvisrum.se
END:VEVENT
BEGIN:VEVENT
DTSTART;TZID=Europe/Paris:20260219T180000
DTEND;TZID=Europe/Paris:20260219T210000
DTSTAMP:20260420T151131
CREATED:20251218T084837Z
LAST-MODIFIED:20251218T084837Z
UID:10006486-1771524000-1771534800@farstabladet.se
SUMMARY:Viskväll - Ninna Gudmundsson
DESCRIPTION:Ninna Gudmundsson är en svensk visartist med ett personligt och lågmält uttryck\, där röst och text står i centrum. Med rötter i den nordiska vistraditionen framför hon både eget material och tolkningar\, ofta i ett intimt och akustiskt format på mindre scener och viskvällar. \nVi serverar fika i pausen för 40:-\nVi öppnar kl 18.00 – kom och se vår fina Cornelisutställning! \nHjärtligt välkomna. \nBiljetter köps i regel på Kulturbiljetter – Biljetter till teater\, musik\, kultur och nöje.
URL:https://farstabladet.se/kalender/viskvall-ninna-gudmundsson/
LOCATION:Hökis Visrum\, Hökarängsplan 3\, Farsta\, Stockholm\, Sweden
CATEGORIES:Musik,Poesi
ATTACH;FMTTYPE=image/webp:https://farstabladet.se/wp-content/uploads/2025/12/Hokis-Visrum-VT-2026.webp
ORGANIZER;CN="H%C3%B6kis Visrum":MAILTO:info@hokisvisrum.se
END:VEVENT
BEGIN:VEVENT
DTSTART;TZID=Europe/Paris:20260212T180000
DTEND;TZID=Europe/Paris:20260212T210000
DTSTAMP:20260420T151131
CREATED:20251218T084730Z
LAST-MODIFIED:20251218T084730Z
UID:10006485-1770919200-1770930000@farstabladet.se
SUMMARY:Viskväll - Gunnar Källström
DESCRIPTION:Gunnar Källström är en svensk visartist och trubadur med rötter i den traditionella svenska visan. Hans musik präglas av berättande texter\, eftertänksamhet och ett avskalat akustiskt uttryck\, där orden och tolkningen står i centrum. Han uppträder ofta i intima sammanhang som caféer\, mindre scener och viskvällar. \nVi serverar fika i pausen för 40:-\nVi öppnar kl 18.00 – kom och se vår fina Cornelisutställning! \nHjärtligt välkomna. \nBiljetter köps i regel på Kulturbiljetter – Biljetter till teater\, musik\, kultur och nöje.
URL:https://farstabladet.se/kalender/viskvall-gunnar-kallstrom/
LOCATION:Hökis Visrum\, Hökarängsplan 3\, Farsta\, Stockholm\, Sweden
CATEGORIES:Musik,Poesi
ATTACH;FMTTYPE=image/webp:https://farstabladet.se/wp-content/uploads/2025/12/Hokis-Visrum-VT-2026.webp
ORGANIZER;CN="H%C3%B6kis Visrum":MAILTO:info@hokisvisrum.se
END:VEVENT
BEGIN:VEVENT
DTSTART;TZID=Europe/Paris:20260205T180000
DTEND;TZID=Europe/Paris:20260205T210000
DTSTAMP:20260420T151131
CREATED:20251218T084643Z
LAST-MODIFIED:20251218T084643Z
UID:10006484-1770314400-1770325200@farstabladet.se
SUMMARY:Viskväll - Christer Jonasson Tolv
DESCRIPTION:Christer Jonasson (Tolv) är en svensk musiker och låtskrivare med rötter i visa\, folk och akustisk singer-songwriter-tradition. Under namnet Tolv arbetar han med ett avskalat\, textnära uttryck där berättandet står i centrum\, ofta med personliga och eftertänksamma texter framförda i intimt format på mindre scener och sammanhang. \nVi serverar fika i pausen för 40:-\nVi öppnar kl 18.00 – kom och se vår fina Cornelisutställning! \nHjärtligt välkomna. \nBiljetter köps i regel på Kulturbiljetter – Biljetter till teater\, musik\, kultur och nöje.
URL:https://farstabladet.se/kalender/viskvall-christer-jonasson-tolv/
LOCATION:Hökis Visrum\, Hökarängsplan 3\, Farsta\, Stockholm\, Sweden
CATEGORIES:Musik,Poesi
ATTACH;FMTTYPE=image/webp:https://farstabladet.se/wp-content/uploads/2025/12/Hokis-Visrum-VT-2026.webp
ORGANIZER;CN="H%C3%B6kis Visrum":MAILTO:info@hokisvisrum.se
END:VEVENT
BEGIN:VEVENT
DTSTART;TZID=Europe/Paris:20260129T180000
DTEND;TZID=Europe/Paris:20260129T210000
DTSTAMP:20260420T151131
CREATED:20251218T084515Z
LAST-MODIFIED:20251218T084515Z
UID:10006483-1769709600-1769720400@farstabladet.se
SUMMARY:Viskväll - Puch & Staffan
DESCRIPTION:Puch och Staffan är en svensk vis- och trubadurduo som rör sig inom den traditionella vis- och berättarsången. Med akustiskt uttryck\, texter i fokus och en lågmäld men personlig stil framför de både eget material och tolkningar\, ofta i nära möte med publiken på mindre scener och evenemang. \nVi serverar fika i pausen för 40:-\nVi öppnar kl 18.00 – kom och se vår fina Cornelisutställning! \nHjärtligt välkomna. \nBiljetter köps i regel på Kulturbiljetter – Biljetter till teater\, musik\, kultur och nöje.
URL:https://farstabladet.se/kalender/viskvall-puch-staffan/
LOCATION:Hökis Visrum\, Hökarängsplan 3\, Farsta\, Stockholm\, Sweden
CATEGORIES:Musik,Poesi
ATTACH;FMTTYPE=image/webp:https://farstabladet.se/wp-content/uploads/2025/12/Hokis-Visrum-VT-2026.webp
ORGANIZER;CN="H%C3%B6kis Visrum":MAILTO:info@hokisvisrum.se
END:VEVENT
BEGIN:VEVENT
DTSTART;TZID=Europe/Paris:20260122T180000
DTEND;TZID=Europe/Paris:20260122T210000
DTSTAMP:20260420T151131
CREATED:20251218T084402Z
LAST-MODIFIED:20251218T084402Z
UID:10006482-1769104800-1769115600@farstabladet.se
SUMMARY:Viskväll
DESCRIPTION:Hökis Visrum välkomnar ett överraskningsband! \nVi serverar fika i pausen för 40:-\nVi öppnar kl 18.00 – kom och se vår fina Cornelisutställning! \nHjärtligt välkomna. \nBiljetter köps i regel på Kulturbiljetter – Biljetter till teater\, musik\, kultur och nöje.
URL:https://farstabladet.se/kalender/viskvall/
LOCATION:Hökis Visrum\, Hökarängsplan 3\, Farsta\, Stockholm\, Sweden
CATEGORIES:Musik,Poesi
ATTACH;FMTTYPE=image/webp:https://farstabladet.se/wp-content/uploads/2025/12/Hokis-Visrum-VT-2026.webp
ORGANIZER;CN="H%C3%B6kis Visrum":MAILTO:info@hokisvisrum.se
END:VEVENT
BEGIN:VEVENT
DTSTART;TZID=Europe/Paris:20260115T180000
DTEND;TZID=Europe/Paris:20260115T210000
DTSTAMP:20260420T151131
CREATED:20251218T084227Z
LAST-MODIFIED:20251218T084227Z
UID:10006481-1768500000-1768510800@farstabladet.se
SUMMARY:Viskväll - Lisa & Herr C
DESCRIPTION:Lisa och Herr C är en svensk vis- och trubadurduo som framför akustisk musik med fokus på närvaro\, berättande och känsla. De blandar eget material med personliga tolkningar av vis- och låtklassiker\, ofta i en intim och avskalad stil. Duon spelar regelbundet på caféer\, pubar och mindre evenemang och bjuder på visor som rör sig mellan det stillsamma och det uttrycksfulla. \nVi serverar fika i pausen för 40:-\nVi öppnar kl 18.00 – kom och se vår fina Cornelisutställning! \nHjärtligt välkomna. \nBiljetter köps i regel på Kulturbiljetter – Biljetter till teater\, musik\, kultur och nöje.
URL:https://farstabladet.se/kalender/viskvall-lisa-herr-c/
LOCATION:Hökis Visrum\, Hökarängsplan 3\, Farsta\, Stockholm\, Sweden
CATEGORIES:Musik,Poesi
ATTACH;FMTTYPE=image/webp:https://farstabladet.se/wp-content/uploads/2025/12/Hokis-Visrum-VT-2026.webp
ORGANIZER;CN="H%C3%B6kis Visrum":MAILTO:info@hokisvisrum.se
END:VEVENT
BEGIN:VEVENT
DTSTART;TZID=Europe/Paris:20251211T180000
DTEND;TZID=Europe/Paris:20251211T210000
DTSTAMP:20260420T151131
CREATED:20251029T144947Z
LAST-MODIFIED:20251029T145047Z
UID:10005690-1765476000-1765486800@farstabladet.se
SUMMARY:Viskväll - Micke Cho Johansson
DESCRIPTION:CHO har beträtt de mest legendariska tiljor under sitt eminenta trubadurskap. Men han har fler strängar på sin lyra… Finns det någon som kan mer om det Vreeswijkska släktträdet än CHO? Troligen inte. Med CHO vet du att han spelar men inte vad. CHO är en ingivelsernas man och mästare du inte får missa! \nVi serverar fika i pausen för 40:-\nVi öppnar kl 18.00 – kom och se vår fina Cornelisutställning! \nHjärtligt välkomna. \nKöp biljetter här.
URL:https://farstabladet.se/kalender/viskvall-micke-cho-johansson/
LOCATION:Hökis Visrum\, Hökarängsplan 3\, Farsta\, Stockholm\, Sweden
CATEGORIES:Musik,Poesi
ATTACH;FMTTYPE=image/png:https://farstabladet.se/wp-content/uploads/2025/10/Cho-1.png
ORGANIZER;CN="H%C3%B6kis Visrum":MAILTO:info@hokisvisrum.se
END:VEVENT
BEGIN:VEVENT
DTSTART;TZID=Europe/Paris:20251204T180000
DTEND;TZID=Europe/Paris:20251204T180000
DTSTAMP:20260420T151131
CREATED:20250804T103549Z
LAST-MODIFIED:20251029T144425Z
UID:10004261-1764871200-1764871200@farstabladet.se
SUMMARY:Viskväll - Englamarks Duo
DESCRIPTION:Hökis Visrum presenterar på scen – Englamarks Duo. \n\nEnglamarks Duo\, Mark Petersen och Bo Skuba tolkar Cornelis Vreeswijk på sitt sätt. Mark\, sångare med klassisk bakgrund och Bo\, pianist som bland annat kompat Monica Zetterlund och Svante Thuresson\, ger oss en innerlig och uttrycksfull tolkning där inslag av jazzharmonier ger nya dimensioner av vår kanske mest älskade låtskrivare. Välkomna till en vacker och passionerad föreställning! \nVi serverar fika i pausen för 40:-\nVi öppnar kl 18.00 – kom och se vår fina Cornelisutställning! \nHjärtligt välkomna. \n\nKöp biljetter här.
URL:https://farstabladet.se/kalender/viskvall-englamark-trio/
LOCATION:Hökis Visrum\, Hökarängsplan 3\, Farsta\, Stockholm\, Sweden
CATEGORIES:Kultur,Musik
ATTACH;FMTTYPE=image/jpeg:https://farstabladet.se/wp-content/uploads/2025/08/Englamarks-duo.jpg
ORGANIZER;CN="H%C3%B6kis Visrum":MAILTO:info@hokisvisrum.se
END:VEVENT
BEGIN:VEVENT
DTSTART;TZID=Europe/Paris:20251127T180000
DTEND;TZID=Europe/Paris:20251127T180000
DTSTAMP:20260420T151131
CREATED:20250804T103345Z
LAST-MODIFIED:20251009T120440Z
UID:10004260-1764266400-1764266400@farstabladet.se
SUMMARY:Viskväll - Du och jag och Näcken
DESCRIPTION:Två särpräglade trubadurer\, Caroline Langenheim och David Andersson\, bjuder på en svängig\, drömsk och surrealistisk viskonsert med egna och andras tonsättningar. \nVi serverar fika i pausen för 40:-\nVi öppnar kl 18.00 – kom och se vår fina Cornelisutställning! \nHjärtligt välkomna. Biljetter finns här.
URL:https://farstabladet.se/kalender/viskvall-du-och-jag-och-nacken/
LOCATION:Hökis Visrum\, Hökarängsplan 3\, Farsta\, Stockholm\, Sweden
CATEGORIES:Kultur,Musik
ATTACH;FMTTYPE=image/jpeg:https://farstabladet.se/wp-content/uploads/2025/08/Nacken.jpg
ORGANIZER;CN="H%C3%B6kis Visrum":MAILTO:info@hokisvisrum.se
END:VEVENT
BEGIN:VEVENT
DTSTART;TZID=Europe/Paris:20251120T180000
DTEND;TZID=Europe/Paris:20251120T180000
DTSTAMP:20260420T151131
CREATED:20250804T103005Z
LAST-MODIFIED:20251009T120359Z
UID:10004259-1763661600-1763661600@farstabladet.se
SUMMARY:Viskväll - Duo Reimer
DESCRIPTION:Ny viskväll – nu med Duo Reimer \nVi serverar fika i pausen för 40:-\nVi öppnar kl 18.00 – kom och se vår fina Cornelisutställning! \nHjärtligt välkomna. Biljetter finns här.
URL:https://farstabladet.se/kalender/viskvall-duo-reimer/
LOCATION:Hökis Visrum\, Hökarängsplan 3\, Farsta\, Stockholm\, Sweden
CATEGORIES:Kultur,Musik
ATTACH;FMTTYPE=image/jpeg:https://farstabladet.se/wp-content/uploads/2025/08/DUO.jpg
ORGANIZER;CN="H%C3%B6kis Visrum":MAILTO:info@hokisvisrum.se
END:VEVENT
BEGIN:VEVENT
DTSTART;TZID=Europe/Paris:20251113T180000
DTEND;TZID=Europe/Paris:20251113T180000
DTSTAMP:20260420T151131
CREATED:20250804T102745Z
LAST-MODIFIED:20251009T120640Z
UID:10004258-1763056800-1763056800@farstabladet.se
SUMMARY:Viskväll - Kenneth Weissglas Frejd
DESCRIPTION:Kenneth Weissglas Frejd är musiker\, vissångare och folkbildare med en diplomexamen i klassisk gitarr från Musikhögskolan i Malmö. Han kombinerar raffinerade gitarrarrangemang med tematiserade visprogram\, där presentationen är minst lika viktig som visorna själva. \nVi serverar fika i pausen för 40:-\nVi öppnar kl 18.00 – kom och se vår fina Cornelisutställning! \nHjärtligt välkomna. Biljetter finns här.
URL:https://farstabladet.se/kalender/viskvall-kenneth-weissglass-frejd/
LOCATION:Hökis Visrum\, Hökarängsplan 3\, Farsta\, Stockholm\, Sweden
CATEGORIES:Kultur,Musik
ATTACH;FMTTYPE=image/jpeg:https://farstabladet.se/wp-content/uploads/2025/08/Weissglas-Frejds-3.jpg
ORGANIZER;CN="H%C3%B6kis Visrum":MAILTO:info@hokisvisrum.se
END:VEVENT
BEGIN:VEVENT
DTSTART;TZID=Europe/Paris:20251106T180000
DTEND;TZID=Europe/Paris:20251106T180000
DTSTAMP:20260420T151131
CREATED:20250804T102001Z
LAST-MODIFIED:20251009T115739Z
UID:10004257-1762452000-1762452000@farstabladet.se
SUMMARY:Viskväll - Maria Lindström
DESCRIPTION:Maria Lindström är en älskad svensk vissångerska\, låtskrivare och kabaréartist\, född 1953 i Stockholm och verksam sedan 1980-talet. Hon har givit ut över tio album\, tolkningar av Bellman\, Taube och Sjöberg\, samt egna poetiskt laddade sånger. \nVi serverar fika i pausen för 40:-\nVi öppnar kl 18.00 – kom och se vår fina Cornelisutställning! \nHjärtligt välkomna. Biljetter finns här.
URL:https://farstabladet.se/kalender/viskvall-maria-lindstrom/
LOCATION:Hökis Visrum\, Hökarängsplan 3\, Farsta\, Stockholm\, Sweden
CATEGORIES:Kultur,Musik
ATTACH;FMTTYPE=image/jpeg:https://farstabladet.se/wp-content/uploads/2025/08/Maria.jpg
ORGANIZER;CN="H%C3%B6kis Visrum":MAILTO:info@hokisvisrum.se
END:VEVENT
BEGIN:VEVENT
DTSTART;TZID=Europe/Paris:20251030T180000
DTEND;TZID=Europe/Paris:20251030T180000
DTSTAMP:20260420T151131
CREATED:20250804T093031Z
LAST-MODIFIED:20251009T115613Z
UID:10004256-1761847200-1761847200@farstabladet.se
SUMMARY:Viskväll - Billey och Puch Cornelisquiss
DESCRIPTION:Billey Shamrock är en mångsidig vissångare\, textförfattare och scenartist med rötter i både rock och vistradition. Han har skrivit över 140 låtar\, medverkat i musikaler som Jesus Christ Superstar och tolkar gärna Dan Andersson och samtidens stora frågor med humor och allvar. Billey är känd för sin karisma\, sitt direkta tilltal – och sitt hjärta för berättande visor. Puch (Magnus Olsson) är en varm scenpersonlighet som kombinerar vispoesi med egna texter och folkliga tolkningar. Han har en naturlig känsla för publikkontakt och har gjort sig ett namn både solo och som del av visgruppen Vandringsmän. Tillsammans med Billey Shamrock bjuder han på musikalisk närvaro\, äkthet och ett stänk av skratt. \nVi serverar fika i pausen för 40:-\nVi öppnar kl 18.00 – kom och se vår fina Cornelisutställning! \nHjärtligt välkomna. Biljetter finns här.
URL:https://farstabladet.se/kalender/viskvall-billey-och-puch-cornelisquiss/
LOCATION:Hökis Visrum\, Hökarängsplan 3\, Farsta\, Stockholm\, Sweden
CATEGORIES:Kultur,Musik
ATTACH;FMTTYPE=image/jpeg:https://farstabladet.se/wp-content/uploads/2025/08/Billey.jpg
ORGANIZER;CN="H%C3%B6kis Visrum":MAILTO:info@hokisvisrum.se
END:VEVENT
END:VCALENDAR