BEGIN:VCALENDAR
VERSION:2.0
PRODID:-//Farsta-Kalendern - ECPv6.15.20//NONSGML v1.0//EN
CALSCALE:GREGORIAN
METHOD:PUBLISH
X-ORIGINAL-URL:https://farstabladet.se
X-WR-CALDESC:Händelser för Farsta-Kalendern
REFRESH-INTERVAL;VALUE=DURATION:PT1H
X-Robots-Tag:noindex
X-PUBLISHED-TTL:PT1H
BEGIN:VTIMEZONE
TZID:Europe/Paris
BEGIN:DAYLIGHT
TZOFFSETFROM:+0100
TZOFFSETTO:+0200
TZNAME:CEST
DTSTART:20240331T010000
END:DAYLIGHT
BEGIN:STANDARD
TZOFFSETFROM:+0200
TZOFFSETTO:+0100
TZNAME:CET
DTSTART:20241027T010000
END:STANDARD
BEGIN:DAYLIGHT
TZOFFSETFROM:+0100
TZOFFSETTO:+0200
TZNAME:CEST
DTSTART:20250330T010000
END:DAYLIGHT
BEGIN:STANDARD
TZOFFSETFROM:+0200
TZOFFSETTO:+0100
TZNAME:CET
DTSTART:20251026T010000
END:STANDARD
BEGIN:DAYLIGHT
TZOFFSETFROM:+0100
TZOFFSETTO:+0200
TZNAME:CEST
DTSTART:20260329T010000
END:DAYLIGHT
BEGIN:STANDARD
TZOFFSETFROM:+0200
TZOFFSETTO:+0100
TZNAME:CET
DTSTART:20261025T010000
END:STANDARD
END:VTIMEZONE
BEGIN:VEVENT
DTSTART;TZID=Europe/Paris:20251115T150000
DTEND;TZID=Europe/Paris:20251115T170000
DTSTAMP:20260420T151644
CREATED:20251111T052559Z
LAST-MODIFIED:20251111T052749Z
UID:10005938-1763218800-1763226000@farstabladet.se
SUMMARY:Vardagen blir dans med seniorer från Farsta och BE company
DESCRIPTION:DANCE MINIATURE\n\nBoka gratisbiljett på Eventbrite: https://tinyurl.com/becompany\n\nKoreograferna Greta Grinevičiūtė och Agnietė Lisičkinaitė bjuder in publiken på en ovanlig resa där dansens gränser upplöses och det vi uppfattar som vanliga\, vardagliga rörelser blir en form av konstnärligt uttryck. Med inspiration från seniorers dagliga upplevelser och personliga berättelser försöker de visa varje liv som en berättelse fylld av dolda koreografiska möjligheter. Här blir varje gest en dans som ofta går obemärkt förbi. I denna dansminiatyr strävar koreograferna efter att sudda ut gränsen mellan ”dem” och ”oss” – mellan professionella och vanliga människor\, mellan äldre som ofta hamnar i samhällets utkant och dess mer ”aktiva” medlemmar. På så sätt bjuds publiken in i ett nytt perceptionsutrymme\, där dansen överskrider det konstnärliga uttrycket och blir en universell upplevelse av mänsklig samhörighet – ett nytt sätt att dansa livets vals tillsammans.\n\nKoreografer och dansare: Agnietė Lisičkinaitė och Greta Grinevičiūtė\nDansare: Anna Christie\, Ruth Hägerbrand\, Karin Jämtin\, Mari-Louise Lorentzson\nKompositör: Dominykas Digimas\nDramaturg: Sigita Ivaškaitė\nKostymör: Rūta Kyguolytė\n\nProducerad av: Be company och SITE Med stöd av Nordisk kulturkontakt\n\nOm Be Company: Be Company grundades 2019 av två socialt aktiva och engagerade danskonstnärer – Agnietė och Greta – som inte är rädda för att stå upp för minoriteter\, sina övertygelser och frihet. Deras konstnärliga mission är att skapa en meningsfull dialog mellan scenkonst och socialt engagemang\, samtidigt som de utvidgar gränserna för mångfald och självuttryck i Litauen. Av denna anledning sträcker sig deras kreativa arbete ofta till sociokulturella projekt i samarbete med HBTQ-samhället\, etniska minoriteter och olika åldersgrupper. I deras verk närmar sig verkligheten ofta det fantastiska\, vilket uppnås genom en synergi mellan olika medier.\n\n\nBild: Ilme Vysniauskaite\, New Baltic Dance Festival 2025
URL:https://farstabladet.se/kalender/vardagen-blir-dans-med-seniorer-fran-farsta-och-be-company/
LOCATION:SITE Telestaden\, Mårbackagatan 5C\, hus H\, Farsta\, 12343
CATEGORIES:Äldre,Dans,Senior/äldre
ATTACH;FMTTYPE=image/jpeg:https://farstabladet.se/wp-content/uploads/2025/11/DSC02611.jpeg
ORGANIZER;CN="SITE Sweden":MAILTO:emelie@sitesweden.se
END:VEVENT
END:VCALENDAR