BEGIN:VCALENDAR
VERSION:2.0
PRODID:-//Farsta-Kalendern - ECPv6.15.20//NONSGML v1.0//EN
CALSCALE:GREGORIAN
METHOD:PUBLISH
X-WR-CALNAME:Farsta-Kalendern
X-ORIGINAL-URL:https://farstabladet.se
X-WR-CALDESC:Händelser för Farsta-Kalendern
REFRESH-INTERVAL;VALUE=DURATION:PT1H
X-Robots-Tag:noindex
X-PUBLISHED-TTL:PT1H
BEGIN:VTIMEZONE
TZID:Europe/Paris
BEGIN:DAYLIGHT
TZOFFSETFROM:+0100
TZOFFSETTO:+0200
TZNAME:CEST
DTSTART:20250330T010000
END:DAYLIGHT
BEGIN:STANDARD
TZOFFSETFROM:+0200
TZOFFSETTO:+0100
TZNAME:CET
DTSTART:20251026T010000
END:STANDARD
BEGIN:DAYLIGHT
TZOFFSETFROM:+0100
TZOFFSETTO:+0200
TZNAME:CEST
DTSTART:20260329T010000
END:DAYLIGHT
BEGIN:STANDARD
TZOFFSETFROM:+0200
TZOFFSETTO:+0100
TZNAME:CET
DTSTART:20261025T010000
END:STANDARD
BEGIN:DAYLIGHT
TZOFFSETFROM:+0100
TZOFFSETTO:+0200
TZNAME:CEST
DTSTART:20270328T010000
END:DAYLIGHT
BEGIN:STANDARD
TZOFFSETFROM:+0200
TZOFFSETTO:+0100
TZNAME:CET
DTSTART:20271031T010000
END:STANDARD
END:VTIMEZONE
BEGIN:VEVENT
DTSTART;TZID=Europe/Paris:20260430T200000
DTEND;TZID=Europe/Paris:20260430T200000
DTSTAMP:20260422T063956
CREATED:20260421T131125Z
LAST-MODIFIED:20260421T131125Z
UID:10007392-1777579200-1777579200@farstabladet.se
SUMMARY:Valborg i Skönstaholm
DESCRIPTION:Skönstaholm\, på ängen \nNär: Från klockan 20 \nDet händer: Fackeltåg\, musik och fika/korvförsäljning. Brasan tänds klockan 20.30. \nArrangör: Grannskapsklubben Skönstaholm.
URL:https://farstabladet.se/kalender/valborg-i-skonstaholm/
LOCATION:Skönstastaholm\, ängen\, Skönstaholmsvägen 84
CATEGORIES:Stadsdelsdagar
ATTACH;FMTTYPE=image/jpeg:https://farstabladet.se/wp-content/uploads/2026/04/Valborg-Skonstaholm.jpg
ORGANIZER;CN="Sk%C3%B6ndals land- och sj%C3%B6scoutk%C3%A5r":MAILTO:info@slsk.se
END:VEVENT
END:VCALENDAR