BEGIN:VCALENDAR
VERSION:2.0
PRODID:-//Farsta-Kalendern - ECPv6.15.20//NONSGML v1.0//EN
CALSCALE:GREGORIAN
METHOD:PUBLISH
X-WR-CALNAME:Farsta-Kalendern
X-ORIGINAL-URL:https://farstabladet.se
X-WR-CALDESC:Händelser för Farsta-Kalendern
REFRESH-INTERVAL;VALUE=DURATION:PT1H
X-Robots-Tag:noindex
X-PUBLISHED-TTL:PT1H
BEGIN:VTIMEZONE
TZID:Europe/Paris
BEGIN:DAYLIGHT
TZOFFSETFROM:+0100
TZOFFSETTO:+0200
TZNAME:CEST
DTSTART:20250330T010000
END:DAYLIGHT
BEGIN:STANDARD
TZOFFSETFROM:+0200
TZOFFSETTO:+0100
TZNAME:CET
DTSTART:20251026T010000
END:STANDARD
BEGIN:DAYLIGHT
TZOFFSETFROM:+0100
TZOFFSETTO:+0200
TZNAME:CEST
DTSTART:20260329T010000
END:DAYLIGHT
BEGIN:STANDARD
TZOFFSETFROM:+0200
TZOFFSETTO:+0100
TZNAME:CET
DTSTART:20261025T010000
END:STANDARD
BEGIN:DAYLIGHT
TZOFFSETFROM:+0100
TZOFFSETTO:+0200
TZNAME:CEST
DTSTART:20270328T010000
END:DAYLIGHT
BEGIN:STANDARD
TZOFFSETFROM:+0200
TZOFFSETTO:+0100
TZNAME:CET
DTSTART:20271031T010000
END:STANDARD
END:VTIMEZONE
BEGIN:VEVENT
DTSTART;TZID=Europe/Paris:20260321T100000
DTEND;TZID=Europe/Paris:20260321T140000
DTSTAMP:20260422T052558
CREATED:20260306T144418Z
LAST-MODIFIED:20260306T144418Z
UID:10006862-1774087200-1774101600@farstabladet.se
SUMMARY:Vårloppis
DESCRIPTION:Vårens loppis – Tallkrogens klädbyte\n📅 Datum: 21 mars\, kl. 10-14\n📍 Plats: Tallkrogens skola\n(Exakt datum och tid saknas i texten – lägg gärna till om du vill) \nOm loppisen\nVälkommen på vårens loppis! Här hittar du ett stort utbud av barnkläder i storlek 50–170\, leksaker\, skor\, sportartiklar och babygrejer. Perfekt för att uppdatera garderoben och samtidigt handla hållbart. \nPraktisk information\n\nBetalning: Endast Swish\nBarnvagnar: Tyvärr inte tillåtna inne i lokalerna\n\nArrangör\nEvenemang av Tallkrogens klädbyte
URL:https://farstabladet.se/kalender/varloppis/
LOCATION:Tallkrogens skola\, Torögatan 59–65\, Tallkrogen
CATEGORIES:Loppis
ATTACH;FMTTYPE=image/jpeg:https://farstabladet.se/wp-content/uploads/2026/03/Loppis-Tallkrogens-kladbyte-2.jpg
END:VEVENT
END:VCALENDAR